BEGIN:VCALENDAR
VERSION:2.0
PRODID:-//OFPG - ECPv6.15.20//NONSGML v1.0//EN
CALSCALE:GREGORIAN
METHOD:PUBLISH
X-ORIGINAL-URL:https://ofpg.ch
X-WR-CALDESC:Veranstaltungen für OFPG
REFRESH-INTERVAL;VALUE=DURATION:PT1H
X-Robots-Tag:noindex
X-PUBLISHED-TTL:PT1H
BEGIN:VTIMEZONE
TZID:Europe/Zurich
BEGIN:DAYLIGHT
TZOFFSETFROM:+0100
TZOFFSETTO:+0200
TZNAME:CEST
DTSTART:20210328T010000
END:DAYLIGHT
BEGIN:STANDARD
TZOFFSETFROM:+0200
TZOFFSETTO:+0100
TZNAME:CET
DTSTART:20211031T010000
END:STANDARD
BEGIN:DAYLIGHT
TZOFFSETFROM:+0100
TZOFFSETTO:+0200
TZNAME:CEST
DTSTART:20220327T010000
END:DAYLIGHT
BEGIN:STANDARD
TZOFFSETFROM:+0200
TZOFFSETTO:+0100
TZNAME:CET
DTSTART:20221030T010000
END:STANDARD
BEGIN:DAYLIGHT
TZOFFSETFROM:+0100
TZOFFSETTO:+0200
TZNAME:CEST
DTSTART:20230326T010000
END:DAYLIGHT
BEGIN:STANDARD
TZOFFSETFROM:+0200
TZOFFSETTO:+0100
TZNAME:CET
DTSTART:20231029T010000
END:STANDARD
END:VTIMEZONE
BEGIN:VEVENT
DTSTART;TZID=Europe/Zurich:20220209T143000
DTEND;TZID=Europe/Zurich:20220209T163000
DTSTAMP:20260426T043139
CREATED:20220120T124531Z
LAST-MODIFIED:20220120T125032Z
UID:10000776-1644417000-1644424200@ofpg.ch
SUMMARY:Onko Café
DESCRIPTION:Treffpunkt für Menschen mit einer Krebserkrankung und ihren Angehörigen im Sarganserland-Werdenberg\nDas Onko Café ist ein Ort\, an dem sich Menschen mit einer Krebserkrankung und ihre Angehörigen treffen und gemeinsam Zeit verbringen.\nEs besteht die Möglichkeit\, sich an Fachvorträgen über ausgewählte Themen zu informieren\, sich mit anderen Betroffenen auszutauschen und auch an einer gemeinsamen Aktivität teilzunehmen. \nAnmeldung\nEine Anmeldung ist erwünscht. \nInitianten\nEin Angebot der Frauen-Arbeitsgemeinschaft Sarganserland (FAGS)\, dem Psychiatrie-Zentrum Werdenberg-Sarganserland und der Krebsliga Ostschweiz. \nKontakt / Anmeldung\nFrauen-Arbeitsgemeinschaft Sarganserland\, Telefon 079 430 45 17\, info@fags.ch\, www.fags.ch \nKosten\nDas Onko Café ist kostenlos und offen für alle Interessierten. Konsumationen auf eigene Kosten. \nFlyer und Programm
URL:https://ofpg.ch/veranstaltung/onko-cafe-5
LOCATION:Hotel Post\, Bahnhofstrasse 1\, Sargans\, 7320\, Schweiz
CATEGORIES:Veranstaltungen
ORGANIZER;CN="Psychiatrie-Dienst S%C3%BCd":MAILTO:thomas.lampert@psych.ch
END:VEVENT
BEGIN:VEVENT
DTSTART;TZID=Europe/Zurich:20220215T143000
DTEND;TZID=Europe/Zurich:20220215T170000
DTSTAMP:20260426T043139
CREATED:20220120T130838Z
LAST-MODIFIED:20220120T132330Z
UID:10000777-1644935400-1644944400@ofpg.ch
SUMMARY:Café TrotzDem Sarganserland
DESCRIPTION:Das Café TrotzDem ist ein Ort\, an dem sich Menschen mit Demenz und ihre Angehörigen treffen und gemeinsam einen geselligen Nachmittag in entspannter Atmosphäre verbringen können. Es besteht die Möglichkeit\, sich über ausgewählte Themen zu informieren\, sich mit anderen Betroffenen auszutauschen und in Kontakt zu kommen. \nLeitung vor Ort\nVertreterinnen und Vertreter der Angehörigengruppe Vilters\, der Frauen-Arbeitsgemeinschaft Sarganserland (FAGS) der Pro Senectute und des Psychiatrie-Zentrums Werdenberg-Sarganserland. \nAnmeldung\nEs ist keine Anmeldung erforderlich.  \nKosten\nDie Teilnahme ist kostenlos. Konsumationen auf eigene Kosten. \nKontakt Café-TrotzDem\nFrauen-Arbeitsgemeinschaft Sarganserland\, Tel 079 430 45 17 \n 
URL:https://ofpg.ch/veranstaltung/cafe-trotzdem-sarganserland
LOCATION:Restaurant Kiesfang\, Aeulistrasse 8\, Vilters\, 7324\, Schweiz
CATEGORIES:Veranstaltungen
ORGANIZER;CN="Psychiatrie-Dienst S%C3%BCd":MAILTO:thomas.lampert@psych.ch
END:VEVENT
BEGIN:VEVENT
DTSTART;TZID=Europe/Zurich:20220216T130000
DTEND;TZID=Europe/Zurich:20220216T163000
DTSTAMP:20260426T043139
CREATED:20211118T105451Z
LAST-MODIFIED:20211118T105451Z
UID:10000752-1645016400-1645029000@ofpg.ch
SUMMARY:Kurs Recovery College: Achtsamkeit und Selbstfürsorge
DESCRIPTION:Das Leben erleben\, von Augenblick zu Augenblick!\nAchtsamkeit wird oft mit Aufmerksamkeit\, Aufpassen verbunden. Jon Kabat-Zinn beschreibt das Wort Achtsamkeit mit einer bestimmten Art und Weise\, absichtsvoll im Moment aufmerksam zu sein. Dies ermöglicht uns\, Körperempfindungen\, Gedanken\, Gefühle und andere Wahrnehmungen\, ohne zu bewerten\, so zu empfinden und zu erleben\, wie sie sind. \nDie Achtsamkeit auf den Moment beschäftigt sich mit den gesunden Anteilen in uns selbst. Sie kann unsere persönlichen Ressourcen stärken und fördern. Im Kurs werden einige Kernmeditationen der Achtsamkeit in Anlehnung an den MBSR Kurs nach Jon Kabat-Zinn ein Einblick in die Achtsamkeits- und Stresstheorie vermittelt. \nAufbau und Module\nDrei aufeinander aufbauende Module jeweils mittwochs (13.00 bis 16.30 Uhr)\, maximal 12 Teilnehmende: \n\nModul 1: 16.02.2022\nModul 2: 23.02.2022\nModul 3: 02.03.2022\n\nKurs für: \n\nBetroffene mit einer psychischen Erkrankung und ihre Angehörigen\nFachpersonen aus Gesundheits- und Sozialberufen\nInteressierte Öffentlichkeit\n\nModeratorinnen und Moderatoren \n\nAntonia Hansemann\, Pflegefachfrau und MBSR Lehrerin\, Klinik St.Pirminsberg\nMichel Sutter\, Peer-Mitarbeiter und Experte aus Erfahrung\, Klinik St.Pirminsberg\n\nKosten\nDer Kurs soll allen zugänglich sein. Die Höhe der Kurskosten richtet sich an den finanziellen Möglichkeiten der Teilnehmenden aus. \n\nCHF 10 (Basic): Personen mit wenig Geld (beispielsweise Studierende\, Sozialhilfebeziehende)\nCHF 50 (Regular): für Privatpersonen in eigenem Interesse\nCHF 200 (Pro): für Fachpersonen\, die den Kurs als berufliche Weiterbildung besuchen\n\nAnmeldung\nZum Anmeldeformular (psych.ch) \nAnmeldeschluss\n11.Februar 2022
URL:https://ofpg.ch/veranstaltung/kurs-recovery-college-achtsamkeit-und-selbstfuersorge
LOCATION:Psychiatrie-Zentrum Werdenberg-Sarganserland\, Hauptstrasse 27\, Trübbach\, St. Gallen\, 9477\, Schweiz
CATEGORIES:Kurse
ORGANIZER;CN="Psychiatrie-Dienst S%C3%BCd":MAILTO:thomas.lampert@psych.ch
GEO:47.0736865;9.4812788
X-APPLE-STRUCTURED-LOCATION;VALUE=URI;X-ADDRESS=Psychiatrie-Zentrum Werdenberg-Sarganserland Hauptstrasse 27 Trübbach St. Gallen 9477 Schweiz;X-APPLE-RADIUS=500;X-TITLE=Hauptstrasse 27:geo:9.4812788,47.0736865
END:VEVENT
BEGIN:VEVENT
DTSTART;TZID=Europe/Zurich:20220219T110000
DTEND;TZID=Europe/Zurich:20220219T130000
DTSTAMP:20260426T043139
CREATED:20220207T102547Z
LAST-MODIFIED:20220207T102644Z
UID:10000788-1645268400-1645275600@ofpg.ch
SUMMARY:Film und Podium: "Einsamkeit hat viele Gesichter"
DESCRIPTION:Filmvorführung mit Podiumsgespräch \nEinsamkeit betrifft viele Menschen. Gemeinsam darüber zu reden\, ist wichtig\, denn das kann Einsamkeit vorbeugen und Betroffenen helfen\, eigene Wege aus der Einsamkeit zu finden. Im Zentrum des Dokumentarfilms stehen sieben Menschen\, die einen Einblick in ihr Leben geben und erzählen\, wie sich Einsamkeit für sie anfühlt und wie sie damit umgehen. \nOrt:\nKinoK – Cinema in der Lokremise\, Grünenbergstrasse 7\, 9000 St. Gallen \nKosten:\nDie Vorführung ist kostenlos. \nAnmeldung:\nEs ist keine Anmeldung erforderlich. \nFlyer \n 
URL:https://ofpg.ch/veranstaltung/film-und-podium-einsamkeit-hat-viele-gesichter
LOCATION:KinoK\, Grünbergstrasse 7\, St. Gallen\, St. Gallen\, 9000\, Schweiz
CATEGORIES:Veranstaltungen
END:VEVENT
BEGIN:VEVENT
DTSTART;TZID=Europe/Zurich:20220221T140000
DTEND;TZID=Europe/Zurich:20220221T170000
DTSTAMP:20260426T043139
CREATED:20220103T111323Z
LAST-MODIFIED:20220120T140947Z
UID:10000775-1645452000-1645462800@ofpg.ch
SUMMARY:Demenz - Café Mauren Februar 2022
DESCRIPTION:Das Nachmittags-Café – ein Café für alle! \nDas Nachmittags-Café richtet sich in erster Linie an Angehörige von Menschen mit Demenz. Sie sollen hier einen Ort finden\, an dem sie die von Demenz betroffene Person mitnehmen und gemeinsam einen möglichst erholsamen Nachmittag verbringen können.\nBetroffen von dieser Krankheit zu sein\, macht das Leben schwer und anstrengend. Dieses Café ermöglicht Ihnen eine unbeschwerte Zeit zu erleben – und sei dies nur für eine Stunde. Es sind zudem alle herzlich willkommen; auch Enkelkinder\, Interessierte\, usw.\nEinen Kaffee trinken\, ein Stück Kuchen essen\, in einem Buch stöbern\, ein interessantes Gespräch führen\, an einer angebotenen Aktivität teilnehmen\, Musik lauschen oder einfach nur sein. Sie entscheiden\, was Ihnen im Moment guttut. Es soll für alle möglichst unkompliziert sein. Späteres Kommen\, früheres Gehen – alles ist möglich. \nZwei Fachpersonen sind vor Ort und beraten gerne\, falls dies erwünscht ist. Wir freuen uns auf Sie! \nLeitung: \n\nBeatrice Derungs\, Sozialbegleiterin\nMatthias Brüstle\, Psychologe\,  Demenz Liechtenstein\n\nOrt:\nKulturhaus Rössle\, Peter- und Paul-Strasse 43\, Mauren (ausgeschildert) \nFlyer:\nHier \nVoranmeldung und Information:\nBeatrice Derungs\, Tel. 00423 / 782 55 63 oder oder sozialbegleitung@fl1.li\nEine spontane Teilnahme ist selbstverständlich auch möglich. \nDas «Demenz-Café» ist eine Kooperationsveranstaltung von Haus Gutenberg und Demenz Liechtenstein.
URL:https://ofpg.ch/veranstaltung/demenz-cafe-mauren-februar-2022-2
LOCATION:Kulturhaus Rössle Mauren\, Peter- und Paul-Strasse 43\, Mauren\, 9493\, Fürstentum Liechtenstein
CATEGORIES:Veranstaltungen
ORGANIZER;CN="Demenz Liechtenstein":MAILTO:kontakt@demenz.li
END:VEVENT
BEGIN:VEVENT
DTSTART;TZID=Europe/Zurich:20220224T183000
DTEND;TZID=Europe/Zurich:20220224T200000
DTSTAMP:20260426T043139
CREATED:20211122T132520Z
LAST-MODIFIED:20211122T134940Z
UID:10000753-1645727400-1645732800@ofpg.ch
SUMMARY:Infoveranstaltung: Recovery College
DESCRIPTION:Inhalt\nTeilnehmende erhalten einen kurzen\, aber detaillierten Einblick zum Recovery College und erfahren mehr über: \n\nEntstehung\, Hintergründe\, Aufbau des Colleges\nKurse\, Struktur und Inhalte\nNutzen\, Vorteile für Teilnehmende\nDozierende (Moderatorinnen und Moderatoren)\nAdministration\, Organisation (Corona)\, Kostenstruktur\n\nGerne beantworten wir persönliche Fragen (beispielsweise welches ist der richtige Kurs\, der Sie einen Schritt näher an Ihr Ziel bringt). \nReferenten \n\nThomas Lampert\, Koordinator Prävention und Angehörigenarbeit\, Projektleiter Recovery College\nRenata Bleichenbacher\, Peer-Dozentin\, Primarlehrerin\, Erwachsenenbildnerin SVEB\, Projektleiterin Recovery College\n\nVeranstaltung für: \n\nBetroffene mit einer psychischen Erkrankung und ihre Angehörigen\nFachpersonen aus Gesundheits- und Sozialberufen\nInteressierte Öffentlichkeit\n\nKosten\nDie Veranstaltung ist kostenfrei. \nAnmeldung\nZum Anmeldeformular (psych.ch). \nAnmeldeschluss\n21.02.2022 \n  \n 
URL:https://ofpg.ch/veranstaltung/infoveranstaltung-recovery-college
LOCATION:Psychiatrie-Zentrum Werdenberg-Sarganserland\, Hauptstrasse 27\, Trübbach\, St. Gallen\, 9477\, Schweiz
CATEGORIES:Veranstaltungen
ORGANIZER;CN="Psychiatrie-Dienst S%C3%BCd":MAILTO:thomas.lampert@psych.ch
GEO:47.0736865;9.4812788
X-APPLE-STRUCTURED-LOCATION;VALUE=URI;X-ADDRESS=Psychiatrie-Zentrum Werdenberg-Sarganserland Hauptstrasse 27 Trübbach St. Gallen 9477 Schweiz;X-APPLE-RADIUS=500;X-TITLE=Hauptstrasse 27:geo:9.4812788,47.0736865
END:VEVENT
END:VCALENDAR