BEGIN:VCALENDAR
VERSION:2.0
PRODID:-//OFPG - ECPv6.15.20//NONSGML v1.0//EN
CALSCALE:GREGORIAN
METHOD:PUBLISH
X-WR-CALNAME:OFPG
X-ORIGINAL-URL:https://ofpg.ch
X-WR-CALDESC:Veranstaltungen für OFPG
REFRESH-INTERVAL;VALUE=DURATION:PT1H
X-Robots-Tag:noindex
X-PUBLISHED-TTL:PT1H
BEGIN:VTIMEZONE
TZID:Europe/Zurich
BEGIN:DAYLIGHT
TZOFFSETFROM:+0100
TZOFFSETTO:+0200
TZNAME:CEST
DTSTART:20210328T010000
END:DAYLIGHT
BEGIN:STANDARD
TZOFFSETFROM:+0200
TZOFFSETTO:+0100
TZNAME:CET
DTSTART:20211031T010000
END:STANDARD
BEGIN:DAYLIGHT
TZOFFSETFROM:+0100
TZOFFSETTO:+0200
TZNAME:CEST
DTSTART:20220327T010000
END:DAYLIGHT
BEGIN:STANDARD
TZOFFSETFROM:+0200
TZOFFSETTO:+0100
TZNAME:CET
DTSTART:20221030T010000
END:STANDARD
BEGIN:DAYLIGHT
TZOFFSETFROM:+0100
TZOFFSETTO:+0200
TZNAME:CEST
DTSTART:20230326T010000
END:DAYLIGHT
BEGIN:STANDARD
TZOFFSETFROM:+0200
TZOFFSETTO:+0100
TZNAME:CET
DTSTART:20231029T010000
END:STANDARD
END:VTIMEZONE
BEGIN:VEVENT
DTSTART;TZID=Europe/Zurich:20220504T180000
DTEND;TZID=Europe/Zurich:20220504T200000
DTSTAMP:20260425T230441
CREATED:20211122T142959Z
LAST-MODIFIED:20211122T142959Z
UID:10000756-1651687200-1651694400@ofpg.ch
SUMMARY:Kurs Recovery College: Anfängergeist in der Bewegung
DESCRIPTION:Inhalt\nDer Kurs bietet eine spielerische Interaktion in die Welt des Anfängergeistes. Im Zentrum stehen das körperliche und mentale Sich-selbst-Erleben\, Achtsamkeit und Selbstreflexion. Es geht um die Herausforderung das Neue anzugehen\, der wir uns in der Praxis stellen werden. Themen wie Selbstwert (Selbstakzeptanz\, Selbstvertrauen)\, Selbstwirksamkeit\, Umgang mit Gefühlen\, soziale Kompetenzen und Flow werden uns begleiten. \nDas Erlebnis steht im Vordergrund. Es darf geschwitzt werden\, muss aber nicht. Einige haben zu Beginn Skepsis und Hemmungen vor Interaktion und spielerischem Explorieren. Das legt sich erfahrungsgemäss jedoch rasch. Das voneinander Lernen\, das eigene Tun zu reflektieren und die Kraft der Gruppe als Unterstützung zu erleben\, sind wichtige Elemente. \nZitat von Shunryu Suzuki\n«Der Geist des Anfängers ist leer\, frei von den Gewohnheiten des „Experten“\, bereit anzunehmen\, zu zweifeln und allen Möglichkeiten gegenüber offen. Es ist die Art von Geist\, der die Dinge sehen kann\, wie sie sind\, die Schritt für Schritt und mit einem Schlag die ursprüngliche Natur aller Dinge zu erkennen vermag.» \nAufbau und Module\nDrei aufeinander aufbauende Module jeweils mittwochs (18.00 bis 20.00 Uhr)\, maximal 16 Teilnehmende: \n\n04.05.2022\, Modul 1: WIR – Gruppeninteraktionen (Kognitive Spiele\, Reaktion\, Kooperation\, Tanz mit Stäben und Smoveys)\n11.05. 2022\, Modul 2: DU – Partnerübungen (Konzepte: Fighting-Monkey\, Playfight)\n18.05.2022\, Modul 3: ICH – Jonglage\, Yoga\, Achtsamkeit\n\nKurs für \n\nBetroffene mit einer psychischen Erkrankung und ihre Angehörigen\nFachpersonen aus Gesundheits- und Sozialberufen\nInteressierte Öffentlichkeit\n\nModeratoren \n\nErich Roffler\, Bewegungstherapeut\, MSc ETH Bewegungswissenschaften\, Klinik St.Pirminsberg\nMichel Sutter\, Peer-Mitarbeiter und Experte aus Erfahrung\, Klinik St.Pirminsberg\n\nKosten\nDer Kurs soll allen zugänglich sein. Die Höhe der Kurskosten richtet sich an den finanziellen Möglichkeiten der Teilnehmenden aus: \n\nCHF 10 (Basic): Personen mit wenig Geld (beispielsweise Studierende\, Sozialhilfebeziehende)\nCHF 30 (Regular): für Privatpersonen in eigenem Interesse\nCHF 150 (Pro): für Fachpersonen\, die den Kurs als berufliche Weiterbildung besuchen\n\nAnmeldung\nZum Anmeldeformular (psych.ch) \nAnmeldeschluss\n29.04.2022
URL:https://ofpg.ch/veranstaltung/kurs-recovery-college-anfaengergeist-in-der-bewegung
LOCATION:Psychiatrie-Zentrum Werdenberg-Sarganserland\, Hauptstrasse 27\, Trübbach\, St. Gallen\, 9477\, Schweiz
CATEGORIES:Kurse
ORGANIZER;CN="Psychiatrie-Dienst S%C3%BCd":MAILTO:thomas.lampert@psych.ch
GEO:47.0736865;9.4812788
X-APPLE-STRUCTURED-LOCATION;VALUE=URI;X-ADDRESS=Psychiatrie-Zentrum Werdenberg-Sarganserland Hauptstrasse 27 Trübbach St. Gallen 9477 Schweiz;X-APPLE-RADIUS=500;X-TITLE=Hauptstrasse 27:geo:9.4812788,47.0736865
END:VEVENT
BEGIN:VEVENT
DTSTART;TZID=Europe/Zurich:20220506T143000
DTEND;TZID=Europe/Zurich:20220506T170000
DTSTAMP:20260425T230441
CREATED:20220315T064157Z
LAST-MODIFIED:20220315T064921Z
UID:10000805-1651847400-1651856400@ofpg.ch
SUMMARY:Café TrotzDem Wil
DESCRIPTION:Auch im 2022 können sich Menschen mit Demenz wie auch deren Angehörige einmal monatlich im Kafi Peter in Wil treffen\, informieren und austauschen. Das Netzwerk Demenz Wil verfolgt mit diesen Treffen das Ziel\, der Isolation von Menschen mit Demenz und ihren Angehörigen entgegen zu wirken. Jedes Treffen steht unter einem Motto und wird von Fachpersonen begleitet. \nDie Idee des Café TrotzDem Wil lehnt sich an das Konzept Alzheimer Café der schweizerischen Alzheimervereinigung aus dem Jahr 2011 an. Menschen mit Demenz und ihre Angehörigen erhalten die Gelegenheit\, sich im öffentlichen Raum\, in informeller und entspannter Atmosphäre zu begegnen. \nImmer am ersten Freitag des Monats\nDas Café TrotzDem Wil findet immer am ersten Freitagnachmittag des Monats statt\, von 14.30 bis 17.00 Uhr. Im Zentrum stehen jeweils ausgewählte Informationen zum Thema Demenz – von der Bewältigung des Alltags über rechtliche Belange bis hin zu Singen und Musik. Jedes Treffen ist begleitet von Fachpersonen\, die für Fragen da sind wie auch Info-Material zu Demenz\, Entlastungsangeboten\, lokalen Anbietern und Veranstaltungen bereithalten. \nDaten 2022\n4. Februar\, 4. März\, 1. April\, 6. Mai\, 3. Juni\, 1. Juli\, 2. September\, 7. Oktober\, 4. November\, 2. Dezember \nThemenschwerpunkte\nUm ca. 15.00 Uhr wird jeweils ein besonderes Thema behandelt.\nLink zu den Themenschwerpunkte 2022 \nNiederschwellig und kostenlos\nDas Café TrotzDem Wil versteht sich als kostenloses und niederschwelliges Angebot. Die Teilnehmenden gehen keinerlei Verpflichtungen ein. Sie müssen sich nicht anmelden und entscheiden selbst\, wie lange sie bleiben und ob sie am jeweiligen Programm teilnehmen möchten. Die Konsumation im Peter Kafi erfolgt auf eigene Rechnung. \nIn Agenda notieren\nDas Café TrotzDem Wil findet immer am ersten Freitagnachmittag im Monat statt\, von 14.30 – 17.00 Uhr. \nWeitere Informationen\nAlzheimer St.Gallen-Appenzell AR/AI\, Geschäftsstelle 071 223 10 46 oder Angehörigenberatung der Psychiatrie St.Gallen Nord\, 058 178 13 00\, edith.scherer@psgn.ch \nFlyer Café TrotzDem Wil
URL:https://ofpg.ch/veranstaltung/cafe-trotzdem-wil-2
LOCATION:Peter Kafi\, Pfarreizentrum\, Lerchenfeldstr. 3\, Wil\, 9500\, Schweiz
CATEGORIES:Veranstaltungen
ORGANIZER;CN="Psychiatrie St.Gallen Nord":MAILTO:coeur.veranstaltungen@psgn.ch
END:VEVENT
BEGIN:VEVENT
DTSTART;TZID=Europe/Zurich:20220510T190000
DTEND;TZID=Europe/Zurich:20220510T203000
DTSTAMP:20260425T230441
CREATED:20220215T151802Z
LAST-MODIFIED:20220215T154124Z
UID:10000797-1652209200-1652214600@ofpg.ch
SUMMARY:Veranstaltung: Was Angehörige bewegt ... (2022/5)
DESCRIPTION:Veranstaltungsreihe zur Information und für den Austausch \nEine Demenzerkrankung ist auch für das Umfeld einschneidend. Fünf Abende zu je einem Thema\, das Angehörige bewegt\, bieten Raum für Informationen und wertvollen Austausch. \nDie Reihe vermittelt Grundlagenwissen in jeweils einem kurzen Input zum Thema Demenz und bietet Austauschmöglichkeit in einem geschützten Rahmen zu folgenden Schwerpunkten:\n– Erste Anzeichen von Demenz und Abklärung\n– Übernahme einer innerfamiliären Betreuung\n– Belastung der Partnerschaft bzw. Elternbeziehung\n– Ein möglicher Heimeintritt\n– Der schmale Grat zwischen Fürsorge und Selbstsorge \nInhalt 1. Abend: 8.3.2022 (bereits vergangen)\nMeine Mutter benimmt sich in letzter Zeit sehr eigenartig. Hat sie eine Demenz? Woran erkenne ich eine Demenz und was mache ich bei einer Vermutung? \n2. Abend: 22.3.2022 (bereits vergangen)\nGenerationen-(Miss)Verständnisse in einer Betreuungssituation: Was gilt es zu bedenken und zu besprechen bei der Übernahme eines Betreuungsauftrages? \n3. Abend: 5.4.2022 (bereits vergangen)\nVon der Partnerschaft oder der Elternbeziehung zur Betreuungssituation — Umgang mit der abnehmenden Handlungsfähigkeit \n4. Abend: 26.4.2022 (bereits vergangen)\nIns Heim? Nur über meine Leiche! Trotzdem: Wann kann ein Heimeintritt sinnvoll und nötig sein? \n5. Abend: 10.5.2022\nIch bin so müde und zweifle immer wieder an mir\, ob ich allem gerecht werde. Ist ein Gleichgewicht zwischen Fürsorge und Selbstsorge überhaupt möglich? \nIn einer Demenz-Betreuung gilt es\, immer wieder die verschiedenen Bedürfnisse abzuwägen. Es gibt keine Wunschlösungen mehr\, sondern es gibt eigentlich nur noch schlechte Möglichkeiten und die Angehörigen müssen sich darin bewegen lernen. Das heisst immer wieder\, in den unzähligen Alltagssituationen abwägen\, welches die beste der schlechten Möglichkeiten ist. Wichtigste Leitlinien sind die Möglichkeiten und Kräfte der Angehörigen und das Bewahren der Liebe zu den an Demenz erkrankten Menschen. \nZielgruppe\nAngehörige von Menschen mit einer möglichen oder bereits diagnostizierten Demenz \nSchutz der Teilnehmenden\nDer Ort der Veranstaltungen ist ein geschützter Raum. Alle Beteiligten verpflichten sich zu absoluter Vertraulichkeit. \nReferentin/Moderation\nRegula Birnstiel\, Sozialarbeiterin und Angehörige eines an Demenz erkrankten Ehepartners und einer an Demenz erkrankten Mutter. \nFlyer hier! \nKosten\nCHF 20.- (pro Abend)\, Mitglieder von Demenz Liechtenstein CHF 15.- \nVoranmeldung\nunbedingt erbeten unter Tel. 00423 / 230 34 45 oder Mail\nDie Abende können alle gemeinsam oder je nach Platzangebot auch einzeln gebucht werden. \nEine Kooperationsveranstaltung von Ostschweizer Forum für psychische Gesundheit und Demenz Liechtenstein.
URL:https://ofpg.ch/veranstaltung/veranstaltung-was-angehoerige-bewegt-2022-1-2-2-2
LOCATION:Pfarreisaal St. Laurentius\, Reberastrasse 16\, Schaan FL\, Fürstentum Liechtenstein\, 9494\, Schweiz
CATEGORIES:Veranstaltungen
ORGANIZER;CN="Demenz Liechtenstein":MAILTO:kontakt@demenz.li
GEO:47.1669946;9.5116694
X-APPLE-STRUCTURED-LOCATION;VALUE=URI;X-ADDRESS=Pfarreisaal St. Laurentius Reberastrasse 16 Schaan FL Fürstentum Liechtenstein 9494 Schweiz;X-APPLE-RADIUS=500;X-TITLE=Reberastrasse 16:geo:9.5116694,47.1669946
END:VEVENT
BEGIN:VEVENT
DTSTART;TZID=Europe/Zurich:20220517T143000
DTEND;TZID=Europe/Zurich:20220517T170000
DTSTAMP:20260425T230441
CREATED:20220120T130838Z
LAST-MODIFIED:20220120T132227Z
UID:10000780-1652797800-1652806800@ofpg.ch
SUMMARY:Café TrotzDem Sarganserland
DESCRIPTION:Das Café TrotzDem ist ein Ort\, an dem sich Menschen mit Demenz und ihre Angehörigen treffen und gemeinsam einen geselligen Nachmittag in entspannter Atmosphäre verbringen können. Es besteht die Möglichkeit\, sich über ausgewählte Themen zu informieren\, sich mit anderen Betroffenen auszutauschen und in Kontakt zu kommen. \nLeitung vor Ort\nVertreterinnen und Vertreter der Angehörigengruppe Vilters\, der Frauen-Arbeitsgemeinschaft Sarganserland (FAGS) der Pro Senectute und des Psychiatrie-Zentrums Werdenberg-Sarganserland. \nAnmeldung\nEs ist keine Anmeldung erforderlich.  \nKosten\nDie Teilnahme ist kostenlos. Konsumationen auf eigene Kosten. \nKontakt Café-TrotzDem\nFrauen-Arbeitsgemeinschaft Sarganserland\, Tel 079 430 45 17 \n 
URL:https://ofpg.ch/veranstaltung/cafe-trotzdem-sarganserland-4
LOCATION:Restaurant Kiesfang\, Aeulistrasse 8\, Vilters\, 7324\, Schweiz
CATEGORIES:Veranstaltungen
ORGANIZER;CN="Psychiatrie-Dienst S%C3%BCd":MAILTO:thomas.lampert@psych.ch
END:VEVENT
BEGIN:VEVENT
DTSTART;TZID=Europe/Zurich:20220518T180000
DTEND;TZID=Europe/Zurich:20220518T213000
DTSTAMP:20260425T230441
CREATED:20211129T134546Z
LAST-MODIFIED:20220307T083325Z
UID:10000763-1652896800-1652909400@ofpg.ch
SUMMARY:Kurs: ensa – Erste Hilfe für psychische Gesundheit / Liechtenstein
DESCRIPTION:Gerade in der aktuellen Pandemie hat dieser Kurs eine besondere Bedeutung; geht es doch um das achtsame Erkennen von und angemessenes Handeln bei veränderter Befindlichkeit unserer Mitmenschen. \nJeder zweite Mensch in der Schweiz erleidet einmal im Leben eine psychische Erkrankung. Fast alle Menschen kennen in ihrem persönlichen Umfeld Personen\, denen es psychisch nicht gut geht oder eine Zeit lang nicht gut gegangen ist. Für Erste Hilfe bei körperlichen Beeinträchtigungen haben sich schon sehr viele Menschen weitergebildet. Psychischen Erkrankungen wird in unserer Gesellschaft aber immer noch mit grosser Scheu begegnet. \nensa vermittelt\, wie Angehörige\, Freunde oder Arbeitskolleginnen bei psychischen Problemen Erste Hilfe leisten können. Statt zu warten\, bis jemand anderes das Thema – meist viel zu spät – anspricht\, lernen Kursteilnehmerinnen und Kursteilnehmer\, rechtzeitig Probleme zu erkennen\, auf Menschen zuzugehen und Hilfe anzubieten. Alle können ensa Ersthelfende werden. \nDas Kurssystem wurde vor zwanzig Jahren in Australien entwickelt und ab 2019 in der Schweiz von der Stiftung Pro Mente Sana lanciert (www.ensa.ch). ensa ist evidenzbasiert\, das heisst\, der Inhalt des Kurses basiert auf wissenschaftlichen Grundlagen. \nDer Kurs vermittelt an vier Abenden ein Grundwissen über verschiedene psychische Probleme und Krisen. Ersthelfende kennen die fünf Schritte der Ersten Hilfe für psychische Gesundheit und können sie anwenden. \nLeitung\nMirco Deflorin\, zertifizierter ensa Instruktor \nTermine\n18./25. Mai\, 1./8.6.2022\, jeweils 18 bis 21.30 Uhr \nKosten\nCHF 380.- \nAnmeldung\nonline anmelden (ensa.swiss). Bitte bis 27.4.2022. \nVeranstaltungsort\nHaus Gutenberg\nBurgweg\n9496 Balzers
URL:https://ofpg.ch/veranstaltung/kurs-ensa-erste-hilfe-fuer-psychische-gesundheit-3
LOCATION:Haus Gutenberg\, Burgweg 8\, Balzers\, 9496
CATEGORIES:Kurse
ORGANIZER;CN="Demenz Liechtenstein":MAILTO:kontakt@demenz.li
GEO:47.063685;9.499162
X-APPLE-STRUCTURED-LOCATION;VALUE=URI;X-ADDRESS=Haus Gutenberg Burgweg 8 Balzers 9496;X-APPLE-RADIUS=500;X-TITLE=Burgweg 8:geo:9.499162,47.063685
END:VEVENT
BEGIN:VEVENT
DTSTART;TZID=Europe/Zurich:20220523T133000
DTEND;TZID=Europe/Zurich:20220523T170000
DTSTAMP:20260425T230441
CREATED:20220221T123016Z
LAST-MODIFIED:20220221T123016Z
UID:10000798-1653312600-1653325200@ofpg.ch
SUMMARY:Seminar: Anspruchsvolle Situationen bei Menschen mit Demenz
DESCRIPTION:Entstehung\, Auswirkungen und Hilfestellungen \nMenschen mit Demenz zeigen im Pflege- und Betreuungsalltag oft Verhaltensweisen\, die Pflegende/Betreuende belasten und herausfordern\, teilweise sogar überfordern. In diesem Workshop lernen Sie Ursachen für diese Verhaltensweisen kennen. Wie reagiere ich beispielsweise bei Teilnahmslosigkeit\, Unruhe\, ständigem Rufen oder aggressivem Verhalten. \nSie erweitern Ihr Wissen zu Ursachen und Einflussfaktoren von Verhaltensveränderungen von Menschen mit Demenz. Sie setzen sich mit Verhaltensmöglichkeiten und pflegerischen/betreuerischen Angeboten auseinander\, welche die Lebensqualität der betroffenen Menschen verbessern können. Sie gewinnen Wissen\, welches Sie entlastet und auch zu mehr Gelassenheit in schwierigen Situationen beitragen kann. \nZielgruppe\nAngehörige von Menschen mit Demenz\, nicht-verwandte Betreuende \nLeitung\nChristina De Biasio Marinello\, Dipl. Pflegefachfrau AKP\, Pflegeexpertin Höfa 2\, Referentin Validation Schweiz VA-CH®\, Berufsschullehrerin im Pflegebereich \nKosten\nCHF 120.– inkl. Pausenverpflegung; CHF 100.– für Mitglieder von Demenz Liechtenstein (bitte bei der Anmeldung angeben) \nWenig Geld\, aber Interesse an Bildung? Da nützt der Weiterbildungsgutschein: Mehr Infos hier! \nVeranstaltungsort\nHaus Gutenberg\, Burgweg\, Balzers \nAnmeldung erbeten bitte bis 5. Mai 2022 unter Mail oder +423 388 11 33 (Haus Gutenberg). \nFlyer hier. \nEine Kooperationsveranstaltung von Haus Gutenberg und Demenz Liechtenstein
URL:https://ofpg.ch/veranstaltung/seminar-anspruchsvolle-situationen-bei-menschen-mit-demenz
LOCATION:Haus Gutenberg\, Burgweg 8\, Balzers\, 9496
CATEGORIES:Kurse
ORGANIZER;CN="Demenz Liechtenstein":MAILTO:kontakt@demenz.li
GEO:47.063685;9.499162
X-APPLE-STRUCTURED-LOCATION;VALUE=URI;X-ADDRESS=Haus Gutenberg Burgweg 8 Balzers 9496;X-APPLE-RADIUS=500;X-TITLE=Burgweg 8:geo:9.499162,47.063685
END:VEVENT
BEGIN:VEVENT
DTSTART;TZID=Europe/Zurich:20220524T180000
DTEND;TZID=Europe/Zurich:20220524T200000
DTSTAMP:20260425T230441
CREATED:20211123T141622Z
LAST-MODIFIED:20211123T141710Z
UID:10000758-1653415200-1653422400@ofpg.ch
SUMMARY:Kurs Recovery College: Geschichten malen und erzählen
DESCRIPTION:Inhalt\nBeim Malen kann in Ruhe eine Geschichte kreiert und diese in den einzelnen Schritten frei ausgedrückt werden. Beim Malen kann man sich gross oder klein fühlen\, kann farbig oder uni bleiben\, grad so\, wie man möchte. Man darf anderen zuhören und die Geschichten geniessen. Und seine eigene Geschichte erzählen und sie wirken lassen. \nIm Kurs malen Sie in sechs Schritten Geschichten nach Mooli Lahad (6 Piece Story)\, gemeinsam erzählen\, hören\, spüren und betrachten wir die Geschichten. Die Arbeit in Kleingruppen führt zu offensichtlichen und verborgenen Ressourcen. \nGeschichten malen\, erzählen und hören ermöglicht einen Perspektivenwechsel – auf mich\, auf dich und die Welt. \nAufbau und Module\nZwei aufeinander aufbauende Module jeweils dienstags (18.00 bis 20.00 Uhr)\, maximal 8 Teilnehmende: \n\nModul 1: 24.05.2022\nModul 2: 31.05.2022\n\nKurs für: \n\nBetroffene mit einer psychischen Erkrankung und ihre Angehörigen\nFachpersonen aus Gesundheits- und Sozialberufen\nInteressierte Öffentlichkeit\n\nModeratorinnen und Moderatoren \n\nAndrea Koller\, Pflegefachfrau\, CAS Kreativmethoden in der Beratung\, Klinik St.Pirminsberg\nMichèle Uehli\, Selbständig und Expertin aus Erfahrung\n\nKosten\nDer Kurs soll allen zugänglich sein. Die Höhe der Kurskosten richtet sich an den finanziellen Möglichkeiten der Teilnehmenden aus: \n\nCHF 10 (Basic): Personen mit wenig Geld (beispielsweise Studierende\, Sozialhilfebeziehende)\nCHF 20 (Regular): für Privatpersonen in eigenem Interesse\nCHF 40 (Pro): für Fachpersonen\, die den Kurs als berufliche Weiterbildung besuchen\n\nAnmeldung\nZum Anmeldeformular (psych.ch) \nAnmeldeschluss\n18. Mai 2022
URL:https://ofpg.ch/veranstaltung/kurs-recovery-college-geschichten-malen-und-erzaehlen
LOCATION:Psychiatrie-Zentrum Werdenberg-Sarganserland\, Hauptstrasse 27\, Trübbach\, St. Gallen\, 9477\, Schweiz
CATEGORIES:Kurse
ORGANIZER;CN="Psychiatrie-Dienst S%C3%BCd":MAILTO:thomas.lampert@psych.ch
GEO:47.0736865;9.4812788
X-APPLE-STRUCTURED-LOCATION;VALUE=URI;X-ADDRESS=Psychiatrie-Zentrum Werdenberg-Sarganserland Hauptstrasse 27 Trübbach St. Gallen 9477 Schweiz;X-APPLE-RADIUS=500;X-TITLE=Hauptstrasse 27:geo:9.4812788,47.0736865
END:VEVENT
BEGIN:VEVENT
DTSTART;TZID=Europe/Zurich:20220524T190000
DTEND;TZID=Europe/Zurich:20220524T210000
DTSTAMP:20260425T230441
CREATED:20220221T125221Z
LAST-MODIFIED:20220221T132010Z
UID:10000800-1653418800-1653426000@ofpg.ch
SUMMARY:Gesprächsgruppe Schaan Mai 2022
DESCRIPTION:Betreuende Angehörige erleben im Alltag mit Menschen mit Demenz anspruchsvolle Situationen\, wiederkehrende Belastungen und häufig Isolation. Die Erfahrung zeigt\, dass das Zusammentreffen von „Gleichgesinnten“ dazu führen kann\, \n\nsich nicht alleine zu fühlen\,\nzu erleben\, dass es anderen ähnlich geht\,\nzu erfahren\, dass andere mit verschiedenen Zugehensweisen Hilfreiches erlebt haben\,\ngestärkt aus einem solchen Treffen hinauszugehen.\n\nDie Gesprächsgruppen sind thematisch jeweils offen. Manchmal widmen sie sich einem Schwerpunkt rund um das Thema Demenz. Dem gegenseitigen Austausch und Ihren Fragen möchten wir immer genügend Zeit einräumen. Die Gruppe soll Ihnen in Ihren Aufgaben und Herausforderungen im Umgang mit an Demenz erkrankten Menschen Anregungen geben und Sie unterstützen und motivieren. Interessante Gespräche mit anderen pflegenden Angehörigen zu führen und eine Atmosphäre zu erleben\, in der wieder einmal gemeinsam gelacht werden kann\, erachten wir als genauso wichtig wie die Vermittlung von Wissen. Die Gruppe ist moderiert und fachlich begleitet. \nDie Gesprächsgruppe ist ein offenes Angebot. Für die Teilnehmenden entsteht keine Verpflichtung; es gibt keine Voraussetzungen zur Teilnahme. Deshalb vereinbaren wir bei jedem einzelnen Termin Verschwiegenheit aller Teilnehmenden zu den besprochenen persönlichen Inhalten. \nCo-Leitung \n\nMatthias Brüstle\, Psychologe\, Absolvent CAS Dementia Care\, GF Demenz Liechtenstein\nRegula Birnstiel\, Sozialarbeiterin\, erfahrene Angehörige zweier an Demenz Erkrankter\n\nNächste Termine: 6.9. / 25.10. / 6.12. \nKosten: Die Teilnahme ist kostenlos. \nDetails: Bitte lesen Sie im Flyer nach. \nVeranstaltungsort: Pfarreisaal St. Laurentius\, Reberastrasse 12-14\, 9494 Schaan \nWir bitten vorab um verbindliche Anmeldung (jeweils für einen Abend) per Mail oder 00423 / 793 34 45
URL:https://ofpg.ch/veranstaltung/gespraechstruppe-schaan-mai
LOCATION:Pfarreisaal St. Laurentius\, Reberastrasse 16\, Schaan FL\, Fürstentum Liechtenstein\, 9494\, Schweiz
CATEGORIES:Veranstaltungen
ORGANIZER;CN="Demenz Liechtenstein":MAILTO:kontakt@demenz.li
GEO:47.1669946;9.5116694
X-APPLE-STRUCTURED-LOCATION;VALUE=URI;X-ADDRESS=Pfarreisaal St. Laurentius Reberastrasse 16 Schaan FL Fürstentum Liechtenstein 9494 Schweiz;X-APPLE-RADIUS=500;X-TITLE=Reberastrasse 16:geo:9.5116694,47.1669946
END:VEVENT
BEGIN:VEVENT
DTSTART;TZID=Europe/Zurich:20220530T193000
DTEND;TZID=Europe/Zurich:20220530T210000
DTSTAMP:20260425T230441
CREATED:20190121T131514Z
LAST-MODIFIED:20220310T154812Z
UID:10000606-1653939000-1653944400@ofpg.ch
SUMMARY:Referat: Mein Wille geschehe
DESCRIPTION:Öffentliches Referat der Reihe „Referat am Montag“: \nUrteilsfähigkeit im Kontext psychischer Erkrankungen \nAls mündige Bürgerinnen und Bürger dürfen wir über alles\, was uns betrifft\, frei und unabhängig entscheiden: wo wir wohnen\, mit wem wir zusammenleben\, welchen Beruf wir ausüben\, wofür wir unser Geld ausgeben\, was wir essen\, welche medizinische Behandlung wir zulassen oder ablehnen. Als rechtlicher Rahmen für diese Entscheidungsfreiheit dient der Begriff der «Urteilsfähigkeit». Verschiedene Zustände\, darunter vor allem psychische Krankheiten\, können zu einer Beeinträchtigung der Urteilsfähigkeit führen. Wer entscheidet dann an unserer Stelle? Und wer beurteilt\, ob und was wir noch selbst entscheiden können? Oft kommen neben Behörden auch Psychiater zu Hilfe\, um die Urteilsfähigkeit abzuklären und urteilsunfähige Personen und deren Angehörige zu unterstützen. \nThomas Maier erläutert anhand von Beispielen die Abläufe im Fall von ganz oder teilweise aufgehobener Urteilsfähigkeit. \nReferent\nPD Dr. med. Thomas Maier\nÄrztlicher Direktor \nAnmeldung\nEs sind keine Anmeldungen notwendig.  \nKosten\nDie Kursteilnahme ist gratis. \nProgramm\nFlyer Referat am Montag\, Frühling 2022 \nKursort\n \nWil: \n\nHörsaal beim Restaurant der Psychiatrie St.Gallen Nord\, Restaurant Haus C03\, 1. Stock\, Zürcherstrasse 30\, Wil\n\nReferat lieber als Video anschauen?\nDie Veranstaltung wird aufgezeichnet und steht anschliessend online auf www.psgn.ch zur Verfügung. \nKontakt\nPsychiatrie St.Gallen Nord\nEdith Scherer\, Leiterin Angehörigenberatung\nZürcherstrasse 30\, 9501 Wil\nTelefon 071 913 12 98\nedith.scherer@psgn.ch\nwww.psgn.ch
URL:https://ofpg.ch/veranstaltung/referat-mein-wille-geschehe
LOCATION:Psychiatrie St.Gallen Nord\, Zürcherstrasse 30\, Wil\, 9500\, Schweiz
CATEGORIES:Referate
ORGANIZER;CN="Psychiatrie St.Gallen Nord Angeh%C3%B6rigenberatung":MAILTO:edith.scherer@psgn.ch
END:VEVENT
BEGIN:VEVENT
DTSTART;TZID=Europe/Zurich:20220531T143000
DTEND;TZID=Europe/Zurich:20220531T170000
DTSTAMP:20260425T230441
CREATED:20220207T102547Z
LAST-MODIFIED:20220331T063536Z
UID:10000789-1654007400-1654016400@ofpg.ch
SUMMARY:Film und Podium: "Einsamkeit hat viele Gesichter"
DESCRIPTION:Filmvorführung mit Podiumsgespräch \nEinsamkeit betrifft viele Menschen. Gemeinsam darüber zu reden\, ist wichtig\, denn das kann Einsamkeit vorbeugen und Betroffenen helfen\, eigene Wege aus der Einsamkeit zu finden. Im Zentrum des Dokumentarfilms stehen sieben Menschen\, die einen Einblick in ihr Leben geben und erzählen\, wie sich Einsamkeit für sie anfühlt und wie sie damit umgehen. \nOrt:\nKatholisches Pfarreizentrum\, im Saal St. Nikolaus\, Lerchenfeldstrasse 3\, 9500 Wil \nKosten:\nDie Vorführung ist kostenlos. \nAnmeldung:\nEs ist keine Anmeldung erforderlich. \nFlyer \n 
URL:https://ofpg.ch/veranstaltung/film-und-podium-einsamkeit-hat-viele-gesichter-wil
LOCATION:Katholisches Pfarreizentrum\, Lerchenfeldstrasse 3\, Wil\, St. Gallen\, 9500
CATEGORIES:Veranstaltungen
END:VEVENT
END:VCALENDAR