BEGIN:VCALENDAR
VERSION:2.0
PRODID:-//OFPG - ECPv6.15.20//NONSGML v1.0//EN
CALSCALE:GREGORIAN
METHOD:PUBLISH
X-WR-CALNAME:OFPG
X-ORIGINAL-URL:https://ofpg.ch
X-WR-CALDESC:Veranstaltungen für OFPG
REFRESH-INTERVAL;VALUE=DURATION:PT1H
X-Robots-Tag:noindex
X-PUBLISHED-TTL:PT1H
BEGIN:VTIMEZONE
TZID:Europe/Zurich
BEGIN:DAYLIGHT
TZOFFSETFROM:+0100
TZOFFSETTO:+0200
TZNAME:CEST
DTSTART:20210328T010000
END:DAYLIGHT
BEGIN:STANDARD
TZOFFSETFROM:+0200
TZOFFSETTO:+0100
TZNAME:CET
DTSTART:20211031T010000
END:STANDARD
BEGIN:DAYLIGHT
TZOFFSETFROM:+0100
TZOFFSETTO:+0200
TZNAME:CEST
DTSTART:20220327T010000
END:DAYLIGHT
BEGIN:STANDARD
TZOFFSETFROM:+0200
TZOFFSETTO:+0100
TZNAME:CET
DTSTART:20221030T010000
END:STANDARD
BEGIN:DAYLIGHT
TZOFFSETFROM:+0100
TZOFFSETTO:+0200
TZNAME:CEST
DTSTART:20230326T010000
END:DAYLIGHT
BEGIN:STANDARD
TZOFFSETFROM:+0200
TZOFFSETTO:+0100
TZNAME:CET
DTSTART:20231029T010000
END:STANDARD
END:VTIMEZONE
BEGIN:VEVENT
DTSTART;TZID=Europe/Zurich:20220601T180000
DTEND;TZID=Europe/Zurich:20220601T200000
DTSTAMP:20260425T211512
CREATED:20211123T142816Z
LAST-MODIFIED:20211123T142816Z
UID:10000759-1654106400-1654113600@ofpg.ch
SUMMARY:Kurs Recovery College: Psychisch belastete Eltern und ihre Kinder
DESCRIPTION:Inhalt\nKinder mit einem psychisch belasteten Elternteil wurden früher oft als die vergessenen Angehörigen bezeichnet. Dabei weiss man\, dass sich Eltern dann auf Unterstützung und Hilfe einlassen können\, wenn sie sich in ihrer Elternschaft ernst genommen fühlen. Dieser Kurs beschäftigt sich mit den Grundlagen der Elternschaft im Zusammenhang mit einer psychischen Erkrankung\, vermittelt Strategien zum Umgang mit Belastungen und unterstützt Eltern in der Weiterentwicklung ihrer eigenen Kompetenzen. \nAufbau und Module\nVier aufeinander aufbauende Module jeweils mittwochs (18.00 bis 20.00 Uhr)\, maximal 15 Teilnehmende: \n\n01.06.2022\, Modul 1: Grundlagen\n08.06.2022\, Modul 2: Mit den Kindern darüber sprechen\n15.06.2022\, Modul 3: Belastungen meistern\n22.06.2022\, Modul 4: Kompetenzen fördern\n\nKurs für: \n\nBetroffene mit einer psychischen Erkrankung und ihre Angehörigen\nFachpersonen aus Gesundheits- und Sozialberufen\nInteressierte Öffentlichkeit\n\nModeratorinnen und Moderatoren \n\nThomas Lampert\, Koordinator Prävention und Angehörigenarbeit\, Projektleiter Recovery College\nRenata Bleichenbacher\, Peer-Dozentin\, Primarlehrerin\, Erwachsenenbildnerin SVEB\, Projektleiterin Recovery College\n\nKosten\nDer Kurs soll allen zugänglich sein. Die Höhe der Kurskosten richtet sich an den finanziellen Möglichkeiten der Teilnehmenden aus: \n\nCHF 10 (Basic): Personen mit wenig Geld (beispielsweise Studierende\, Sozialhilfebeziehende)\nCHF 40 (Regular): für Privatpersonen in eigenem Interesse\nCHF 180 (Pro): für Fachpersonen\, die den Kurs als berufliche Weiterbildung besuchen\n\nAnmeldung\nZum Anmeldeformular (psych.ch)\n \nAnmeldeschluss\n27. Mai 2022
URL:https://ofpg.ch/veranstaltung/kurs-recovery-college-psychisch-belastete-eltern-und-ihre-kinder
LOCATION:Psychiatrie-Zentrum Werdenberg-Sarganserland\, Hauptstrasse 27\, Trübbach\, St. Gallen\, 9477\, Schweiz
CATEGORIES:Kurse
ORGANIZER;CN="Psychiatrie-Dienst S%C3%BCd":MAILTO:thomas.lampert@psych.ch
GEO:47.0736865;9.4812788
X-APPLE-STRUCTURED-LOCATION;VALUE=URI;X-ADDRESS=Psychiatrie-Zentrum Werdenberg-Sarganserland Hauptstrasse 27 Trübbach St. Gallen 9477 Schweiz;X-APPLE-RADIUS=500;X-TITLE=Hauptstrasse 27:geo:9.4812788,47.0736865
END:VEVENT
BEGIN:VEVENT
DTSTART;TZID=Europe/Zurich:20220601T183000
DTEND;TZID=Europe/Zurich:20220601T203000
DTSTAMP:20260425T211512
CREATED:20180411T120047Z
LAST-MODIFIED:20220217T154615Z
UID:10000440-1654108200-1654115400@ofpg.ch
SUMMARY:Vortragsreihe: "Pädiatrie\, Schule und Gesellschaft"
DESCRIPTION:Referat im Rahmen der Vortragsreihe „Pädiatrie\, Schule & Gesellschaft“ des Ostschweizer Kinderspitals (OKS) und des Vereins Ostschweizer Kinderärzte (VOK) zum Thema \n„Migrationshintergrund – Handicap oder Chance? \nReferierende: \n\nDr. phil. Philipp Eigenmann (Pädagogische Hochschule Thurgau)\nMag. art. Elke-Nicole Kappus (Pädagogische Hochschule Luzern)\n\nweitere Informationen siehe Programm \nDie Vortragsreihe ist öffentlich\, kostenlos und ohne Voranmeldung zu besuchen.
URL:https://ofpg.ch/veranstaltung/vortragsreihe-paediatrie-schule-und-gesellschaft-4-2-2
LOCATION:Fachhochschule St. Gallen\, Rosenbergstrasse 59\, St.Gallen\, 9000\, Schweiz
CATEGORIES:Referate
END:VEVENT
BEGIN:VEVENT
DTSTART;TZID=Europe/Zurich:20220603T143000
DTEND;TZID=Europe/Zurich:20220603T170000
DTSTAMP:20260425T211512
CREATED:20220315T064157Z
LAST-MODIFIED:20220315T065041Z
UID:10000806-1654266600-1654275600@ofpg.ch
SUMMARY:Café TrotzDem Wil
DESCRIPTION:Auch im 2022 können sich Menschen mit Demenz wie auch deren Angehörige einmal monatlich im Kafi Peter in Wil treffen\, informieren und austauschen. Das Netzwerk Demenz Wil verfolgt mit diesen Treffen das Ziel\, der Isolation von Menschen mit Demenz und ihren Angehörigen entgegen zu wirken. Jedes Treffen steht unter einem Motto und wird von Fachpersonen begleitet. \nDie Idee des Café TrotzDem Wil lehnt sich an das Konzept Alzheimer Café der schweizerischen Alzheimervereinigung aus dem Jahr 2011 an. Menschen mit Demenz und ihre Angehörigen erhalten die Gelegenheit\, sich im öffentlichen Raum\, in informeller und entspannter Atmosphäre zu begegnen. \nImmer am ersten Freitag des Monats\nDas Café TrotzDem Wil findet immer am ersten Freitagnachmittag des Monats statt\, von 14.30 bis 17.00 Uhr. Im Zentrum stehen jeweils ausgewählte Informationen zum Thema Demenz – von der Bewältigung des Alltags über rechtliche Belange bis hin zu Singen und Musik. Jedes Treffen ist begleitet von Fachpersonen\, die für Fragen da sind wie auch Info-Material zu Demenz\, Entlastungsangeboten\, lokalen Anbietern und Veranstaltungen bereithalten. \nDaten 2022\n4. Februar\, 4. März\, 1. April\, 6. Mai\, 3. Juni\, 1. Juli\, 2. September\, 7. Oktober\, 4. November\, 2. Dezember \nThemenschwerpunkte\nUm ca. 15.00 Uhr wird jeweils ein besonderes Thema behandelt.\nLink zu den Themenschwerpunkte 2022 \nNiederschwellig und kostenlos\nDas Café TrotzDem Wil versteht sich als kostenloses und niederschwelliges Angebot. Die Teilnehmenden gehen keinerlei Verpflichtungen ein. Sie müssen sich nicht anmelden und entscheiden selbst\, wie lange sie bleiben und ob sie am jeweiligen Programm teilnehmen möchten. Die Konsumation im Peter Kafi erfolgt auf eigene Rechnung. \nIn Agenda notieren\nDas Café TrotzDem Wil findet immer am ersten Freitagnachmittag im Monat statt\, von 14.30 – 17.00 Uhr. \nWeitere Informationen\nAlzheimer St.Gallen-Appenzell AR/AI\, Geschäftsstelle 071 223 10 46 oder Angehörigenberatung der Psychiatrie St.Gallen Nord\, 058 178 13 00\, edith.scherer@psgn.ch \nFlyer Café TrotzDem Wil
URL:https://ofpg.ch/veranstaltung/cafe-trotzdem-wil-2-2
LOCATION:Peter Kafi\, Pfarreizentrum\, Lerchenfeldstr. 3\, Wil\, 9500\, Schweiz
CATEGORIES:Veranstaltungen
ORGANIZER;CN="Psychiatrie St.Gallen Nord":MAILTO:coeur.veranstaltungen@psgn.ch
END:VEVENT
BEGIN:VEVENT
DTSTART;TZID=Europe/Zurich:20220613T183000
DTEND;TZID=Europe/Zurich:20220613T203000
DTSTAMP:20260425T211512
CREATED:20211123T151749Z
LAST-MODIFIED:20211123T151749Z
UID:10000760-1655145000-1655152200@ofpg.ch
SUMMARY:Kurs Recovery College: Emotionskontrolle mit Hilfe von Skills
DESCRIPTION:Inhalt\nViele Menschen neigen in stressvollen Situationen zu ungünstigem oder impulsivem Handeln. Sie versuchen\, die emotionale Anspannung mit Verhaltensweisen zu bewältigen\, welche selbstschädigend sind und die Beziehungen belasten\, etwa Selbstverletzung\, übermässiger Alkohol- und Drogenkonsum oder verbale Verletzungen. Häufig fühlen sich Betroffene wie auch das Umfeld in solchen Situationen hilflos. In diesem Kurs wird der Weg zu einer achtsamen und wohlwollenden Grundhaltung aufgezeigt\, das Zusammenspiel zwischen Denken\, Fühlen und Handeln erklärt\, der Umgang mit herausfordernden Situationen diskutiert sowie Strategien (Skills) erarbeitet und vermittelt. \nAufbau und Module\nDrei aufeinander aufbauende Module jeweils montags (18.30 bis 20.30 Uhr)\, maximal 12 Teilnehmende: \n\nModul 1: 13.06.2022\nModul 2: 20.06.2022\nModul 3: 27.06.2022\n\nKurs für: \n\nBetroffene mit einer psychischen Erkrankung und ihre Angehörigen\nFachpersonen aus Gesundheits- und Sozialberufen\nInteressierte Öffentlichkeit\n\nModeratoren \n\nThomas Riedl\, Pflegefachmann und DBT-Therapeut\, Klinik St.Pirminsberg\nHeike Kranz\, Peer-Mitarbeiterin und Expertin aus Erfahrung\, Klinik St.Pirminsberg\n\nKosten\nDer Kurs soll allen zugänglich sein. Die Höhe der Kurskosten richtet sich an den finanziellen Möglichkeiten der Teilnehmenden aus: \n\nCHF 10 (Basic): Personen mit wenig Geld (beispielsweise Studierende\, Sozialhilfebeziehende)\nCHF 30 (Regular): für Privatpersonen in eigenem Interesse\nCHF 150 (Pro): für Fachpersonen\, die den Kurs als berufliche Weiterbildung besuchen\n\nAnmeldung\nZum Anmeldeformular (psych.ch) \nAnmeldeschluss\n08. Juni 2022
URL:https://ofpg.ch/veranstaltung/kurs-recovery-college-emotionskontrolle-mit-hilfe-von-skills
LOCATION:Psychiatrie-Zentrum Werdenberg-Sarganserland\, Hauptstrasse 27\, Trübbach\, St. Gallen\, 9477\, Schweiz
CATEGORIES:Kurse
ORGANIZER;CN="Psychiatrie-Dienst S%C3%BCd":MAILTO:thomas.lampert@psych.ch
GEO:47.0736865;9.4812788
X-APPLE-STRUCTURED-LOCATION;VALUE=URI;X-ADDRESS=Psychiatrie-Zentrum Werdenberg-Sarganserland Hauptstrasse 27 Trübbach St. Gallen 9477 Schweiz;X-APPLE-RADIUS=500;X-TITLE=Hauptstrasse 27:geo:9.4812788,47.0736865
END:VEVENT
BEGIN:VEVENT
DTSTART;TZID=Europe/Zurich:20220614T190000
DTEND;TZID=Europe/Zurich:20220614T203000
DTSTAMP:20260425T211512
CREATED:20220207T102547Z
LAST-MODIFIED:20220331T064801Z
UID:10000790-1655233200-1655238600@ofpg.ch
SUMMARY:Film und Podium: "Einsamkeit hat viele Gesichter"
DESCRIPTION:Filmvorführung mit Podiumsgespräch \nEinsamkeit betrifft viele Menschen. Gemeinsam darüber zu reden\, ist wichtig\, denn das kann Einsamkeit vorbeugen und Betroffenen helfen\, eigene Wege aus der Einsamkeit zu finden. Im Zentrum des Dokumentarfilms stehen sieben Menschen\, die einen Einblick in ihr Leben geben und erzählen\, wie sich Einsamkeit für sie anfühlt und wie sie damit umgehen. \nOrt:\nStadthofsaal\, Kirchstrasse 9\, 9400 Rorschach \nKosten:\nDie Vorführung ist kostenlos. \nAnmeldung:\nEs ist keine Anmeldung erforderlich. \nFlyer \n 
URL:https://ofpg.ch/veranstaltung/film-und-podium-einsamkeit-hat-viele-gesichter-rorschach
LOCATION:Stadthofsaal\, Kirchstrasse 9\, Rorschach\, St. Gallen\, 9400\, Schweiz
CATEGORIES:Veranstaltungen
END:VEVENT
BEGIN:VEVENT
DTSTART;TZID=Europe/Zurich:20220620T133000
DTEND;TZID=Europe/Zurich:20220620T170000
DTSTAMP:20260425T211512
CREATED:20220530T133555Z
LAST-MODIFIED:20220530T133555Z
UID:10000813-1655731800-1655744400@ofpg.ch
SUMMARY:Seminar: Anspruchsvolle Situationen mit Menschen mit Demenz 2022
DESCRIPTION:Entstehung\, Auswirkungen und Hilfestellungen \nMenschen mit Demenz zeigen im Pflege- und Betreuungsalltag oft Verhaltensweisen\, die Pflegende/Betreuende belasten und herausfordern\, teilweise sogar überfordern. In diesem Workshop lernen Sie Ursachen für diese Verhaltensweisen kennen. Wie reagiere ich beispielsweise bei Teilnahmslosigkeit\, Unruhe\, ständigem Rufen oder aggressivem Verhalten. \nSie erweitern Ihr Wissen zu Ursachen und Einflussfaktoren von Verhaltensveränderungen von Menschen mit Demenz. Sie setzen sich mit Verhaltensmöglichkeiten und pflegerischen/betreuerischen Angeboten auseinander\, welche die Lebensqualität der betroffenen Menschen verbessern können. Sie gewinnen Wissen\, welches Sie entlastet und auch zu mehr Gelassenheit in schwierigen Situationen beitragen kann. \nZielgruppe\nAngehörige von Menschen mit Demenz\, nicht-verwandte Betreuende \nLeitung\nChristina De Biasio Marinello\, Dipl. Pflegefachfrau AKP\, Pflegeexpertin Höfa 2\, Referentin Validation Schweiz VA-CH®\, Berufsschullehrerin im Pflegebereich \nKosten\nCHF 120.– inkl. Pausenverpflegung; CHF 100.– für Mitglieder von Demenz Liechtenstein (bitte bei der Anmeldung angeben) \nVeranstaltungsort\nHaus Gutenberg\, Burgweg\, Balzers \nAnmeldung \nErbeten bitte bis 14. Juni 2022 unter Mail oder +423 388 11 33 (Haus Gutenberg). \nFlyer hier. \nEine Kooperationsveranstaltung von Haus Gutenberg und Demenz Liechtenstein.
URL:https://ofpg.ch/veranstaltung/seminar-anspruchsvolle-situationen-mit-menschen-mit-demenz-2022
LOCATION:Haus Gutenberg\, Burgweg 8\, Balzers\, 9496
CATEGORIES:Kurse
ORGANIZER;CN="Demenz Liechtenstein":MAILTO:kontakt@demenz.li
GEO:47.063685;9.499162
X-APPLE-STRUCTURED-LOCATION;VALUE=URI;X-ADDRESS=Haus Gutenberg Burgweg 8 Balzers 9496;X-APPLE-RADIUS=500;X-TITLE=Burgweg 8:geo:9.499162,47.063685
END:VEVENT
BEGIN:VEVENT
DTSTART;TZID=Europe/Zurich:20220620T140000
DTEND;TZID=Europe/Zurich:20220620T170000
DTSTAMP:20260425T211512
CREATED:20220103T105827Z
LAST-MODIFIED:20220530T134114Z
UID:10000772-1655733600-1655744400@ofpg.ch
SUMMARY:Demenz – Café Balzers Juni 2022
DESCRIPTION:Das Nachmittags-Café – ein Café für alle! \nDas Nachmittags-Café richtet sich in erster Linie an Angehörige von Menschen mit Demenz. Sie sollen hier einen Ort finden\, an dem sie die von Demenz betroffene Person mitnehmen und gemeinsam einen möglichst erholsamen Nachmittag verbringen können.\nBetroffen von dieser Krankheit zu sein\, macht das Leben schwer und anstrengend. Dieses Café ermöglicht Ihnen eine unbeschwerte Zeit zu erleben – und sei dies nur für eine Stunde. Es sind zudem alle herzlich willkommen; auch Enkelkinder\, Interessierte\, usw.\nEinen Kaffee trinken\, ein Stück Kuchen essen\, in einem Buch stöbern\, ein interessantes Gespräch führen\, an einer angebotenen Aktivität teilnehmen\, Musik lauschen oder einfach nur sein. Sie entscheiden\, was Ihnen im Moment guttut. Es soll für alle möglichst unkompliziert sein. Späteres Kommen\, früheres Gehen – alles ist möglich. \nZwei Fachpersonen sind vor Ort und beraten gerne\, falls dies erwünscht ist. Wir freuen uns auf Sie! \nLeitung: \n\nRegula Birnstiel\, Sozialarbeiterin\, erfahrene Angehörige\nMatthias Brüstle\, Psychologe\,  Demenz Liechtenstein\n\nOrt:\nHaus Gutenberg\, Burgweg 8\, Balzers\, Gästehaus (ausgeschildert) \nFlyer:\nHier \nVoranmeldung und Information:\nMatthias Brüstle\, Tel. 00423 / 230 34 45 oder kontakt@demenz.li\nEine spontane Teilnahme ist selbstverständlich auch möglich. \nDas «Demenz-Café» ist eine Kooperationsveranstaltung von Haus Gutenberg und Demenz Liechtenstein.
URL:https://ofpg.ch/veranstaltung/demenz-cafe-balzers-januar-2022-2
LOCATION:Haus Gutenberg\, Burgweg 8\, Balzers\, 9496
CATEGORIES:Veranstaltungen
ORGANIZER;CN="Demenz Liechtenstein":MAILTO:kontakt@demenz.li
GEO:47.063685;9.499162
X-APPLE-STRUCTURED-LOCATION;VALUE=URI;X-ADDRESS=Haus Gutenberg Burgweg 8 Balzers 9496;X-APPLE-RADIUS=500;X-TITLE=Burgweg 8:geo:9.499162,47.063685
END:VEVENT
BEGIN:VEVENT
DTSTART;TZID=Europe/Zurich:20220621T143000
DTEND;TZID=Europe/Zurich:20220621T170000
DTSTAMP:20260425T211512
CREATED:20220120T130838Z
LAST-MODIFIED:20220120T132431Z
UID:10000781-1655821800-1655830800@ofpg.ch
SUMMARY:Café TrotzDem Sarganserland
DESCRIPTION:Das Café TrotzDem ist ein Ort\, an dem sich Menschen mit Demenz und ihre Angehörigen treffen und gemeinsam einen geselligen Nachmittag in entspannter Atmosphäre verbringen können. Es besteht die Möglichkeit\, sich über ausgewählte Themen zu informieren\, sich mit anderen Betroffenen auszutauschen und in Kontakt zu kommen. \nLeitung vor Ort\nVertreterinnen und Vertreter der Angehörigengruppe Vilters\, der Frauen-Arbeitsgemeinschaft Sarganserland (FAGS) der Pro Senectute und des Psychiatrie-Zentrums Werdenberg-Sarganserland. \nAnmeldung\nEs ist keine Anmeldung erforderlich.  \nKosten\nDie Teilnahme ist kostenlos. Konsumationen auf eigene Kosten. \nKontakt Café-TrotzDem\nFrauen-Arbeitsgemeinschaft Sarganserland\, Tel 079 430 45 17 \n 
URL:https://ofpg.ch/veranstaltung/cafe-trotzdem-sarganserland-5
LOCATION:Restaurant Kiesfang\, Aeulistrasse 8\, Vilters\, 7324\, Schweiz
CATEGORIES:Veranstaltungen
ORGANIZER;CN="Psychiatrie-Dienst S%C3%BCd":MAILTO:thomas.lampert@psych.ch
END:VEVENT
END:VCALENDAR