BEGIN:VCALENDAR
VERSION:2.0
PRODID:-//OFPG - ECPv6.15.20//NONSGML v1.0//EN
CALSCALE:GREGORIAN
METHOD:PUBLISH
X-ORIGINAL-URL:https://ofpg.ch
X-WR-CALDESC:Veranstaltungen für OFPG
REFRESH-INTERVAL;VALUE=DURATION:PT1H
X-Robots-Tag:noindex
X-PUBLISHED-TTL:PT1H
BEGIN:VTIMEZONE
TZID:Europe/Zurich
BEGIN:DAYLIGHT
TZOFFSETFROM:+0100
TZOFFSETTO:+0200
TZNAME:CEST
DTSTART:20210328T010000
END:DAYLIGHT
BEGIN:STANDARD
TZOFFSETFROM:+0200
TZOFFSETTO:+0100
TZNAME:CET
DTSTART:20211031T010000
END:STANDARD
BEGIN:DAYLIGHT
TZOFFSETFROM:+0100
TZOFFSETTO:+0200
TZNAME:CEST
DTSTART:20220327T010000
END:DAYLIGHT
BEGIN:STANDARD
TZOFFSETFROM:+0200
TZOFFSETTO:+0100
TZNAME:CET
DTSTART:20221030T010000
END:STANDARD
BEGIN:DAYLIGHT
TZOFFSETFROM:+0100
TZOFFSETTO:+0200
TZNAME:CEST
DTSTART:20230326T010000
END:DAYLIGHT
BEGIN:STANDARD
TZOFFSETFROM:+0200
TZOFFSETTO:+0100
TZNAME:CET
DTSTART:20231029T010000
END:STANDARD
END:VTIMEZONE
BEGIN:VEVENT
DTSTART;TZID=Europe/Zurich:20220816T143000
DTEND;TZID=Europe/Zurich:20220816T170000
DTSTAMP:20260425T175726
CREATED:20220120T130838Z
LAST-MODIFIED:20220120T132647Z
UID:10000783-1660660200-1660669200@ofpg.ch
SUMMARY:Café TrotzDem Sarganserland
DESCRIPTION:Das Café TrotzDem ist ein Ort\, an dem sich Menschen mit Demenz und ihre Angehörigen treffen und gemeinsam einen geselligen Nachmittag in entspannter Atmosphäre verbringen können. Es besteht die Möglichkeit\, sich über ausgewählte Themen zu informieren\, sich mit anderen Betroffenen auszutauschen und in Kontakt zu kommen. \nLeitung vor Ort\nVertreterinnen und Vertreter der Angehörigengruppe Vilters\, der Frauen-Arbeitsgemeinschaft Sarganserland (FAGS) der Pro Senectute und des Psychiatrie-Zentrums Werdenberg-Sarganserland. \nAnmeldung\nEs ist keine Anmeldung erforderlich.  \nKosten\nDie Teilnahme ist kostenlos. Konsumationen auf eigene Kosten. \nKontakt Café-TrotzDem\nFrauen-Arbeitsgemeinschaft Sarganserland\, Tel 079 430 45 17 \n 
URL:https://ofpg.ch/veranstaltung/cafe-trotzdem-sarganserland-7
LOCATION:Restaurant Kiesfang\, Aeulistrasse 8\, Vilters\, 7324\, Schweiz
CATEGORIES:Veranstaltungen
ORGANIZER;CN="Psychiatrie-Dienst S%C3%BCd":MAILTO:thomas.lampert@psych.ch
END:VEVENT
BEGIN:VEVENT
DTSTART;TZID=Europe/Zurich:20220817T150000
DTEND;TZID=Europe/Zurich:20220817T183000
DTSTAMP:20260425T175726
CREATED:20220516T090308Z
LAST-MODIFIED:20220516T090518Z
UID:10000812-1660748400-1660761000@ofpg.ch
SUMMARY:Fachtagung Forum BGM Ostschweiz
DESCRIPTION:„Lustlos\, verträumt oder psychisch belastet?“ \nLernende befinden sich in einer Lebensphase\, die ein Risiko für ihre psychische Gesundheit sein kann. Nicht selten kumulieren sich in dieser Lebensphase körperliche\, psychische und soziale Veränderungen. Das kann zu psychischen Belastungen führen. Die Fähigkeit und die Erfahrungen\, wie zum Beispiel Stress gesund bewältigt werden kann\, sind bei vielen jungen Menschen noch wenig erprobt. Umso mehr brauchen sie eine aufmerksame und kompetente Begleitung. Jugendliche\, denen es gut geht\, lernen besser\, sind motivierter und können mehr Leistung erbringen. \nUnsere Referentinnen und Referenten bringen Ihnen Zahlen\, Fakten und Erfahrungen aus der Praxis mit. Darüber hinaus stellen sie unterstützende Instrumente vor und zeigen Unterstützungsangebote auf. Profitieren Sie von Erkenntnissen aus Sicht der Wissenschaft sowie der Praxis und entdecken Sie Handlungsfelder für sich und Ihren Betrieb. \nDie Tagung richtet sich an Ausbildungsverantwortliche\, Führungskräfte\, Personalverantwortliche sowie weitere Personen\, die sich vom Thema angesprochen fühlen. \nDatum\nMittwoch\, 17. August 2022\, 15:00 bis 18:15 Uhr \nVeranstaltungsort\nPfalzkeller\, Klosterhof 3\, 9000 St. Gallen \nKosten\nMitglieder des Forum BGM Ostschweiz: Fr. 75.-\nNichtmitglieder: Fr. 150.- \nAnmeldung\nAnmeldung bis spätestens 4. August 2022 / Teilnehmerzahl ist begrenzt. \nFlyer (PDF)
URL:https://ofpg.ch/veranstaltung/fachtagung-forum-bgm-ostschweiz
LOCATION:Pfalzkeller St.Gallen\, Klosterhof 3\, St.Gallen\, 9000\, Schweiz
CATEGORIES:Fachtagung
END:VEVENT
BEGIN:VEVENT
DTSTART;TZID=Europe/Zurich:20220822T140000
DTEND;TZID=Europe/Zurich:20220822T170000
DTSTAMP:20260425T175726
CREATED:20220103T105827Z
LAST-MODIFIED:20220530T142456Z
UID:10000773-1661176800-1661187600@ofpg.ch
SUMMARY:Demenz – Café Balzers August 2022
DESCRIPTION:Das Nachmittags-Café – ein Café für alle! \nDas Nachmittags-Café richtet sich in erster Linie an Angehörige von Menschen mit Demenz. Sie sollen hier einen Ort finden\, an dem sie die von Demenz betroffene Person mitnehmen und gemeinsam einen möglichst erholsamen Nachmittag verbringen können.\nBetroffen von dieser Krankheit zu sein\, macht das Leben schwer und anstrengend. Dieses Café ermöglicht Ihnen eine unbeschwerte Zeit zu erleben – und sei dies nur für eine Stunde. Es sind zudem alle herzlich willkommen; auch Enkelkinder\, Interessierte\, usw.\nEinen Kaffee trinken\, ein Stück Kuchen essen\, in einem Buch stöbern\, ein interessantes Gespräch führen\, an einer angebotenen Aktivität teilnehmen\, Musik lauschen oder einfach nur sein. Sie entscheiden\, was Ihnen im Moment guttut. Es soll für alle möglichst unkompliziert sein. Späteres Kommen\, früheres Gehen – alles ist möglich. \nZwei Fachpersonen sind vor Ort und beraten gerne\, falls dies erwünscht ist. Wir freuen uns auf Sie! \nLeitung: \n\nRegula Birnstiel\, Sozialarbeiterin\, erfahrene Angehörige\nMatthias Brüstle\, Psychologe\,  Demenz Liechtenstein\n\nOrt:\nHaus Gutenberg\, Burgweg 8\, Balzers\, Gästehaus (ausgeschildert) \nFlyer:\nHier \nVoranmeldung und Information:\nMatthias Brüstle\, Tel. 00423 / 230 34 45 oder kontakt@demenz.li\nEine spontane Teilnahme ist selbstverständlich auch möglich. \nDas «Demenz-Café» ist eine Kooperationsveranstaltung von Haus Gutenberg und Demenz Liechtenstein.
URL:https://ofpg.ch/veranstaltung/demenz-cafe-balzers-januar-2022-2-2
LOCATION:Haus Gutenberg\, Burgweg 8\, Balzers\, 9496
CATEGORIES:Veranstaltungen
ORGANIZER;CN="Demenz Liechtenstein":MAILTO:kontakt@demenz.li
GEO:47.063685;9.499162
X-APPLE-STRUCTURED-LOCATION;VALUE=URI;X-ADDRESS=Haus Gutenberg Burgweg 8 Balzers 9496;X-APPLE-RADIUS=500;X-TITLE=Burgweg 8:geo:9.499162,47.063685
END:VEVENT
END:VCALENDAR