BEGIN:VCALENDAR
VERSION:2.0
PRODID:-//OFPG - ECPv6.15.20//NONSGML v1.0//EN
CALSCALE:GREGORIAN
METHOD:PUBLISH
X-WR-CALNAME:OFPG
X-ORIGINAL-URL:https://ofpg.ch
X-WR-CALDESC:Veranstaltungen für OFPG
REFRESH-INTERVAL;VALUE=DURATION:PT1H
X-Robots-Tag:noindex
X-PUBLISHED-TTL:PT1H
BEGIN:VTIMEZONE
TZID:Europe/Zurich
BEGIN:DAYLIGHT
TZOFFSETFROM:+0100
TZOFFSETTO:+0200
TZNAME:CEST
DTSTART:20220327T010000
END:DAYLIGHT
BEGIN:STANDARD
TZOFFSETFROM:+0200
TZOFFSETTO:+0100
TZNAME:CET
DTSTART:20221030T010000
END:STANDARD
BEGIN:DAYLIGHT
TZOFFSETFROM:+0100
TZOFFSETTO:+0200
TZNAME:CEST
DTSTART:20230326T010000
END:DAYLIGHT
BEGIN:STANDARD
TZOFFSETFROM:+0200
TZOFFSETTO:+0100
TZNAME:CET
DTSTART:20231029T010000
END:STANDARD
BEGIN:DAYLIGHT
TZOFFSETFROM:+0100
TZOFFSETTO:+0200
TZNAME:CEST
DTSTART:20240331T010000
END:DAYLIGHT
BEGIN:STANDARD
TZOFFSETFROM:+0200
TZOFFSETTO:+0100
TZNAME:CET
DTSTART:20241027T010000
END:STANDARD
END:VTIMEZONE
BEGIN:VEVENT
DTSTART;TZID=Europe/Zurich:20230510T183000
DTEND;TZID=Europe/Zurich:20230510T200000
DTSTAMP:20260425T034415
CREATED:20230411T061929Z
LAST-MODIFIED:20230411T063912Z
UID:10000854-1683743400-1683748800@ofpg.ch
SUMMARY:Schlafseminar: Endlich schlafen lernen
DESCRIPTION:Der Schlaf wird heute immer noch massiv unterbewertet\, obwohl er ein wichtiger Faktor für das Wohlbefinden und die Gesundheit ist. Und vergessen Sie nicht\, wir verbringen ca. 1/3 unserer Lebenszeit mit Schlafen! Das Gute daran: Wir können selbst viel dafür tun\, dass sich unser Schlaf verbessert und wir uns am Tag fitter und leistungsfähiger fühlen. \nDieses Schlafseminar setzt sich aus einem diagnostischen Teil (mittels Fragebogen und kurzer Erhebung der aktuellen Lebenssituation) und vier aufeinander aufbauenden Gruppenblöcken zusammen. Im Fokus steht die Belastung durch eine akute Schlaflosigkeit (Insomnie) und was Sie konkret mit Ihrem Verhalten zu einem bessern Schlaf beitragen können. \nInhaltliche Ziele: \n\nVerständnis zum Thema Schlaf aufbauen\nUrsachen von Schlaflosigkeit\nden Schlafaufbau verstehen\nKenntnisse einer guten Schlafhygiene\nErlernen von Entspannungsmethoden und Atemtechniken\nFühren eines Schlaftagebuchs\n\nDieses Seminar hilft Ihnen wenn\, \n\nSie seit längerer Zeit Schwierigkeiten mit dem Ein- und Durchschlafen haben.\nSie sich am Morgen nicht erholt fühlen.\nSie regelmässig Medikamente aufgrund von Schlafstörungen einnehmen\, aber den Schlaf wieder selber zu beeinflussen möchten.\nSie merken\, dass Sie das Gedankenkarussell am Abend nicht aufhalten können.\nes aufgrund von Stress oder anderen Belastungen zu unguten Verhaltensweisen gekommen ist\, welche einen guten Schlaf stören oder gar verhindern kann.\nSie bereit sind während des Seminars aktiv Ihr Verhalten zu verändern oder es auszuprobieren.\nSie bereit sind\, ein Schlaftagebuch zu führen (max. 10 Minuten/Tag).\n\nDieses Seminar eignet sich weniger\, wenn \n\neine körperliche Erkrankung vorliegt\, welche die Schlaflosigkeit bedingt (kann jedoch mit mir besprochen werden).\nbereits eine andere bekannte körperliche Schlafstörung (wie zum Beispiel Schlafapnoe) vorliegt.\n\nDauer & Format: \n\n4 aufeinander aufbauende Sitzungen à 1\,5 Stunden\nTeilnehmer: Mind. 4 Teilnehmer und max. 10 Teilnehmer\nIn den Kurseinheiten werden Übungen\, soziale Austausche und theoretische Inputs abwechselnd behandelt\nKursunterlagen werden abgegeben\n\nWann:\nDiagnostik:\nUm zu überprüfen\, ob dieses Seminar Sinn macht\, folgt zuerst ein diagnostischer Teil. Denn Schlafprobleme können auch körperliche Ursachen haben\, welche in einem Schlaflabor abgeklärt werden sollten. Die Termine den diagnostischen Teil (Dauer ca. 30 Minuten) werden idealerweise 1-2 Wochen vor dem ersten Gruppentermin online oder vor Ort in meiner Praxis stattfinden. Die Terminvereinbarung erfolgt telefonisch oder per Mail. \nGruppenseminar:\nMittwoch\, 10. Mai 2023 von 18:30 Uhr bis ca. 20:00 Uhr\nMittwoch\, 17. Mai 2023 von 18:30 Uhr bis ca. 20:00 Uhr\nMittwoch\, 24. Mai 2023 von 18:30 Uhr bis ca. 20:00 Uhr\nMittwoch\, 31. Mai 2023 von 18:30 Uhr bis ca. 20:00 Uhr \nWo:\nDas Gruppenseminar findet vor Ort im Bewegungsraum des Medizinischen Zentrums\, Sandgrube 27\, 9050 Appenzell statt. \nKosten:\nDie Kosten belaufen sich auf 320.- CHF (inkl. Kursmaterial)\nSollte im diagnostischen Teil festgestellt werden\, dass eine Teilnahme nicht sinnvoll ist\, dann werden die Kosten zurückerstattet. Jedoch werden 80.- CHF für die Diagnostiksitzung verrechnet. \nAnmeldung:\nPsychotherapie Danica Widmer\nc/o Medizinisches Zentrum Appenzell\nSandgrube 27\n9050 Appenzell \nE-Mail: danica.widmer@psychologie.ch\nTelefon: 079 530 85 57
URL:https://ofpg.ch/veranstaltung/schlafseminar-endlich-schlafen-lernen
LOCATION:Medizinisches Zentrum Appenzell\, Sandgrube 27\, Appenzell\, 9050\, Schweiz
CATEGORIES:Seminare
ORGANIZER;CN="Psychotherapie Danica Widmer":MAILTO:danica.widmer@psychologie.ch
GEO:47.3330916;9.4013303
X-APPLE-STRUCTURED-LOCATION;VALUE=URI;X-ADDRESS=Medizinisches Zentrum Appenzell Sandgrube 27 Appenzell 9050 Schweiz;X-APPLE-RADIUS=500;X-TITLE=Sandgrube 27:geo:9.4013303,47.3330916
END:VEVENT
BEGIN:VEVENT
DTSTART;TZID=Europe/Zurich:20230522T193000
DTEND;TZID=Europe/Zurich:20230522T210000
DTSTAMP:20260425T034415
CREATED:20230216T125939Z
LAST-MODIFIED:20230216T125939Z
UID:10000844-1684783800-1684789200@ofpg.ch
SUMMARY:Referat: In die Natur eintauchen und abschalten
DESCRIPTION:Öffentliches Referat der Reihe „Referat am Montag“: \nIn die Natur eintauchen und abschalten \nEinfach mal innehalten\, tief durchatmen und den Kopf frei bekommen – das geht draussen besonders gut. Gerade Menschen mit einer psychischen Belastung finden im Grün der Natur Abstand zum Alltag und zu den negativen Gedanken\, die eine psychische Erkrankung häufig mit sich bringt. Sich mit Erde\, Holz\, Wasser\, Pflanzen und Tieren zu beschäftigen eröffnet neue Perspektiven. Die Auseinandersetzung mit der Natur hilft dabei\, die seelische\, körperliche und geistige Gesundheit wiederherzustellen\, zu erhalten und zu fördern. \nHeini Zingg und Dominic Scheuring lassen Sie in die farbige Welt des weitläufigen Naturparks der Psychiatrie St.Gallen in Wil eintauchen. Sie zeigen\, wie die Natur die Patientinnen und Patienten inspiriert\, alleine oder in Teamarbeit ausgefallene und verblüffende Projekte und Kunstwerke umzusetzen. Und wie seelisch befreiend und ausgleichend diese Arbeit unter freiem Himmel wirkt. \nReferent \n\nHeini Zingg\, Leiter Naturatelier\nDominic Scheuring\, Stellvertreter Leiter Naturatelier\n\nAnmeldung\nEs sind keine Anmeldungen notwendig.  \nKosten\nDie Kursteilnahme ist gratis. \nProgramm\nFlyer Referat am Montag\, Frühlingsprogramm 2023 \nKursort\n \nWil: \n\nHörsaal beim Restaurant der Psychiatrie St.Gallen\, Restaurant Haus C03\, Zürcherstrasse 30\, 9500 Wil\n\nReferat lieber als Video anschauen?\nDie Veranstaltung wird aufgezeichnet und steht anschliessend online auf www.psychiatrie-sg.ch zur Verfügung. \nKontakt\nPsychiatrie St.Gallen\nEdith Scherer\, Angehörigenberatung\nZürcherstrasse 30\, 9501 Wil\nTelefon +41 58 178 13 00 \nedith.scherer@psychiatrie-sg.ch\nwww.psychiatrie-sg.ch
URL:https://ofpg.ch/veranstaltung/referat-in-die-natur-eintauchen-und-abschalten-1
LOCATION:Psychiatrie St.Gallen\, Zürcherstrasse 30\, Wil\, 9500
CATEGORIES:Referate
ORGANIZER;CN="Psychiatrie St.Gallen":MAILTO:wil@psychiatrie-sg.ch
END:VEVENT
BEGIN:VEVENT
DTSTART;TZID=Europe/Zurich:20230524T180000
DTEND;TZID=Europe/Zurich:20230524T200000
DTSTAMP:20260425T034415
CREATED:20230522T130924Z
LAST-MODIFIED:20230522T132710Z
UID:10000867-1684951200-1684958400@ofpg.ch
SUMMARY:Kurs Recovery College: "LGBTQIA+"
DESCRIPTION:Inhalt \nLGBTQIA+ ist eine aus dem englischen Sprachraum übernommene Abkürzung für Lesbian\, Gay\, Bisexual\, Transgender\, Queer\, Intersexual und Asexual. Das + steht für alle nicht genannten Geschlechtsidentitäten. Zunächst stand LGB für den Zusammenschluss von Personen mit entsprechenden sexuellen Orientierungen im Kampf gegen Diskriminierung. Doch es geht um mehr als eine Bewegung gegen Diskriminierung. Die Begriffe\, welche die sexuelle Identität beschreiben\, sind wichtig für eine wertfreie und akzeptierte Geschlechtsidentität. Im Kurs gehen wir auf die verschiedenen Begrifflichkeiten ein und diskutieren die Bedeutung von sexueller Orientierung und Geschlechtsidentität für die psychische Gesundheit – beispielsweise anhand eines Coming-out. \nVeranstaltungsdaten \nMittwoch 24. Mai 2023\nMittwoch 31. Mai 2023 \nVeranstaltungsort \nPsychiatrie St.Gallen\, Tiefrietstrasse 18\, 7320 Sargans \nModerator \nTobias Müller\, Dipl. Arzt\, Oberarzt\, Abteilungsleiter Aufnahme- und Notfallstation \nKosten \n\nCHF 10 (Basic)\nCHF 30 (Regular)\nCHF 100 (Pro)\n\nAnmeldung\nZum Anmeldeformular (www.psychiatrie-sg.ch) \nAnmeldeschluss\n22. Mai 2023\nDie Anzahl Plätze ist auf 15 begrenzt.
URL:https://ofpg.ch/veranstaltung/kurs-recovery-college-lgbtqia-2
LOCATION:Psychatrie St.Gallen\, Sargans\, Tiefrietstrasse 18\, Sargans\, 7320
CATEGORIES:Kurse
ORGANIZER;CN="Psychiatrie St.Gallen":MAILTO:wil@psychiatrie-sg.ch
END:VEVENT
BEGIN:VEVENT
DTSTART;TZID=Europe/Zurich:20230531T180000
DTEND;TZID=Europe/Zurich:20230531T200000
DTSTAMP:20260425T034415
CREATED:20230522T131128Z
LAST-MODIFIED:20230522T132617Z
UID:10000868-1685556000-1685563200@ofpg.ch
SUMMARY:Kurs Recovery College: "LGBTQIA+"
DESCRIPTION:Inhalt \nLGBTQIA+ ist eine aus dem englischen Sprachraum übernommene Abkürzung für Lesbian\, Gay\, Bisexual\, Transgender\, Queer\, Intersexual und Asexual. Das + steht für alle nicht genannten Geschlechtsidentitäten. Zunächst stand LGB für den Zusammenschluss von Personen mit entsprechenden sexuellen Orientierungen im Kampf gegen Diskriminierung. Doch es geht um mehr als eine Bewegung gegen Diskriminierung. Die Begriffe\, welche die sexuelle Identität beschreiben\, sind wichtig für eine wertfreie und akzeptierte Geschlechtsidentität. Im Kurs gehen wir auf die verschiedenen Begrifflichkeiten ein und diskutieren die Bedeutung von sexueller Orientierung und Geschlechtsidentität für die psychische Gesundheit – beispielsweise anhand eines Coming-out. \nVeranstaltungsdaten \nMittwoch 24. Mai 2023\nMittwoch 31. Mai 2023 \nVeranstaltungsort \nPsychiatrie St.Gallen\, Tiefrietstrasse 18\, 7320 Sargans \nModerator \nTobias Müller\, Dipl. Arzt\, Oberarzt\, Abteilungsleiter Aufnahme- und Notfallstation \nKosten \n\nCHF 10 (Basic)\nCHF 30 (Regular)\nCHF 100 (Pro)\n\nAnmeldung\nZum Anmeldeformular (www.psychiatrie-sg.ch) \nAnmeldeschluss\n22. Mai 2023\nDie Anzahl Plätze ist auf 15 begrenzt.
URL:https://ofpg.ch/veranstaltung/kurs-recovery-college-lgbtqia-3
LOCATION:Psychatrie St.Gallen\, Sargans\, Tiefrietstrasse 18\, Sargans\, 7320
CATEGORIES:Kurse
ORGANIZER;CN="Psychiatrie St.Gallen":MAILTO:wil@psychiatrie-sg.ch
END:VEVENT
END:VCALENDAR