BEGIN:VCALENDAR
VERSION:2.0
PRODID:-//OFPG - ECPv6.15.20//NONSGML v1.0//EN
CALSCALE:GREGORIAN
METHOD:PUBLISH
X-ORIGINAL-URL:https://ofpg.ch
X-WR-CALDESC:Veranstaltungen für OFPG
REFRESH-INTERVAL;VALUE=DURATION:PT1H
X-Robots-Tag:noindex
X-PUBLISHED-TTL:PT1H
BEGIN:VTIMEZONE
TZID:Europe/Zurich
BEGIN:DAYLIGHT
TZOFFSETFROM:+0100
TZOFFSETTO:+0200
TZNAME:CEST
DTSTART:20220327T010000
END:DAYLIGHT
BEGIN:STANDARD
TZOFFSETFROM:+0200
TZOFFSETTO:+0100
TZNAME:CET
DTSTART:20221030T010000
END:STANDARD
BEGIN:DAYLIGHT
TZOFFSETFROM:+0100
TZOFFSETTO:+0200
TZNAME:CEST
DTSTART:20230326T010000
END:DAYLIGHT
BEGIN:STANDARD
TZOFFSETFROM:+0200
TZOFFSETTO:+0100
TZNAME:CET
DTSTART:20231029T010000
END:STANDARD
BEGIN:DAYLIGHT
TZOFFSETFROM:+0100
TZOFFSETTO:+0200
TZNAME:CEST
DTSTART:20240331T010000
END:DAYLIGHT
BEGIN:STANDARD
TZOFFSETFROM:+0200
TZOFFSETTO:+0100
TZNAME:CET
DTSTART:20241027T010000
END:STANDARD
END:VTIMEZONE
BEGIN:VEVENT
DTSTART;TZID=Europe/Zurich:20230606T180000
DTEND;TZID=Europe/Zurich:20230606T200000
DTSTAMP:20260425T021216
CREATED:20230522T132415Z
LAST-MODIFIED:20230612T092326Z
UID:10000870-1686074400-1686081600@ofpg.ch
SUMMARY:Kurs Recovery College: Selbstfürsorge
DESCRIPTION:Inhalt \n«Ich weiss jetzt\, wie ich mir selbst eine gute Freundin sein kann.» \nIm zweiteiligen Kurs lernen Sie\, auf die Signale des Körpers zu achten. Denn Selbstfürsorge ist wichtig\, um die körperliche und seelische Gesundheit zu fördern\, zu erhalten und Krankheiten vorzubeugen. \nPsychisch gesund zu sein ist keine Selbstverständlichkeit. Wie wir für die körperliche Gesundheit Sport treiben oder auf die Ernährung achten\, sollten wir uns auch um die psychische Gesundheit kümmern. Selbstfürsorge bedeutet\, sich die Zeit für Dinge zu nehmen\, die einem gut tun\, um so die seelische\, aber auch die körperliche Gesundheit zu verbessern. Ein selbstfürsorglicher Umgang kann helfen\, mit Stress besser umzugehen und die Lebensenergie zu steigern. Im Kurs setzen wir uns mit verschiedenen Aspekten der Selbstfürsorge auseinander. Wir diskutieren Möglichkeiten und Erfahrungen\, sich um die eigene psychische Gesundheit zu kümmern und setzen einige Beispiele um. \nVeranstaltungsdaten \nDienstag\, 6. Juni 2023\nDienstag\, 13. Juni 2023 \nVeranstalter \nPsychiatrie St.Gallen\, Oberer Graben 32\, 9001 St.Gallen \nVeranstaltungsort \nPsychiatrie St.Gallen\, Tiefrietstrasse 18\, 7320 Sargans \nModeratoren \nThomas Lampert\, MAS in Systemische Beratung und Pädagogik ZSB\, Angehörigenberater\, Recovery/Recovery-College\nRenata Bleichenbacher\, Erwachsenenbildnerin SVEB\, Dozentin \nKosten \n\nCHF 10 (Basic)\nCHF 30 (Regular)\nCHF 100 (Pro)\n\nAnmeldung\nZum Anmeldeformular (www.psychiatrie-sg.ch) \nAnmeldeschluss\n05. Juni 2023\nDie Anzahl Plätze ist auf 15 begrenzt. \nRecovery College Halbjahresprogramm Frühling 2023!
URL:https://ofpg.ch/veranstaltung/kurs-recovery-college-selbstfuersorge
LOCATION:Psychatrie St.Gallen\, Sargans\, Tiefrietstrasse 18\, Sargans\, 7320
CATEGORIES:Kurse
ORGANIZER;CN="Psychiatrie St.Gallen":MAILTO:wil@psychiatrie-sg.ch
END:VEVENT
BEGIN:VEVENT
DTSTART;TZID=Europe/Zurich:20230606T190000
DTEND;TZID=Europe/Zurich:20230606T210000
DTSTAMP:20260425T021216
CREATED:20230522T141844Z
LAST-MODIFIED:20230612T085940Z
UID:10000877-1686078000-1686085200@ofpg.ch
SUMMARY:Gesprächsgruppe Schaan Juni 2023
DESCRIPTION:Betreuende Angehörige erleben im Alltag mit Menschen mit Demenz anspruchsvolle Situationen\, wiederkehrende Belastungen und häufig Isolation. Die Erfahrung zeigt\, dass das Zusammentreffen von „Gleichgesinnten“ dazu führen kann\, – sich nicht alleine zu fühlen\,\n– zu erleben\, dass es anderen ähnlich geht\,\n– zu erfahren\, dass andere mit verschiedenen Zugehensweisen Hilfreiches erlebt haben\,\n– gestärkt aus einem solchen Treffen hinauszugehen. \nDie Gesprächsgruppen sind thematisch jeweils offen. Manchmal widmen sie sich einem Schwerpunkt rund um das Thema Demenz. Dem gegenseitigen Austausch und Ihren Fragen möchten wir immer genügend Zeit einräumen. Die Gruppe soll Ihnen in Ihren Aufgaben und Herausforderungen im Umgang mit an Demenz erkrankten Menschen Anregungen geben und Sie unterstützen und motivieren. Interessante Gespräche mit anderen pflegenden Angehörigen zu führen und eine Atmosphäre zu erleben\, in der wieder einmal gemeinsam gelacht werden kann\, erachten wir als genauso wichtig wie die Vermittlung von Wissen. Die Gruppe ist moderiert und fachlich begleitet. \nDie Gesprächsgruppe ist ein offenes Angebot. Für die Teilnehmenden entsteht keine Verpflichtung; es gibt keine Voraussetzungen zur Teilnahme. Deshalb vereinbaren wir bei jedem einzelnen Termin Verschwiegenheit aller Teilnehmenden zu den besprochenen persönlichen Inhalten. \nCo-Leitung \n\nMatthias Brüstle\, Psychologe\, Absolvent CAS Dementia Care\, GF Demenz Liechtenstein\nRegula Birnstiel\, Sozialarbeiterin\, erfahrene Angehörige zweier an Demenz Erkrankter\n\nNächste Termine (jeweils Dienstag) \nDienstag\, 05. September 2023\nDienstag\, 24. Oktober 2023\nDienstag\, 05. Dezember 2023 \nKosten: Die Teilnahme ist kostenlos. \nDetails: Bitte lesen Sie im Flyer nach. \nVeranstalter: DEMENZ LIECHTENSTEIN\, Im Malarsch 4\, 9494 Schaan \nVeranstaltungsort: Pfarreisaal St. Laurentius\, Reberastrasse 12-14\, 9494 Schaan \nWir bitten vorab um verbindliche Anmeldung (jeweils für einen Abend) per Mail oder 00423 / 793 34 45
URL:https://ofpg.ch/veranstaltung/gespraechsgruppe-schaan-juni-2023
LOCATION:Pfarreisaal St. Laurentius\, Reberastrasse 16\, Schaan FL\, Fürstentum Liechtenstein\, 9494\, Schweiz
CATEGORIES:Veranstaltungen
ORGANIZER;CN="Demenz Liechtenstein":MAILTO:kontakt@demenz.li
GEO:47.1669946;9.5116694
X-APPLE-STRUCTURED-LOCATION;VALUE=URI;X-ADDRESS=Pfarreisaal St. Laurentius Reberastrasse 16 Schaan FL Fürstentum Liechtenstein 9494 Schweiz;X-APPLE-RADIUS=500;X-TITLE=Reberastrasse 16:geo:9.5116694,47.1669946
END:VEVENT
BEGIN:VEVENT
DTSTART;TZID=Europe/Zurich:20230607T180000
DTEND;TZID=Europe/Zurich:20230607T200000
DTSTAMP:20260425T021216
CREATED:20230522T133325Z
LAST-MODIFIED:20230612T114858Z
UID:10000872-1686160800-1686168000@ofpg.ch
SUMMARY:Kurs Recovery College: Power of Life – ein Tanz der Gefühle
DESCRIPTION:Inhalt \n«Die tänzerische Reise hat mir gut getan.» \nDer Kurs beschäftigt sich mit der freien Bewegung und dem Ausdruck der wahren Gefühle – es sind keine Tanzkenntnisse erforderlich. \nDurch Musik\, Bewegung und Tanz in der Gruppe können wir unser seelisches und körperliches Befinden kennen lernen und verändern. In einem geschützten Rahmen kommen wir mit Übungen zur Musik in den Fluss der Bewegung. Dabei begegnen wir neugierig uns selbst und den anderen in ihrer Einmaligkeit. Mit Achtsamkeit und Respekt begeben wir uns auf eine tänzerische Reise durch die Welt der Gefühle und Stimmungen. Es braucht keine Vorkenntnisse\, die Musik bewegt uns weiter\, öffnet für Begegnungen\, macht uns lebendig\, freudig und authentisch. Am Ende fühlen wir uns verbunden mit uns selbst und der Gruppe und können genährt und zufrieden sein. \nVeranstaltungsdaten \nMittwoch\, 07. Juni 2023\nMittwoch\, 14. Juni 2023\nMittwoch\, 21. Juni 2023\nMittwoch\, 28. Juni 2023 \nVeranstalter \nPsychiatrie St.Gallen\, Oberer Graben 32\, 9001 St.Gallen \nVeranstaltungsort \nPsychiatrie St.Gallen\, Tiefrietstrasse 18\, 7320 Sargans \nModeratoren \nKlaus Ehlers\, Dipl. Arzt\, Facharzt Psychosomatische Medizin und Psychotherapie (DE)\, Oberarzt\, Abteilungsleiter Tagesklinik allgemein Heerbrugg\nMomo Weder\, Expertin aus Erfahrung\, Power of Life Coach \nKosten \n\nCHF 10 (Basic)\nCHF 40 (Regular)\nCHF 180 (Pro)\n\nErklärung der Kosten unter Recovery College Halbjahresprogramm Frühling 2023! \nAnmeldung\nZum Anmeldeformular (www.psychiatrie-sg.ch) \nAnmeldeschluss\n05. Juni 2023\nDie Anzahl Plätze ist auf 15 begrenzt.
URL:https://ofpg.ch/veranstaltung/kurs-recovery-college-power-of-life-ein-tanz-der-gefuehle
LOCATION:Psychatrie St.Gallen\, Sargans\, Tiefrietstrasse 18\, Sargans\, 7320
CATEGORIES:Kurse
ORGANIZER;CN="Psychiatrie St.Gallen":MAILTO:wil@psychiatrie-sg.ch
END:VEVENT
BEGIN:VEVENT
DTSTART;TZID=Europe/Zurich:20230610T100000
DTEND;TZID=Europe/Zurich:20230610T100000
DTSTAMP:20260425T021216
CREATED:20230508T145403Z
LAST-MODIFIED:20230522T062834Z
UID:10000856-1686391200-1686391200@ofpg.ch
SUMMARY:Kooperation: Podiumsgespräch in der Lokremise St.Gallen
DESCRIPTION:Zur Entstigmatisierung von Betroffenen und deren Angehörigen \nDer Verein MADNESST ist ein Kollektiv von verrückten Aktivist:innen\, die sich für die Enttabuisierung und Entstigmatisierung psychischer Krisenerfahrungen einsetzen. Dafür entwickeln\, organisieren und führen sie kulturelle Formate durch. Die Hypothese\, welche ihrer Arbeit zugrunde liegt\, lautet:\n„Entstigmatisierung passiert dort\, wo eine authentische Begegnung mit den Stigmatisierten und ihrer Schaffenskraft\, mit ihrer Lebendigkeit und ihrem Menschsein ermöglicht wird.“ \nUnser „Debüt“ ist ein Wander-Format\, in welchem mensch jeweils drei Aktivmitglieder oder Botschafter:innen von MADNESST kennenlernt. Dieses Mal sind dies Martin Fankhauser und Simone Fasnacht. Jenn Unfug führt als Moderator:in durch drei zwanzigminütigen Porträts. Die Betroffenen und Angehörigen geben Einblick in ihr Menschsein\, ihre Auseinandersetzung mit ihrer Psyche und sprechen erstmals vertiefter über das Thema Angehörigkeit.\nWir reclaimen den Begriff „verrückt“ (engl. „mad“) und verneinen somit seine negativ aufgeladene Bedeutung. \nHier ein Interview mit der Gründerin von Madnesst\nhttps://3fach.ch/programm/gsproechstoff/madnesst-enttabuisierung-psychischer-krankheiten \nVeranstaltungsdatum und Veranstaltungsort\nSamstag 10. Juni 2023 – 10:00 Uhr\nKinoK / Lokremise St. Gallen\nAnschliessend Apéro und der Möglichkeit mit Madnesst ins Gespräch zu kommen \nFlyer
URL:https://ofpg.ch/veranstaltung/kooperation-podiumsgespraech-in-der-lokremise-st-gallen
LOCATION:Lokremise St.Gallen\, Grünbergstrasse 7\, St.Gallen\, 9000
CATEGORIES:Veranstaltungen
ORGANIZER;CN="MADNESST":MAILTO:info@madnesst.com
END:VEVENT
BEGIN:VEVENT
DTSTART;TZID=Europe/Zurich:20230613T180000
DTEND;TZID=Europe/Zurich:20230613T200000
DTSTAMP:20260425T021216
CREATED:20230522T132534Z
LAST-MODIFIED:20230612T114823Z
UID:10000871-1686679200-1686686400@ofpg.ch
SUMMARY:Kurs Recovery College: Selbstfürsorge
DESCRIPTION:Inhalt \n«Ich weiss jetzt\, wie ich mir selbst eine gute Freundin sein kann.» \nIm zweiteiligen Kurs lernen Sie\, auf die Signale des Körpers zu achten. Denn Selbstfürsorge ist wichtig\, um die körperliche und seelische Gesundheit zu fördern\, zu erhalten und Krankheiten vorzubeugen. \nPsychisch gesund zu sein ist keine Selbstverständlichkeit. Wie wir für die körperliche Gesundheit Sport treiben oder auf die Ernährung achten\, sollten wir uns auch um die psychische Gesundheit kümmern. Selbstfürsorge bedeutet\, sich die Zeit für Dinge zu nehmen\, die einem gut tun\, um so die seelische\, aber auch die körperliche Gesundheit zu verbessern. Ein selbstfürsorglicher Umgang kann helfen\, mit Stress besser umzugehen und die Lebensenergie zu steigern. Im Kurs setzen wir uns mit verschiedenen Aspekten der Selbstfürsorge auseinander. Wir diskutieren Möglichkeiten und Erfahrungen\, sich um die eigene psychische Gesundheit zu kümmern und setzen einige Beispiele um. \nVeranstaltungsdaten \nDienstag\, 6. Juni 2023\nDienstag\, 13. Juni 2023 \nVeranstalter \nPsychiatrie St.Gallen\, Oberer Graben 32\, 9001 St.Gallen \nVeranstaltungsort \nPsychiatrie St.Gallen\, Tiefrietstrasse 18\, 7320 Sargans \nModeratoren \nThomas Lampert\, MAS in Systemische Beratung und Pädagogik ZSB\, Angehörigenberater\, Recovery/Recovery-College\nRenata Bleichenbacher\, Erwachsenenbildnerin SVEB\, Dozentin \nKosten \n\nCHF 10 (Basic)\nCHF 30 (Regular)\nCHF 100 (Pro)\n\nErklärung der Kosten unter Recovery College Halbjahresprogramm Frühling 2023! \nAnmeldung\nZum Anmeldeformular (www.psychiatrie-sg.ch) \nAnmeldeschluss\n05. Juni 2023\nDie Anzahl Plätze ist auf 15 begrenzt.
URL:https://ofpg.ch/veranstaltung/kurs-recovery-college-selbstfuersorge-2
LOCATION:Psychatrie St.Gallen\, Sargans\, Tiefrietstrasse 18\, Sargans\, 7320
CATEGORIES:Kurse
ORGANIZER;CN="Psychiatrie St.Gallen":MAILTO:wil@psychiatrie-sg.ch
END:VEVENT
BEGIN:VEVENT
DTSTART;TZID=Europe/Zurich:20230614T180000
DTEND;TZID=Europe/Zurich:20230614T200000
DTSTAMP:20260425T021216
CREATED:20230522T133427Z
LAST-MODIFIED:20230612T114517Z
UID:10000873-1686765600-1686772800@ofpg.ch
SUMMARY:Kurs Recovery College: Power of Life – ein Tanz der Gefühle
DESCRIPTION:Inhalt \n«Die tänzerische Reise hat mir gut getan.» \nDer Kurs beschäftigt sich mit der freien Bewegung und dem Ausdruck der wahren Gefühle – es sind keine Tanzkenntnisse erforderlich. \nDurch Musik\, Bewegung und Tanz in der Gruppe können wir unser seelisches und körperliches Befinden kennen lernen und verändern. In einem geschützten Rahmen kommen wir mit Übungen zur Musik in den Fluss der Bewegung. Dabei begegnen wir neugierig uns selbst und den anderen in ihrer Einmaligkeit. Mit Achtsamkeit und Respekt begeben wir uns auf eine tänzerische Reise durch die Welt der Gefühle und Stimmungen. Es braucht keine Vorkenntnisse\, die Musik bewegt uns weiter\, öffnet für Begegnungen\, macht uns lebendig\, freudig und authentisch. Am Ende fühlen wir uns verbunden mit uns selbst und der Gruppe und können genährt und zufrieden sein. \nVeranstaltungsdaten \nMittwoch\, 07. Juni 2023\nMittwoch\, 14. Juni 2023\nMittwoch\, 21. Juni 2023\nMittwoch\, 28. Juni 2023 \nVeranstaltungsort \nPsychiatrie St.Gallen\, Tiefrietstrasse 18\, 7320 Sargans \nModeratoren \nKlaus Ehlers\, Dipl. Arzt\, Facharzt Psychosomatische Medizin und Psychotherapie (DE)\, Oberarzt\, Abteilungsleiter Tagesklinik allgemein Heerbrugg\nMomo Weder\, Expertin aus Erfahrung\, Power of Life Coach \nKosten \n\nCHF 10 (Basic)\nCHF 40 (Regular)\nCHF 180 (Pro)\n\nErklärung der Kosten unter Recovery College Halbjahresprogramm Frühling 2023! \nAnmeldung\nZum Anmeldeformular (www.psychiatrie-sg.ch) \nAnmeldeschluss\n05. Juni 2023\nDie Anzahl Plätze ist auf 15 begrenzt.
URL:https://ofpg.ch/veranstaltung/kurs-recovery-college-power-of-life-ein-tanz-der-gefuehle-2
LOCATION:Psychatrie St.Gallen\, Sargans\, Tiefrietstrasse 18\, Sargans\, 7320
CATEGORIES:Kurse
ORGANIZER;CN="Psychiatrie St.Gallen":MAILTO:wil@psychiatrie-sg.ch
END:VEVENT
BEGIN:VEVENT
DTSTART;TZID=Europe/Zurich:20230621T180000
DTEND;TZID=Europe/Zurich:20230621T200000
DTSTAMP:20260425T021216
CREATED:20230522T133527Z
LAST-MODIFIED:20230612T114741Z
UID:10000874-1687370400-1687377600@ofpg.ch
SUMMARY:Kurs Recovery College: Power of Life – ein Tanz der Gefühle
DESCRIPTION:Inhalt \n«Die tänzerische Reise hat mir gut getan.» \nDer Kurs beschäftigt sich mit der freien Bewegung und dem Ausdruck der wahren Gefühle – es sind keine Tanzkenntnisse erforderlich. \nDurch Musik\, Bewegung und Tanz in der Gruppe können wir unser seelisches und körperliches Befinden kennen lernen und verändern. In einem geschützten Rahmen kommen wir mit Übungen zur Musik in den Fluss der Bewegung. Dabei begegnen wir neugierig uns selbst und den anderen in ihrer Einmaligkeit. Mit Achtsamkeit und Respekt begeben wir uns auf eine tänzerische Reise durch die Welt der Gefühle und Stimmungen. Es braucht keine Vorkenntnisse\, die Musik bewegt uns weiter\, öffnet für Begegnungen\, macht uns lebendig\, freudig und authentisch. Am Ende fühlen wir uns verbunden mit uns selbst und der Gruppe und können genährt und zufrieden sein. \nVeranstaltungsdaten \nMittwoch\, 07. Juni 2023\nMittwoch\, 14. Juni 2023\nMittwoch\, 21. Juni 2023\nMittwoch\, 28. Juni 2023 \nVeranstalter \nPsychiatrie St.Gallen\, Oberer Graben 32\, 9001 St.Gallen \nVeranstaltungsort \nPsychiatrie St.Gallen\, Tiefrietstrasse 18\, 7320 Sargans \nModeratoren \nKlaus Ehlers\, Dipl. Arzt\, Facharzt Psychosomatische Medizin und Psychotherapie (DE)\, Oberarzt\, Abteilungsleiter Tagesklinik allgemein Heerbrugg\nMomo Weder\, Expertin aus Erfahrung\, Power of Life Coach \nKosten \n\nCHF 10 (Basic)\nCHF 40 (Regular)\nCHF 180 (Pro)\n\nErklärung der Kosten unter Recovery College Halbjahresprogramm Frühling 2023! \nAnmeldung\nZum Anmeldeformular (www.psychiatrie-sg.ch) \nAnmeldeschluss\n05. Juni 2023\nDie Anzahl Plätze ist auf 15 begrenzt.
URL:https://ofpg.ch/veranstaltung/kurs-recovery-college-power-of-life-ein-tanz-der-gefuehle-3
LOCATION:Psychatrie St.Gallen\, Sargans\, Tiefrietstrasse 18\, Sargans\, 7320
CATEGORIES:Kurse
ORGANIZER;CN="Psychiatrie St.Gallen":MAILTO:wil@psychiatrie-sg.ch
END:VEVENT
BEGIN:VEVENT
DTSTART;TZID=Europe/Zurich:20230628T180000
DTEND;TZID=Europe/Zurich:20230628T200000
DTSTAMP:20260425T021216
CREATED:20230522T133612Z
LAST-MODIFIED:20230612T114705Z
UID:10000875-1687975200-1687982400@ofpg.ch
SUMMARY:Kurs Recovery College: Power of Life – ein Tanz der Gefühle
DESCRIPTION:Inhalt \n«Die tänzerische Reise hat mir gut getan.» \nDer Kurs beschäftigt sich mit der freien Bewegung und dem Ausdruck der wahren Gefühle – es sind keine Tanzkenntnisse erforderlich. \nDurch Musik\, Bewegung und Tanz in der Gruppe können wir unser seelisches und körperliches Befinden kennen lernen und verändern. In einem geschützten Rahmen kommen wir mit Übungen zur Musik in den Fluss der Bewegung. Dabei begegnen wir neugierig uns selbst und den anderen in ihrer Einmaligkeit. Mit Achtsamkeit und Respekt begeben wir uns auf eine tänzerische Reise durch die Welt der Gefühle und Stimmungen. Es braucht keine Vorkenntnisse\, die Musik bewegt uns weiter\, öffnet für Begegnungen\, macht uns lebendig\, freudig und authentisch. Am Ende fühlen wir uns verbunden mit uns selbst und der Gruppe und können genährt und zufrieden sein. \nVeranstaltungsdaten \nMittwoch\, 07. Juni 2023\nMittwoch\, 14. Juni 2023\nMittwoch\, 21. Juni 2023\nMittwoch\, 28. Juni 2023 \nVeranstalter \nPsychiatrie St.Gallen\, Oberer Graben 32\, 9001 St.Gallen \nVeranstaltungsort \nPsychiatrie St.Gallen\, Tiefrietstrasse 18\, 7320 Sargans \nModeratoren \nKlaus Ehlers\, Dipl. Arzt\, Facharzt Psychosomatische Medizin und Psychotherapie (DE)\, Oberarzt\, Abteilungsleiter Tagesklinik allgemein Heerbrugg\nMomo Weder\, Expertin aus Erfahrung\, Power of Life Coach \nKosten \n\nCHF 10 (Basic)\nCHF 40 (Regular)\nCHF 180 (Pro)\n\nErklärung der Kosten unter Recovery College Halbjahresprogramm Frühling 2023! \nAnmeldung\nZum Anmeldeformular (www.psychiatrie-sg.ch) \nAnmeldeschluss\n05. Juni 2023\nDie Anzahl Plätze ist auf 15 begrenzt.
URL:https://ofpg.ch/veranstaltung/kurs-recovery-college-power-of-life-ein-tanz-der-gefuehle-4
LOCATION:Psychatrie St.Gallen\, Sargans\, Tiefrietstrasse 18\, Sargans\, 7320
CATEGORIES:Kurse
ORGANIZER;CN="Psychiatrie St.Gallen":MAILTO:wil@psychiatrie-sg.ch
END:VEVENT
BEGIN:VEVENT
DTSTART;TZID=Europe/Zurich:20230629T180000
DTEND;TZID=Europe/Zurich:20230629T200000
DTSTAMP:20260425T021216
CREATED:20230522T134149Z
LAST-MODIFIED:20230612T114629Z
UID:10000876-1688061600-1688068800@ofpg.ch
SUMMARY:Kurs Recovery College: Gesundheit!
DESCRIPTION:Inhalt \n«Man kann die Dinge so oder so sehen.» \nWas ist eine Krankheit und wie gehen wir mit einer Diagnose um? Im Kurs erhalten Sie praktische Tipps. \nKrankheitsbilder gibt es viele. Und alle werden über eine Diagnose definiert. Diese Zuordnung der eigenen Beschwerden zu einer definierten Krankheit kann entlastend wirken\, denn sie zeigt\, dass man nicht als einzige Person davon betroffen ist. Zudem können Heilungschancen ausgesprochen werden. Andererseits kann eine Diagnose defizitorientiert wirken\, da nur noch das betrachtet wird\, was nicht mehr funktioniert. Kranke Menschen sind aber viel mehr als nur ihre Depression\, ihr Diabetes oder ihre Grippe. Im Kurs setzen wir uns mit den Begriffen von «Gesundheit» und «Krankheit» auseinander und erörtern ressourcenorientierte Ansätze\, um gesundheitliche Einschränkungen aus einer anderen Perspektive zu betrachten. \nVeranstaltungsdaten \nDonnerstag\, 29. Juni 2023 \nVeranstalter \nPsychiatrie St.Gallen\, Oberer Graben 32\, 9001 St.Gallen \nVeranstaltungsort \nPsychiatrie St.Gallen\, Tiefrietstrasse 18\, 7320 Sargans \nModeratoren \nThomas Lampert\, MAS in Systemische Beratung und Pädagogik ZSB\, Angehörigenberater\, Recovery/Recovery-College\nRenata Bleichenbacher\, Erwachsenenbildnerin SVEB\, Dozentin \nKosten \n\nCHF 5 (Basic)\nCHF 10 (Regular)\nCHF 30 (Pro)\n\nErklärung der Kosten unter Recovery College Halbjahresprogramm Frühling 2023! \nAnmeldung\nZum Anmeldeformular (www.psychiatrie-sg.ch) \nAnmeldeschluss\n27. Juni 2023\nDie Anzahl Plätze ist auf 15 begrenzt.
URL:https://ofpg.ch/veranstaltung/kurs-recovery-college-gesundheit
LOCATION:Psychatrie St.Gallen\, Sargans\, Tiefrietstrasse 18\, Sargans\, 7320
CATEGORIES:Kurse
ORGANIZER;CN="Psychiatrie St.Gallen":MAILTO:wil@psychiatrie-sg.ch
END:VEVENT
BEGIN:VEVENT
DTSTART;TZID=Europe/Zurich:20230630T083000
DTEND;TZID=Europe/Zurich:20230701T120000
DTSTAMP:20260425T021216
CREATED:20230522T120433Z
LAST-MODIFIED:20230612T090915Z
UID:10000858-1688113800-1688212800@ofpg.ch
SUMMARY:Konferenz: "Meine Gesundheit\, unser Klima"
DESCRIPTION:Meine Gesundheit\, unser Klima \nWie wirkt sich die Klimakrise auf unsere körperliche und psychische Gesundheit aus? Welche Massnahmen braucht es\, damit wir und die Umwelt gesund bleiben? Diesen und weiteren Fragen widmet sich das erste Liechtensteiner ZukunftsForum Alpen am 30. Juni und 1. Juli 2023 in Schaan unter dem Titel «Meine Gesundheit\, unser Klima». \nHitzesommer\, Felsstürze\, Krankheiten: Die Auswirkungen der Klimakrise bedrohen zunehmend unsere Gesundheit. Der Alpenraum ist von der Klimaerhitzung stark betroffen. Die Folgen können von Herzkreislaufproblemen\, Allergien\, Infektionskrankheiten bis hin zu Angstzuständen und Depressionen reichen. Gleichzeitig bietet der Alpenraum mit seinen einzigartigen Naturlandschaften\, den verschiedenen Höhenlagen und teilweise dünnbesiedelten Räumen ein enormes Potenzial für die Gesundheit. Zwischen Gesundheitsförderung und Klimaschutz gibt es zudem zahlreiche Synergien\, die es zu nutzen gilt. An der internationalen Konferenz diskutieren die Teilnehmenden\, welche Risiken und Nebenwirkungen die Klimakrise auf unsere Gesundheit in den Alpen hat und wie wir diese am besten erhalten. \nVeranstalter: \nLiechtensteiner ZukunftsForum Alpen \nVeranstaltungsdaten und Ort: \n30. Juni & 1. Juli 2023 / SAL – Saal am Lindaplatz\, Schaan \nKosten \n\nRegulär CHF 120.- / EUR 120.- für Freitag\, 30. Juni 2023\nReduziert CHF 80.- / EUR 80.- für Studierende und Rentenbezüger:innen für Freitag\, 30. Juni 2023\nNext-Gen Ticket für CHF 200.- / EUR 200.- für Freitag\, 30. Juni 2023 (Mit diesem Ticket unterstützen Sie eine junge Person in Ausbildung unter 30\, welche dank dem Kauf dieses Tickets kostenlos teilnehmen kann)\nTeilnahme Samstag\, 1. Juli 2023\, kostenlos\n\nNähere Informationen der Veranstaltung \nWebsite / Programm \nAnmeldeschluss\nOnline bis 18. Juni 2023 unter Anmeldung \n 
URL:https://ofpg.ch/veranstaltung/konferenz-meine-gesundheit-unser-klima
LOCATION:SAL – Saal am Lindaplatz\, Landstrasse 19\, Schaan\, 9494
CATEGORIES:Fachtagung
END:VEVENT
END:VCALENDAR