BEGIN:VCALENDAR
VERSION:2.0
PRODID:-//OFPG - ECPv6.15.20//NONSGML v1.0//EN
CALSCALE:GREGORIAN
METHOD:PUBLISH
X-ORIGINAL-URL:https://ofpg.ch
X-WR-CALDESC:Veranstaltungen für OFPG
REFRESH-INTERVAL;VALUE=DURATION:PT1H
X-Robots-Tag:noindex
X-PUBLISHED-TTL:PT1H
BEGIN:VTIMEZONE
TZID:Europe/Zurich
BEGIN:DAYLIGHT
TZOFFSETFROM:+0100
TZOFFSETTO:+0200
TZNAME:CEST
DTSTART:20220327T010000
END:DAYLIGHT
BEGIN:STANDARD
TZOFFSETFROM:+0200
TZOFFSETTO:+0100
TZNAME:CET
DTSTART:20221030T010000
END:STANDARD
BEGIN:DAYLIGHT
TZOFFSETFROM:+0100
TZOFFSETTO:+0200
TZNAME:CEST
DTSTART:20230326T010000
END:DAYLIGHT
BEGIN:STANDARD
TZOFFSETFROM:+0200
TZOFFSETTO:+0100
TZNAME:CET
DTSTART:20231029T010000
END:STANDARD
BEGIN:DAYLIGHT
TZOFFSETFROM:+0100
TZOFFSETTO:+0200
TZNAME:CEST
DTSTART:20240331T010000
END:DAYLIGHT
BEGIN:STANDARD
TZOFFSETFROM:+0200
TZOFFSETTO:+0100
TZNAME:CET
DTSTART:20241027T010000
END:STANDARD
END:VTIMEZONE
BEGIN:VEVENT
DTSTART;TZID=Europe/Zurich:20231108T130000
DTEND;TZID=Europe/Zurich:20231108T170000
DTSTAMP:20260425T033506
CREATED:20230612T081736Z
LAST-MODIFIED:20230615T090446Z
UID:10000883-1699448400-1699462800@ofpg.ch
SUMMARY:Vergünstigter ensa - Kurs Fokus Jugendliche / St.Gallen
DESCRIPTION:Die Kantone St.Gallen\, Appenzell Ausserhoden\, Appenzell Innerhoden und das Fürstentum Liechtenstein unterstützen weitere ensa Erste-Hilfe-Kurse für den guten Umgang mit Jugendlichen in einer psychischen Krise mit einem finanziellen Beitrag. Das Angebot richtet sich an Personen aus dem Kanton St. Gallen\, die mit Kindern oder Jugendlichen arbeiten und in psychischen Notsituationen erste Hilfe leisten möchten. Die Kosten pro Kursteilnehmer belaufen sich auf lediglich CHF 80.- anstelle CHF 450.-. \nDie psychische Gesundheit von Kindern und Jugendlichen ist durch Ereignisse wie die Pandemie\, den Krieg in der Ukraine und weiterer Faktoren stark belastet. Veränderungen im Alltag\, Erschwernisse im Schulbereich\, der Wegfall von Freizeitmöglichkeiten sowie finanzielle und gesundheitliche Sorgen in den Familien führten dazu\, dass viele junge Menschen unter Angstgefühlen leiden\, wütend sind und voller Sorgen in ihre Zukunft schauen. An ensa-Kursen lernen Personen\, die mit Kindern oder Jugendlichen arbeiten\, wie sie im Falle einer psychischen Krise erste Hilfe leisten können. \nTermine \n08./15./22./29. November 2023\, um 13:00 – 17:00 Uhr \nVeranstaltungsort\nZEPRA\, Schulungsraum\, Unterstrasse 22\, 9001 St.Gallen \nLeitung\nTânia Soares \nKosten\nCHF 80.- (bitte verwenden sie den Gutscheincode bei der Anmeldung) \nGutscheincode\nDie Kantone SG\, AR\, AI und FL finanzieren den Kurs mit\, so dass er zu einem reduzierten Tarif besucht werden kann. Um den Gutscheincode im Wert von CHF 370.- zu erhalten\, füllen Sie bitte das Kontaktformular auf folgender Seite aus: https://ofpg.ch/2022/05/ensa-2023 \nAnmeldung\nAnmeldelink (www.ensa.swiss.ch)
URL:https://ofpg.ch/veranstaltung/verguenstigter-ensa-kurs-fokus-jugendliche-st-gallen-3
LOCATION:ZEPRA St.Gallen\, Unterstrasse 22\, St.Gallen\, 9001\, Schweiz
CATEGORIES:Kurse
ORGANIZER;CN="Ostschweizer Forum f%C3%BCr Psychische Gesundheit":MAILTO:info@ofpg.ch
GEO:47.4194816;9.3681492
X-APPLE-STRUCTURED-LOCATION;VALUE=URI;X-ADDRESS=ZEPRA St.Gallen Unterstrasse 22 St.Gallen 9001 Schweiz;X-APPLE-RADIUS=500;X-TITLE=Unterstrasse 22:geo:9.3681492,47.4194816
END:VEVENT
BEGIN:VEVENT
DTSTART;TZID=Europe/Zurich:20231123T183000
DTEND;TZID=Europe/Zurich:20231123T200000
DTSTAMP:20260425T033506
CREATED:20230809T123257Z
LAST-MODIFIED:20230906T072640Z
UID:10000905-1700764200-1700769600@ofpg.ch
SUMMARY:Kurs Recovery College: "Blickpunkte Psychiatrie erklärt" - Psychotherapie/Musiktherapie
DESCRIPTION:Monatliches Informations- und Diskussionsforum. \nEs werden jeweils zwei Blickpunkte vorgestellt (verschiedene Therapieformen\, Behandlungsschwerpunkte etc.). Im Anschluss können Fragestellungen von Teilnehmerinnen und Teilnehmer einfliessen und gemeinsam diskutiert werden. \nInhalt \nBlickpunkt 1: Was ist Psychotherapie?\nKeti Simmen\, Leitende Psychologin\, Psychiatrie St.Gallen \nBlickpunkt 2: Musiktherapie\nKarin Hellemann\, Musiktherapeutin\, Psychiatrie St.Gallen \nVeranstaltungsdatum/Uhrzeit \n\nDonnerstag\, 23. November 2023\, 18.30 bis 20.00 Uhr\n\nVeranstaltungsort \nPsychiatrie St.Gallen (Klinik St.Pirminsberg)\, Klosterweg 1\, Gebäude A6A\, 7312 Pfäfers \nAnmeldung \nEs sind keine Anmeldungen notwendig.  \nKosten \nDie Teilnahme ist gratis. \nInformationen \nThomas Lampert\, Koordinator Prävention und Angehörigenarbeit\, Psychiatrie St.Gallen
URL:https://ofpg.ch/veranstaltung/kurs-recovery-college-blickpunkte-psychiatrie-erklaert-psychotherapie-musiktherapie
LOCATION:Psychiatrie St.Gallen\, Klinik St.Pirminsberg\, Klosterweg 1\, Pfäfers\, St. Gallen\, 7312\, Schweiz
CATEGORIES:Veranstaltungen
ORGANIZER;CN="Psychiatrie St.Gallen":MAILTO:wil@psychiatrie-sg.ch
END:VEVENT
BEGIN:VEVENT
DTSTART;TZID=Europe/Zurich:20231125T080000
DTEND;TZID=Europe/Zurich:20231125T170000
DTSTAMP:20260425T033506
CREATED:20230612T082116Z
LAST-MODIFIED:20230615T090352Z
UID:10000884-1700899200-1700931600@ofpg.ch
SUMMARY:Vergünstigter ensa - Kurs Fokus Jugendliche / St.Gallen
DESCRIPTION:Die Kantone St.Gallen\, Appenzell Ausserhoden\, Appenzell Innerhoden und das Fürstentum Liechtenstein unterstützen weitere ensa Erste-Hilfe-Kurse für den guten Umgang mit Jugendlichen in einer psychischen Krise mit einem finanziellen Beitrag. Das Angebot richtet sich an Personen aus dem Kanton St. Gallen\, die mit Kindern oder Jugendlichen arbeiten und in psychischen Notsituationen erste Hilfe leisten möchten. Die Kosten pro Kursteilnehmer belaufen sich auf lediglich CHF 80.- anstelle CHF 450.-. \nDie psychische Gesundheit von Kindern und Jugendlichen ist durch Ereignisse wie die Pandemie\, den Krieg in der Ukraine und weiterer Faktoren stark belastet. Veränderungen im Alltag\, Erschwernisse im Schulbereich\, der Wegfall von Freizeitmöglichkeiten sowie finanzielle und gesundheitliche Sorgen in den Familien führten dazu\, dass viele junge Menschen unter Angstgefühlen leiden\, wütend sind und voller Sorgen in ihre Zukunft schauen. An ensa-Kursen lernen Personen\, die mit Kindern oder Jugendlichen arbeiten\, wie sie im Falle einer psychischen Krise erste Hilfe leisten können. \nTermine \n25. November 2023\, um 08:00 – 12:00 Uhr + 13:00 – 17:00 Uhr\, 02. Dezember 2023\, um 08:00 – 12:00 Uhr + 13:00 – 17:00 Uhr \nVeranstaltungsort\nZEPRA\, Schulungsraum\, Unterstrasse 22\, 9001 St.Gallen \nLeitung\nTânia Soares \nKosten\nCHF 80.- (bitte verwenden sie den Gutscheincode bei der Anmeldung) \nGutscheincode\nDie Kantone SG\, AR\, AI und FL finanzieren den Kurs mit\, so dass er zu einem reduzierten Tarif besucht werden kann. Um den Gutscheincode im Wert von CHF 370.- zu erhalten\, füllen Sie bitte das Kontaktformular auf folgender Seite aus: https://ofpg.ch/2022/05/ensa-2023 \nAnmeldung\nAnmeldelink (www.ensa.swiss.ch)
URL:https://ofpg.ch/veranstaltung/verguenstigter-ensa-kurs-fokus-jugendliche-st-gallen-4
LOCATION:ZEPRA St.Gallen\, Unterstrasse 22\, St.Gallen\, 9001\, Schweiz
CATEGORIES:Kurse
ORGANIZER;CN="Ostschweizer Forum f%C3%BCr Psychische Gesundheit":MAILTO:info@ofpg.ch
GEO:47.4194816;9.3681492
X-APPLE-STRUCTURED-LOCATION;VALUE=URI;X-ADDRESS=ZEPRA St.Gallen Unterstrasse 22 St.Gallen 9001 Schweiz;X-APPLE-RADIUS=500;X-TITLE=Unterstrasse 22:geo:9.3681492,47.4194816
END:VEVENT
BEGIN:VEVENT
DTSTART;TZID=Europe/Zurich:20231127T193000
DTEND;TZID=Europe/Zurich:20231127T210000
DTSTAMP:20260425T033506
CREATED:20230808T082506Z
LAST-MODIFIED:20230808T082506Z
UID:10000890-1701113400-1701118800@ofpg.ch
SUMMARY:Referat: Verletzlichkeit als Quelle innerer Stärke
DESCRIPTION:Öffentliches Referat der Reihe „Referat am Montag“: \nVerletzlichkeit als Quelle innerer Stärke \nDie Verletzlichkeit gehört zum Menschsein dazu\, denn letztlich ist jedes Leben endlich. Allerdings wird sie oft als Schwäche angesehen: Wer verletzlich ist\, gilt als schutzlos und ausgeliefert. Dennoch birgt die Akzeptanz der eigenen Verletzlichkeit auch eine innere Stärke. Ein Blick auf die Geschichte der Philosophie und Religion verdeutlicht\, wie sich der Umgang mit Verletzlichkeit im Laufe der Jahrhunderte verändert hat. \nMeret Engel\, Seelsorgerin\, zeigt\, wie wir aus diesem Wandel Erkenntnisse gewinnen können\, um die eigene Verletzlichkeit anzunehmen. Und sie erklärt\, dass dies zu innerer Stärke führen kann und somit zu einem ganzheitlichen\, kreativen und sinnerfüllten Leben beiträgt. \nReferent \n\nMeret Engel\, Seelsorgerin\n\nAnmeldung\nEs sind keine Anmeldungen notwendig.  \nKosten\nDie Teilnahme ist gratis. \nProgramm\nFlyer Referat am Montag\, Herbstprogramm 2023 \nKursort\n \nWil: \n\nHörsaal beim Restaurant der Psychiatrie St.Gallen\, Restaurant Haus C03\, Zürcherstrasse 30\, 9500 Wil\n\nReferat lieber als Video anschauen?\nDie Veranstaltung wird aufgezeichnet und steht anschliessend online auf www.psychiatrie-sg.ch zur Verfügung. \nKontakt\nPsychiatrie St.Gallen\nEdith Scherer\, Angehörigenberatung\nZürcherstrasse 30\, 9501 Wil\nTelefon +41 58 178 13 00 \nedith.scherer@psychiatrie-sg.ch\nwww.psychiatrie-sg.ch
URL:https://ofpg.ch/veranstaltung/referat-verletzlichkeit-als-quelle-innerer-staerke
LOCATION:Psychiatrie St.Gallen\, Zürcherstrasse 30\, Wil\, 9500
CATEGORIES:Referate
ORGANIZER;CN="Psychiatrie St.Gallen":MAILTO:wil@psychiatrie-sg.ch
END:VEVENT
END:VCALENDAR