BEGIN:VCALENDAR
VERSION:2.0
PRODID:-//OFPG - ECPv6.15.20//NONSGML v1.0//EN
CALSCALE:GREGORIAN
METHOD:PUBLISH
X-WR-CALNAME:OFPG
X-ORIGINAL-URL:https://ofpg.ch
X-WR-CALDESC:Veranstaltungen für OFPG
REFRESH-INTERVAL;VALUE=DURATION:PT1H
X-Robots-Tag:noindex
X-PUBLISHED-TTL:PT1H
BEGIN:VTIMEZONE
TZID:Europe/Zurich
BEGIN:DAYLIGHT
TZOFFSETFROM:+0100
TZOFFSETTO:+0200
TZNAME:CEST
DTSTART:20220327T010000
END:DAYLIGHT
BEGIN:STANDARD
TZOFFSETFROM:+0200
TZOFFSETTO:+0100
TZNAME:CET
DTSTART:20221030T010000
END:STANDARD
BEGIN:DAYLIGHT
TZOFFSETFROM:+0100
TZOFFSETTO:+0200
TZNAME:CEST
DTSTART:20230326T010000
END:DAYLIGHT
BEGIN:STANDARD
TZOFFSETFROM:+0200
TZOFFSETTO:+0100
TZNAME:CET
DTSTART:20231029T010000
END:STANDARD
BEGIN:DAYLIGHT
TZOFFSETFROM:+0100
TZOFFSETTO:+0200
TZNAME:CEST
DTSTART:20240331T010000
END:DAYLIGHT
BEGIN:STANDARD
TZOFFSETFROM:+0200
TZOFFSETTO:+0100
TZNAME:CET
DTSTART:20241027T010000
END:STANDARD
END:VTIMEZONE
BEGIN:VEVENT
DTSTART;TZID=Europe/Zurich:20231205T190000
DTEND;TZID=Europe/Zurich:20231205T210000
DTSTAMP:20260425T051048
CREATED:20230522T142412Z
LAST-MODIFIED:20230612T085320Z
UID:10000880-1701802800-1701810000@ofpg.ch
SUMMARY:Gesprächsgruppe Schaan Dezember 2023
DESCRIPTION:Betreuende Angehörige erleben im Alltag mit Menschen mit Demenz anspruchsvolle Situationen\, wiederkehrende Belastungen und häufig Isolation. Die Erfahrung zeigt\, dass das Zusammentreffen von „Gleichgesinnten“ dazu führen kann\, – sich nicht alleine zu fühlen\,\n– zu erleben\, dass es anderen ähnlich geht\,\n– zu erfahren\, dass andere mit verschiedenen Zugehensweisen Hilfreiches erlebt haben\,\n– gestärkt aus einem solchen Treffen hinauszugehen. \nDie Gesprächsgruppen sind thematisch jeweils offen. Manchmal widmen sie sich einem Schwerpunkt rund um das Thema Demenz. Dem gegenseitigen Austausch und Ihren Fragen möchten wir immer genügend Zeit einräumen. Die Gruppe soll Ihnen in Ihren Aufgaben und Herausforderungen im Umgang mit an Demenz erkrankten Menschen Anregungen geben und Sie unterstützen und motivieren. Interessante Gespräche mit anderen pflegenden Angehörigen zu führen und eine Atmosphäre zu erleben\, in der wieder einmal gemeinsam gelacht werden kann\, erachten wir als genauso wichtig wie die Vermittlung von Wissen. Die Gruppe ist moderiert und fachlich begleitet. \nDie Gesprächsgruppe ist ein offenes Angebot. Für die Teilnehmenden entsteht keine Verpflichtung; es gibt keine Voraussetzungen zur Teilnahme. Deshalb vereinbaren wir bei jedem einzelnen Termin Verschwiegenheit aller Teilnehmenden zu den besprochenen persönlichen Inhalten. \nCo-Leitung \n\nMatthias Brüstle\, Psychologe\, Absolvent CAS Dementia Care\, GF Demenz Liechtenstein\nRegula Birnstiel\, Sozialarbeiterin\, erfahrene Angehörige zweier an Demenz Erkrankter\n\nKosten: Die Teilnahme ist kostenlos. \nDetails: Bitte lesen Sie im Flyer nach. \nVeranstalter: DEMENZ LIECHTENSTEIN\, Im Malarsch 4\, 9494 Schaan \nVeranstaltungsort: Pfarreisaal St. Laurentius\, Reberastrasse 12-14\, 9494 Schaan \nWir bitten vorab um verbindliche Anmeldung (jeweils für einen Abend) per Mail oder 00423 / 793 34 45
URL:https://ofpg.ch/veranstaltung/gespraechsgruppe-schaan-dezember-2023
LOCATION:Pfarreisaal St. Laurentius\, Reberastrasse 16\, Schaan FL\, Fürstentum Liechtenstein\, 9494\, Schweiz
CATEGORIES:Veranstaltungen
ORGANIZER;CN="Demenz Liechtenstein":MAILTO:kontakt@demenz.li
GEO:47.1669946;9.5116694
X-APPLE-STRUCTURED-LOCATION;VALUE=URI;X-ADDRESS=Pfarreisaal St. Laurentius Reberastrasse 16 Schaan FL Fürstentum Liechtenstein 9494 Schweiz;X-APPLE-RADIUS=500;X-TITLE=Reberastrasse 16:geo:9.5116694,47.1669946
END:VEVENT
BEGIN:VEVENT
DTSTART;TZID=Europe/Zurich:20231214T183000
DTEND;TZID=Europe/Zurich:20231214T200000
DTSTAMP:20260425T051048
CREATED:20230809T123534Z
LAST-MODIFIED:20230809T123534Z
UID:10000906-1702578600-1702584000@ofpg.ch
SUMMARY:Kurs Recovery College: "Blickpunkte Psychiatrie erklärt" - Medikamentöse Therapie/Achtsamkeit
DESCRIPTION:Monatliches Informations- und Diskussionsforum. \nEs werden jeweils zwei Blickpunkte vorgestellt (verschiedene Therapieformen\, Behandlungsschwerpunkte etc.). Im Anschluss können Fragestellungen von Teilnehmerinnen und Teilnehmer einfliessen und gemeinsam diskutiert werden. \nInhalt \nBlickpunkt 1: Medikamentöse Therapie\nRegula Meinherz\, Ärztliche Leiterin Pfäfers\, Psychiatrie St.Gallen \nBlickpunkt 2: Die Bedeutung von Achtsamkeit für die psychische Gesundheit\nAntonia Hansemann\, Pflegefachfrau\, Psychiatrie St.Gallen \nVeranstaltungsdatum/Uhrzeit \n\nDonnerstag\, 14. Dezember 2023\, 18.30 bis 20.00 Uhr\n\nVeranstaltungsort \nPsychiatrie St.Gallen (Klinik St.Pirminsberg)\, Klosterweg 1\, Gebäude A6A\, 7312 Pfäfers \nAnmeldung \nEs sind keine Anmeldungen notwendig.  \nKosten \nDie Teilnahme ist gratis. \nInformationen \nThomas Lampert\, Koordinator Prävention und Angehörigenarbeit\, Psychiatrie St.Gallen
URL:https://ofpg.ch/veranstaltung/kurs-recovery-college-blickpunkte-psychiatrie-erklaert-medikamentoese-therapie-achtsamkeit
LOCATION:Psychiatrie St.Gallen\, Klinik St.Pirminsberg\, Klosterweg 1\, Pfäfers\, St. Gallen\, 7312\, Schweiz
CATEGORIES:Veranstaltungen
ORGANIZER;CN="Psychiatrie St.Gallen":MAILTO:wil@psychiatrie-sg.ch
END:VEVENT
END:VCALENDAR