BEGIN:VCALENDAR
VERSION:2.0
PRODID:-//OFPG - ECPv6.15.20//NONSGML v1.0//EN
CALSCALE:GREGORIAN
METHOD:PUBLISH
X-ORIGINAL-URL:https://ofpg.ch
X-WR-CALDESC:Veranstaltungen für OFPG
REFRESH-INTERVAL;VALUE=DURATION:PT1H
X-Robots-Tag:noindex
X-PUBLISHED-TTL:PT1H
BEGIN:VTIMEZONE
TZID:Europe/Zurich
BEGIN:DAYLIGHT
TZOFFSETFROM:+0100
TZOFFSETTO:+0200
TZNAME:CEST
DTSTART:20230326T010000
END:DAYLIGHT
BEGIN:STANDARD
TZOFFSETFROM:+0200
TZOFFSETTO:+0100
TZNAME:CET
DTSTART:20231029T010000
END:STANDARD
BEGIN:DAYLIGHT
TZOFFSETFROM:+0100
TZOFFSETTO:+0200
TZNAME:CEST
DTSTART:20240331T010000
END:DAYLIGHT
BEGIN:STANDARD
TZOFFSETFROM:+0200
TZOFFSETTO:+0100
TZNAME:CET
DTSTART:20241027T010000
END:STANDARD
BEGIN:DAYLIGHT
TZOFFSETFROM:+0100
TZOFFSETTO:+0200
TZNAME:CEST
DTSTART:20250330T010000
END:DAYLIGHT
BEGIN:STANDARD
TZOFFSETFROM:+0200
TZOFFSETTO:+0100
TZNAME:CET
DTSTART:20251026T010000
END:STANDARD
END:VTIMEZONE
BEGIN:VEVENT
DTSTART;TZID=Europe/Zurich:20240604T190000
DTEND;TZID=Europe/Zurich:20240604T210000
DTSTAMP:20260425T150053
CREATED:20240304T135043Z
LAST-MODIFIED:20240304T135759Z
UID:10000970-1717527600-1717534800@ofpg.ch
SUMMARY:Gesprächsgruppe Schaan Termine im Jahr 2024
DESCRIPTION:Betreuende Angehörige erleben im Alltag mit Menschen mit Demenz anspruchsvolle Situationen\, wiederkehrende Belastungen und häufig Isolation. Die Erfahrung zeigt\, dass das Zusammentreffen von „Gleichgesinnten“ dazu führen kann\, – sich nicht alleine zu fühlen\,\n– zu erleben\, dass es anderen ähnlich geht\,\n– zu erfahren\, dass andere mit verschiedenen Zugehensweisen Hilfreiches erlebt haben\,\n– gestärkt aus einem solchen Treffen hinauszugehen. \nDie Gesprächsgruppen sind thematisch jeweils offen. Manchmal widmen sie sich einem Schwerpunkt rund um das Thema Demenz. Dem gegenseitigen Austausch und Ihren Fragen möchten wir immer genügend Zeit einräumen. Die Gruppe soll Ihnen in Ihren Aufgaben und Herausforderungen im Umgang mit an Demenz erkrankten Menschen Anregungen geben und Sie unterstützen und motivieren. Interessante Gespräche mit anderen pflegenden Angehörigen zu führen und eine Atmosphäre zu erleben\, in der wieder einmal gemeinsam gelacht werden kann\, erachten wir als genauso wichtig wie die Vermittlung von Wissen. Die Gruppe ist moderiert und fachlich begleitet. \nDie Gesprächsgruppe ist ein offenes Angebot. Für die Teilnehmenden entsteht keine Verpflichtung; es gibt keine Voraussetzungen zur Teilnahme. Deshalb vereinbaren wir bei jedem einzelnen Termin Verschwiegenheit aller Teilnehmenden zu den besprochenen persönlichen Inhalten. \nCo-Leitung \n\nMatthias Brüstle\, Psychologe\, Absolvent CAS Dementia Care\, GF Demenz Liechtenstein\nRegula Birnstiel\, Sozialarbeiterin\, erfahrene Angehörige zweier an Demenz Erkrankter\n\nKosten: Die Teilnahme ist kostenlos. \nDetails: Bitte lesen Sie im Flyer nach. \nVeranstalter: DEMENZ LIECHTENSTEIN\, Im Malarsch 4\, 9494 Schaan \nVeranstaltungsort: Pfarreisaal St. Laurentius\, Reberastrasse 12-14\, 9494 Schaan\, Parkplätze (TAK) vorhanden \nWir bitten vorab um verbindliche Anmeldung (jeweils für einen Abend) per Mail oder 00423 / 793 34 45
URL:https://ofpg.ch/veranstaltung/gespraechsgruppe-schaan-termine-im-jahr-2024/2024-06-04
LOCATION:Pfarreisaal St. Laurentius\, Reberastrasse 16\, Schaan FL\, Fürstentum Liechtenstein\, 9494\, Schweiz
CATEGORIES:Veranstaltungen
ATTACH;FMTTYPE=image/png:https://ofpg.ch/wp-content/uploads/Demenz_LI_Gespraechsgruppe-e1709560544968.png
ORGANIZER;CN="Demenz Liechtenstein":MAILTO:kontakt@demenz.li
GEO:47.1669946;9.5116694
X-APPLE-STRUCTURED-LOCATION;VALUE=URI;X-ADDRESS=Pfarreisaal St. Laurentius Reberastrasse 16 Schaan FL Fürstentum Liechtenstein 9494 Schweiz;X-APPLE-RADIUS=500;X-TITLE=Reberastrasse 16:geo:9.5116694,47.1669946
END:VEVENT
BEGIN:VEVENT
DTSTART;TZID=Europe/Zurich:20240605T130000
DTEND;TZID=Europe/Zurich:20240605T170000
DTSTAMP:20260425T150053
CREATED:20240226T153519Z
LAST-MODIFIED:20240304T154119Z
UID:10000941-1717592400-1717606800@ofpg.ch
SUMMARY:Vergünstigter ensa - Kurs Fokus Jugendliche / St.Gallen
DESCRIPTION:Die Kantone St.Gallen\, Appenzell Ausserhoden\, Appenzell Innerhoden und das Fürstentum Liechtenstein unterstützen weitere ensa Erste-Hilfe-Kurse für den guten Umgang mit Jugendlichen in einer psychischen Krise mit einem finanziellen Beitrag. Das Angebot richtet sich an Personen aus dem Kanton St. Gallen\, die mit Kindern oder Jugendlichen arbeiten und in psychischen Notsituationen erste Hilfe leisten möchten. Die Kosten pro Kursteilnehmende belaufen sich auf 150 Franken (Präsenzkurs) bzw. 180 Franken (Webinarkurs) (anstelle von 450 Franken). \nDie psychische Gesundheit von Kindern und Jugendlichen ist durch Ereignisse wie die Pandemie\, den Krieg in der Ukraine und weiterer Faktoren stark belastet. Veränderungen im Alltag\, Erschwernisse im Schulbereich\, der Wegfall von Freizeitmöglichkeiten sowie finanzielle und gesundheitliche Sorgen in den Familien führten dazu\, dass viele junge Menschen unter Angstgefühlen leiden\, wütend sind und voller Sorgen in ihre Zukunft schauen. An ensa-Kursen lernen Personen\, die mit Kindern oder Jugendlichen arbeiten\, wie sie im Falle einer psychischen Krise erste Hilfe leisten können. \nTermine \nMittwoch\, 08./22. Mai 2024 und 05./12. Juni 2024\, jeweils von 13.00 – 17.00 Uhr \nVeranstaltungsort\n1. Teil am 08. Mai 2024 im Bildungsdepartement Kanton St.Gallen\, Davidstrasse 31\, 9001 St.Gallen (Konferenzraum 601\, 6. OG)\nab 2. Teil am 22. Mai 2024 im ZEPRA\, Amt für Gesundheitsvorsorge\, Unterstrasse 22\, 9001 St.Gallen (Schulungsraum) \nLeitung\nTânia Soares \nKosten\nFranken 150.- (bitte verwenden sie den Gutscheincode bei der Anmeldung) \nGutscheincode\nDie Kantone SG\, AR\, AI und FL finanzieren den Kurs mit\, so dass er zu einem reduzierten Tarif besucht werden kann. Um den Gutscheincode im Wert von CHF 300.- zu erhalten\, füllen Sie bitte das Kontaktformular auf folgender Seite aus: https://ofpg.ch/2023/12/ensa-2024-2 \nAnmeldung\nAnmeldelink (www.ensa.swiss.ch)
URL:https://ofpg.ch/veranstaltung/verguenstigter-ensa-kurs-fokus-jugendliche-st-gallen-7
LOCATION:ZEPRA St.Gallen\, Unterstrasse 22\, St.Gallen\, 9001\, Schweiz
CATEGORIES:Kurse
ATTACH;FMTTYPE=image/png:https://ofpg.ch/wp-content/uploads/ensa-k-e1715764985744.png
ORGANIZER;CN="Ostschweizer Forum f%C3%BCr Psychische Gesundheit":MAILTO:info@ofpg.ch
GEO:47.4194816;9.3681492
X-APPLE-STRUCTURED-LOCATION;VALUE=URI;X-ADDRESS=ZEPRA St.Gallen Unterstrasse 22 St.Gallen 9001 Schweiz;X-APPLE-RADIUS=500;X-TITLE=Unterstrasse 22:geo:9.3681492,47.4194816
END:VEVENT
BEGIN:VEVENT
DTSTART;TZID=Europe/Zurich:20240606T183000
DTEND;TZID=Europe/Zurich:20240606T200000
DTSTAMP:20260425T150053
CREATED:20240304T125612Z
LAST-MODIFIED:20240304T153407Z
UID:10000961-1717698600-1717704000@ofpg.ch
SUMMARY:Kurs Recovery College: Mein Leben nach einer psychischen Erkrankung
DESCRIPTION:Was beinhaltet dieser Kurs? \nMonatliche\, fortlaufende Recoverygruppe für Betroffene\, Angehörige und Fachpersonen\, die sich mit Themen und Fragen des Lebens nach einer psychischen Erkrankung auseinandersetzen möchten. \nVeranstaltungsdatum und Uhrzeit: \nJeweils von 18.30 – 20.00 Uhr \n\nDonnerstag 7. März 2024\nDonnerstag 11. April 2024\nDonnerstag 2. Mai 2024\nDonnerstag 6. Juni 2024\n\nVeranstaltungsort: \nPsychiatrie St.Gallen\, Tiefrietstrasse 18\, 7320 Sargans \nAnmeldung: \nWir bitten Sie\, sich für jeden Abend einzeln bis spätestens jeweils am Montagabend vor der Gruppe anzumelden. \nKosten: \nbasic/regular/pro: CHF 5 pro Abend \nModeration: \nLena Weithaler\, Pflegefachfrau\nRenata Bleichenbacher\, Leitung RCSG und Expertin aus Erfahrung\, Psychiatrie St.Gallen \nInformationen \nThomas Lampert\, Koordinator Prävention und Angehörigenarbeit\, Psychiatrie St.Gallen
URL:https://ofpg.ch/veranstaltung/kurs-recovery-college-mein-leben-nach-einer-psychischen-erkrankung-4
LOCATION:Psychatrie St.Gallen\, Sargans\, Tiefrietstrasse 18\, Sargans\, 7320
CATEGORIES:Veranstaltungen
ATTACH;FMTTYPE=image/png:https://ofpg.ch/wp-content/uploads/Screenshot-2024-03-04-161749-e1709565701494.png
ORGANIZER;CN="Psychiatrie St.Gallen":MAILTO:wil@psychiatrie-sg.ch
END:VEVENT
BEGIN:VEVENT
DTSTART;TZID=Europe/Zurich:20240607T193000
DTEND;TZID=Europe/Zurich:20240607T213000
DTSTAMP:20260425T150053
CREATED:20240429T144057Z
LAST-MODIFIED:20240429T144057Z
UID:10000981-1717788600-1717795800@ofpg.ch
SUMMARY:Psychische Gesundheit & Lesen 2024 Teufen
DESCRIPTION:Wie wirkt sich Lesen auf das Wohlbefinden und die Stimmung aus? \nAls Sprachkünstlerin ist Lara Stoll sowohl Expertin für das geschriebene als auch für das gesprochene Wort. Entsprechend darf nicht nur mit Spannung erwartet werden\, welche Texte sie an der Lesung unter dem Titel „Psychische Gesundheit & Lesen“ präsentieren wird\, sondern auch welche Note sie diesen durch Stimme\, auch Mimik und Gestik verleihen wird. \nAuch wird folgenden Fragen nachgegangen: \n\nOb und wie kann Lesen und/oder Schreiben zum Gesund-Werden und Gesund-Bleiben beitragen?\nWas hat Lesen und/oder Schreiben mit der Gesundheit der Seele zu tun?\nKann Lesen und/oder Schreiben auch bei einer ernsthaften Krise oder Erkrankung unterstützen?\nWann kann Lesen und/oder Schreiben die psychische Gesundheit fördern und wann hat er einen negativen Einfluss auf das Wohlbefinden?\n\nNach der Darbietung von Lara Stoll findet eine Gesprächsrunde statt\, an welcher diese Fragen aus unterschiedlichen Perspektiven beleuchtet werden. An der Gesprächsrunde nehmen neben Lara Stoll und Jürg Engler auch Fachpersonen aus der Region teil. \nBei Snacks und Getränken besteht die Möglichkeit zum Austausch. \nModeration: Jürg Engler\, Ostschweizer Forum für Psychische Gesundheit \nDie Veranstaltungen sind öffentlich und kostenfrei\, es ist keine Anmeldung erforderlich. \nFlyer (PDF)
URL:https://ofpg.ch/veranstaltung/psychische-gesundheit-lesen-2024-teufen
LOCATION:Zeughaus Teufen\, Zeughausplatz 1\, Teufen\, 9053
CATEGORIES:Veranstaltungen
ATTACH;FMTTYPE=image/jpeg:https://ofpg.ch/wp-content/uploads/JR010019Lara_Stoll_Presse_reolonjonas-4353caf1-e1715765334151.jpg
ORGANIZER;CN="Ostschweizer Forum f%C3%BCr Psychische Gesundheit":MAILTO:info@ofpg.ch
END:VEVENT
BEGIN:VEVENT
DTSTART;TZID=Europe/Zurich:20240619T193000
DTEND;TZID=Europe/Zurich:20240619T213000
DTSTAMP:20260425T150053
CREATED:20240530T133714Z
LAST-MODIFIED:20240530T141313Z
UID:10000985-1718825400-1718832600@ofpg.ch
SUMMARY:Öffentlicher Vortrag - Kinder\, Jugendliche und junge Erwachsene in der psychischen Krise?
DESCRIPTION:Öffentlicher Vortrag – Kinder\, Jugendliche und junge Erwachsene in der psychischen Krise? \nReferent\nJürg Engler Co-Leiter Fachstelle Psychische Gesundheit \nwird im Referat die Situation von Kindern bis jungen Erwachsenen rund um psychische Gesundheit\, psychische Krisen und psychische Erkrankungen beleuchten. Dabei werden Zahlen\, Möglichkeiten von Gesundheitsförderung und Prävention wie auch die Frage wo es Hilfe gibt in den Fokus genommen. \nZeit\nMittwoch\, 19. Juni 2024\, 19.30 Uhr \nOrt\nSaal des kath. Pfarreiheimes\, Gossauerstrasse 62A\, 9100 Herisau \nOrganisator\nAppenzellischer Hilfsverein für Psychischkranke \nDer Vortrag findet im Anschluss an die Mitgliederversammlung des Hilfsvereins statt. Mit einem Apéro\, der uns Gelegenheit zum Zusammenstehen\, Austauschen und Diskutieren gibt\, wollen wir den Abend ausklingen lassen. \nSie sind herzlich willkommen. \nFlyer
URL:https://ofpg.ch/veranstaltung/oeffentlicher-vortrag-kinder-jugendliche-und-junge-erwachsene-in-der-psychischen-krise
LOCATION:Saal des katholischen Pfarreiheimes\, Gossauerstrasse 62A\, Herisau\, 9100\, Schweiz
CATEGORIES:Referate
ORGANIZER;CN="Appenzellischer Hilfsverein f%C3%BCr Psychischkranke":MAILTO:info@aphv.ch
END:VEVENT
BEGIN:VEVENT
DTSTART;TZID=Europe/Zurich:20240627T183000
DTEND;TZID=Europe/Zurich:20240627T200000
DTSTAMP:20260425T150053
CREATED:20240118T154453Z
LAST-MODIFIED:20240118T154453Z
UID:10000928-1719513000-1719518400@ofpg.ch
SUMMARY:Kurs Recovery College: "Blickpunkte Psychiatrie erklärt" - Kunsttherapie/Unterschiedliche Behandlungssettings
DESCRIPTION:Monatliches Informations- und Diskussionsforum. \nEs werden jeweils zwei Blickpunkte vorgestellt wie z.B. verschiedene Therapieformen\, Behandlungsschwerpunkte etc. Im Anschluss fliessen Fragen von Teilnehmerinnen und Teilnehmern ein und werden gemeinsam diskutiert. \nInhalt \nKunsttherapie\nKaren Heieis\, Kunsttherapeutin\, Psychiatrie St.Gallen und\nBrigitte Riederer\, Expertin aus Erfahrung \nUnterschiedliche Behandlungssettings\nThomas Lampert\, Angehörigenberater\, Psychiatrie St.Gallen \nVeranstaltungsdatum/Uhrzeit \n\nDonnerstag\, 27. Juni\, 18.30 bis 20.00 Uhr\n\nVeranstaltungsort \nPsychiatrie St.Gallen (Klinik St.Pirminsberg)\, Klosterweg 1\, Gebäude A6A\, 7312 Pfäfers \nAnmeldung \nEs sind keine Anmeldungen notwendig.  \nKosten \nDie Teilnahme ist gratis. \nInformationen \nThomas Lampert\, Koordinator Prävention und Angehörigenarbeit\, Psychiatrie St.Gallen
URL:https://ofpg.ch/veranstaltung/kurs-recovery-college-blickpunkte-psychiatrie-erklaert-kunsttherapie-unterschiedliche-behandlungssettings
LOCATION:Psychiatrie St.Gallen\, Klinik St.Pirminsberg\, Klosterweg 1\, Pfäfers\, St. Gallen\, 7312\, Schweiz
CATEGORIES:Veranstaltungen
ORGANIZER;CN="Psychiatrie St.Gallen":MAILTO:wil@psychiatrie-sg.ch
END:VEVENT
END:VCALENDAR