BEGIN:VCALENDAR
VERSION:2.0
PRODID:-//OFPG - ECPv6.15.20//NONSGML v1.0//EN
CALSCALE:GREGORIAN
METHOD:PUBLISH
X-ORIGINAL-URL:https://ofpg.ch
X-WR-CALDESC:Veranstaltungen für OFPG
REFRESH-INTERVAL;VALUE=DURATION:PT1H
X-Robots-Tag:noindex
X-PUBLISHED-TTL:PT1H
BEGIN:VTIMEZONE
TZID:Europe/Zurich
BEGIN:DAYLIGHT
TZOFFSETFROM:+0100
TZOFFSETTO:+0200
TZNAME:CEST
DTSTART:20230326T010000
END:DAYLIGHT
BEGIN:STANDARD
TZOFFSETFROM:+0200
TZOFFSETTO:+0100
TZNAME:CET
DTSTART:20231029T010000
END:STANDARD
BEGIN:DAYLIGHT
TZOFFSETFROM:+0100
TZOFFSETTO:+0200
TZNAME:CEST
DTSTART:20240331T010000
END:DAYLIGHT
BEGIN:STANDARD
TZOFFSETFROM:+0200
TZOFFSETTO:+0100
TZNAME:CET
DTSTART:20241027T010000
END:STANDARD
BEGIN:DAYLIGHT
TZOFFSETFROM:+0100
TZOFFSETTO:+0200
TZNAME:CEST
DTSTART:20250330T010000
END:DAYLIGHT
BEGIN:STANDARD
TZOFFSETFROM:+0200
TZOFFSETTO:+0100
TZNAME:CET
DTSTART:20251026T010000
END:STANDARD
END:VTIMEZONE
BEGIN:VEVENT
DTSTART;TZID=Europe/Zurich:20240822T150000
DTEND;TZID=Europe/Zurich:20240822T181500
DTSTAMP:20260425T181335
CREATED:20240515T085921Z
LAST-MODIFIED:20240515T092202Z
UID:10000983-1724338800-1724350500@ofpg.ch
SUMMARY:Fachtagung Forum BGM Ostschweiz: "Vertrauen als Basis einer gesunden Unternehmenskultur"
DESCRIPTION:Vertrauen als Basis einer gesunden Unternehmenskultur \nViele Betriebe sind aktuell gefordert\, ihre Effizienz zu steigern und in digitale Entwicklungen zu investieren\, um wettbewerbsfähig zu bleiben. Je grösser die Herausforderungen\, umso wichtiger ist ein unterstützendes Arbeitsumfeld mit stabilen sozialen Beziehungen – nicht nur innerhalb der Teams\, sondern auch zwischen Mitarbeitenden und Vorgesetzten. \nVertrauen bildet die Grundlage für gute soziale Beziehungen am Arbeitsplatz. Mitarbeitende\, die sich und ihren Vorgesetzten vertrauen\, sind eher bereit\, Ideen einzubringen\, Probleme anzusprechen und konstruktive Lösungen zu finden. In einem vertrauensvollen Umfeld entstehen weniger Spannungen und Konflikte. Eine offene Kommunikation und ein wertschätzender Umgang helfen auch dabei\, stressbedingte Belastungen zu reduzieren. \nNicht zuletzt fühlen sich Mitarbeitende durch ein unterstützendes Arbeitsklima stärker mit ihrem Team und der Organisation verbunden. In einem positiven Arbeitsumfeld sind Mitarbeitende weniger geneigt\, das Unternehmen zu verlassen. Vertrauen ist ein Erfolgsfaktor – und es lohnt sich\, in eine vertrauensvolle Unternehmenskultur zu investieren. \nDie Tagung richtet sich an Geschäftsleitende\, Führungskräfte\, Personal- und Gesundheitsverantwortliche sowie weitere Personen\, die sich vom Thema angesprochen fühlen. \nVeranstalter\nForum BGM Ostschweiz\, 9001 St.Gallen\, info@bgm-ostschweiz.ch \nFachtagungsdatum und Ort:\nDonnerstag\, 22. August 2024 I 15:00 – 18:15 Uhr I Pfalzkeller St.Gallen \nAnmeldeschluss:\n09. August 2024 \nKosten:\nMitglieder des Forums BGM Ostschweiz: Fr. 100.-\nNichtmitglieder: Fr. 150.- \nProgramm-Flyer \nAnmeldung
URL:https://ofpg.ch/veranstaltung/fachtagung-forum-bgm-ostschweiz-vertrauen-als-basis-einer-gesunden-unternehmenskultur
LOCATION:Pfalzkeller St.Gallen\, Klosterhof 3\, St.Gallen\, 9000\, Schweiz
CATEGORIES:Fachtagung
ATTACH;FMTTYPE=image/png:https://ofpg.ch/wp-content/uploads/Screenshot-2024-05-15-104834-e1715764276906.png
END:VEVENT
BEGIN:VEVENT
DTSTART;TZID=Europe/Zurich:20240827T181500
DTEND;TZID=Europe/Zurich:20240827T194500
DTSTAMP:20260425T181335
CREATED:20240304T105841Z
LAST-MODIFIED:20240304T105841Z
UID:10000949-1724782500-1724787900@ofpg.ch
SUMMARY:Psyche im Fokus: "Angststörungen – Ich habe Angst vor der Angst meiner Angehörigen"
DESCRIPTION:Jeder vierte Erwachsene ist einmal im Leben von einer psychischen Krise oder Erkrankung betroffen. In der Folge aber auch Angehörige\, Freunde\, Arbeitskollegen. Oft ist die Zeit vor einem Eintritt ins Psychiatrische Zentrum für alle sehr schwierig. Nach dem Eintritt ist für direkt Betroffene gesorgt\, aber auch für Sie? \nDie mit der Erkrankung zusammenhängenden Veränderungen im Verhalten\, Denken und Fühlen führen meist zu grosser Verunsicherung. Dies betrifft Fragen rund um die Erkrankung\, aber auch\, wie Sie sich als Angehörige verhalten sollen und helfen können. Im Wissen um diese schwierige Situation bietet das Psychiatrische Zentrum Appenzell Ausserrhoden Unterstützung auf verschiedenen Ebenen an. \nRegelmässig finden im Psychiatrischen Zentrum Appenzell Ausserrhoden themenspezifische Abende („Psyche im Fokus“) statt. Die Treffen werden von Fachpersonen\, Betroffenen und Angehörigen gemeinsam geplant und durchgeführt. Es besteht die Möglichkeit des gegenseitigen Austauschs. Die Veranstaltung richtet sich an Angehörige\, Betroffene\, Fachpersonen und alle weiteren interessierten Personen. \nDatum: 27. August 2024 \nKosten und Anmeldung: Die Teilnahme ist kostenlos und es ist keine Anmeldung erforderlich. \nWeiteres: Finden Sie auf der Homepage. \nVeranstalter und Ort: Psychiatrisches Zentrum AR\, Krombachsaal\, Krombach 3\, 9100 Herisau
URL:https://ofpg.ch/veranstaltung/psyche-im-fokus-angststoerungen
LOCATION:Psychiatrisches Zentrum AR\, Krombach 3\, Herisau\, 9100\, Schweiz
CATEGORIES:Veranstaltungen
END:VEVENT
END:VCALENDAR