BEGIN:VCALENDAR
VERSION:2.0
PRODID:-//OFPG - ECPv6.15.20//NONSGML v1.0//EN
CALSCALE:GREGORIAN
METHOD:PUBLISH
X-WR-CALNAME:OFPG
X-ORIGINAL-URL:https://ofpg.ch
X-WR-CALDESC:Veranstaltungen für OFPG
REFRESH-INTERVAL;VALUE=DURATION:PT1H
X-Robots-Tag:noindex
X-PUBLISHED-TTL:PT1H
BEGIN:VTIMEZONE
TZID:Europe/Zurich
BEGIN:DAYLIGHT
TZOFFSETFROM:+0100
TZOFFSETTO:+0200
TZNAME:CEST
DTSTART:20230326T010000
END:DAYLIGHT
BEGIN:STANDARD
TZOFFSETFROM:+0200
TZOFFSETTO:+0100
TZNAME:CET
DTSTART:20231029T010000
END:STANDARD
BEGIN:DAYLIGHT
TZOFFSETFROM:+0100
TZOFFSETTO:+0200
TZNAME:CEST
DTSTART:20240331T010000
END:DAYLIGHT
BEGIN:STANDARD
TZOFFSETFROM:+0200
TZOFFSETTO:+0100
TZNAME:CET
DTSTART:20241027T010000
END:STANDARD
BEGIN:DAYLIGHT
TZOFFSETFROM:+0100
TZOFFSETTO:+0200
TZNAME:CEST
DTSTART:20250330T010000
END:DAYLIGHT
BEGIN:STANDARD
TZOFFSETFROM:+0200
TZOFFSETTO:+0100
TZNAME:CET
DTSTART:20251026T010000
END:STANDARD
END:VTIMEZONE
BEGIN:VEVENT
DTSTART;TZID=Europe/Zurich:20240903T190000
DTEND;TZID=Europe/Zurich:20240903T210000
DTSTAMP:20260425T193938
CREATED:20240304T135043Z
LAST-MODIFIED:20240304T135759Z
UID:10000971-1725390000-1725397200@ofpg.ch
SUMMARY:Gesprächsgruppe Schaan Termine im Jahr 2024
DESCRIPTION:Betreuende Angehörige erleben im Alltag mit Menschen mit Demenz anspruchsvolle Situationen\, wiederkehrende Belastungen und häufig Isolation. Die Erfahrung zeigt\, dass das Zusammentreffen von „Gleichgesinnten“ dazu führen kann\, – sich nicht alleine zu fühlen\,\n– zu erleben\, dass es anderen ähnlich geht\,\n– zu erfahren\, dass andere mit verschiedenen Zugehensweisen Hilfreiches erlebt haben\,\n– gestärkt aus einem solchen Treffen hinauszugehen. \nDie Gesprächsgruppen sind thematisch jeweils offen. Manchmal widmen sie sich einem Schwerpunkt rund um das Thema Demenz. Dem gegenseitigen Austausch und Ihren Fragen möchten wir immer genügend Zeit einräumen. Die Gruppe soll Ihnen in Ihren Aufgaben und Herausforderungen im Umgang mit an Demenz erkrankten Menschen Anregungen geben und Sie unterstützen und motivieren. Interessante Gespräche mit anderen pflegenden Angehörigen zu führen und eine Atmosphäre zu erleben\, in der wieder einmal gemeinsam gelacht werden kann\, erachten wir als genauso wichtig wie die Vermittlung von Wissen. Die Gruppe ist moderiert und fachlich begleitet. \nDie Gesprächsgruppe ist ein offenes Angebot. Für die Teilnehmenden entsteht keine Verpflichtung; es gibt keine Voraussetzungen zur Teilnahme. Deshalb vereinbaren wir bei jedem einzelnen Termin Verschwiegenheit aller Teilnehmenden zu den besprochenen persönlichen Inhalten. \nCo-Leitung \n\nMatthias Brüstle\, Psychologe\, Absolvent CAS Dementia Care\, GF Demenz Liechtenstein\nRegula Birnstiel\, Sozialarbeiterin\, erfahrene Angehörige zweier an Demenz Erkrankter\n\nKosten: Die Teilnahme ist kostenlos. \nDetails: Bitte lesen Sie im Flyer nach. \nVeranstalter: DEMENZ LIECHTENSTEIN\, Im Malarsch 4\, 9494 Schaan \nVeranstaltungsort: Pfarreisaal St. Laurentius\, Reberastrasse 12-14\, 9494 Schaan\, Parkplätze (TAK) vorhanden \nWir bitten vorab um verbindliche Anmeldung (jeweils für einen Abend) per Mail oder 00423 / 793 34 45
URL:https://ofpg.ch/veranstaltung/gespraechsgruppe-schaan-termine-im-jahr-2024/2024-09-03
LOCATION:Pfarreisaal St. Laurentius\, Reberastrasse 16\, Schaan FL\, Fürstentum Liechtenstein\, 9494\, Schweiz
CATEGORIES:Veranstaltungen
ATTACH;FMTTYPE=image/png:https://ofpg.ch/wp-content/uploads/Demenz_LI_Gespraechsgruppe-e1709560544968.png
ORGANIZER;CN="Demenz Liechtenstein":MAILTO:kontakt@demenz.li
GEO:47.1669946;9.5116694
X-APPLE-STRUCTURED-LOCATION;VALUE=URI;X-ADDRESS=Pfarreisaal St. Laurentius Reberastrasse 16 Schaan FL Fürstentum Liechtenstein 9494 Schweiz;X-APPLE-RADIUS=500;X-TITLE=Reberastrasse 16:geo:9.5116694,47.1669946
END:VEVENT
BEGIN:VEVENT
DTSTART;TZID=Europe/Zurich:20240907T090000
DTEND;TZID=Europe/Zurich:20240907T163000
DTSTAMP:20260425T193938
CREATED:20240530T132233Z
LAST-MODIFIED:20240530T132233Z
UID:10000984-1725699600-1725726600@ofpg.ch
SUMMARY:Tagung Strategie Frühe Förderung
DESCRIPTION:Tagung Strategie Frühe Förderung \nGestärkt ins Leben \nHilfreiche Strukturen und konkrete Herangehensweisen bei der Begleitung von Kindern und Familien in besonderen Belastungssituationen. \nVeranstalter\nDepartemente Inneres\, Bildung und Gesundheit des Kantons St.Gallen \nFachtagungsdatum und Ort:\nSamstag\, 7. September 2024\, 09.00 bis 16.30 Uhr\, Würth Haus Rorschach\, Churerstrasse 10\, 9400 Rorschach \nAnmeldeschluss:\n16. August 2024\, Anmeldung \nKosten:\nFr. 100.–; ganztägige Verpflegung im Preis inbegriffen.\nDie Tagungsdokumentation wird online zur Verfügung gestellt. \nProgramm-Flyer
URL:https://ofpg.ch/veranstaltung/tagung-strategie-fruehe-foerderung
LOCATION:Würth Haus Rorschach\, Churerstrasse 10\, Rorschach\, St.Gallen\, 9400\, Schweiz
CATEGORIES:Fachtagung
ATTACH;FMTTYPE=image/jpeg:https://ofpg.ch/wp-content/uploads/FF-Bild-e1717074634942.jpg
GEO:47.4786506;9.5064734
X-APPLE-STRUCTURED-LOCATION;VALUE=URI;X-ADDRESS=Würth Haus Rorschach Churerstrasse 10 Rorschach St.Gallen 9400 Schweiz;X-APPLE-RADIUS=500;X-TITLE=Churerstrasse 10:geo:9.5064734,47.4786506
END:VEVENT
END:VCALENDAR