BEGIN:VCALENDAR
VERSION:2.0
PRODID:-//OFPG - ECPv6.15.20//NONSGML v1.0//EN
CALSCALE:GREGORIAN
METHOD:PUBLISH
X-WR-CALNAME:OFPG
X-ORIGINAL-URL:https://ofpg.ch
X-WR-CALDESC:Veranstaltungen für OFPG
REFRESH-INTERVAL;VALUE=DURATION:PT1H
X-Robots-Tag:noindex
X-PUBLISHED-TTL:PT1H
BEGIN:VTIMEZONE
TZID:Europe/Zurich
BEGIN:DAYLIGHT
TZOFFSETFROM:+0100
TZOFFSETTO:+0200
TZNAME:CEST
DTSTART:20230326T010000
END:DAYLIGHT
BEGIN:STANDARD
TZOFFSETFROM:+0200
TZOFFSETTO:+0100
TZNAME:CET
DTSTART:20231029T010000
END:STANDARD
BEGIN:DAYLIGHT
TZOFFSETFROM:+0100
TZOFFSETTO:+0200
TZNAME:CEST
DTSTART:20240331T010000
END:DAYLIGHT
BEGIN:STANDARD
TZOFFSETFROM:+0200
TZOFFSETTO:+0100
TZNAME:CET
DTSTART:20241027T010000
END:STANDARD
BEGIN:DAYLIGHT
TZOFFSETFROM:+0100
TZOFFSETTO:+0200
TZNAME:CEST
DTSTART:20250330T010000
END:DAYLIGHT
BEGIN:STANDARD
TZOFFSETFROM:+0200
TZOFFSETTO:+0100
TZNAME:CET
DTSTART:20251026T010000
END:STANDARD
END:VTIMEZONE
BEGIN:VEVENT
DTSTART;TZID=Europe/Zurich:20241105T180000
DTEND;TZID=Europe/Zurich:20241105T213000
DTSTAMP:20260425T232402
CREATED:20240530T142350Z
LAST-MODIFIED:20240530T142510Z
UID:10000989-1730829600-1730842200@ofpg.ch
SUMMARY:ensa Erste Hilfe für psychische Gesundheit - Fokus Erwachsene - Haus Gutenberg
DESCRIPTION:Jeder zweite Mensch in der Schweiz hat einmal in seinem Leben psychische Probleme. \nFast alle Menschen kennen in ihrem persönlichen Umfeld Personen\, denen es psychisch nicht gut geht oder eine Zeit lang nicht gut gegangen ist. Für Erste Hilfe bei körperlichen Beeinträchtigungen haben sich schon sehr viele Menschen weitergebildet. Psychischen Erkrankungen wird in unserer Gesellschaft aber immer noch mit grosser Scheu begegnet. \nensa vermittelt\, wie Angehörige\, Freunde oder Arbeitskolleginnen bei psychischen Problemen Erste Hilfe leisten können\, indem sie rechtzeitig Probleme erkennen\, auf Menschen zugehen und Hilfe anbieten. \nAlle können ensa Ersthelfende werden. Das Kurssystem wurde vor zwanzig Jahren in Australien entwickelt und wird in der Schweiz von der Stiftung Pro Mente Sana lanciert (www.ensa.ch). ensa basiert auf wissenschaftlichen Grundlagen. \nTermine \nDienstag\, 22. + 29. Oktober 2024\, 05. + 12. November 2024\, 18.00 – 21.30 Uhr \nVeranstaltungsort\nHaus Gutenberg\, Balzers \nLeitung\nMirco Deflorin \nKosten\nCHF 380.- \nHinweise\nWir bitten um Anmeldung bis 14. Oktober direkt bei ensa: https://ensa.swiss/de/ersthelfer/kurs/2883/anmeldung/ \nIm Auftrag des Amtes für Gesundheit und in Kooperation mit dem Ostschweizer Forum für psychische Gesundheit.
URL:https://ofpg.ch/veranstaltung/ensa-erste-hilfe-fuer-psychische-gesundheit-fokus-erwachsene-haus-gutenberg/2024-11-05
LOCATION:Haus Gutenberg\, Burgweg 8\, Balzers\, 9496
CATEGORIES:Kurse
ORGANIZER;CN="Haus Gutenberg":MAILTO:gutenberg@haus-gutenberg.li
GEO:47.063685;9.499162
X-APPLE-STRUCTURED-LOCATION;VALUE=URI;X-ADDRESS=Haus Gutenberg Burgweg 8 Balzers 9496;X-APPLE-RADIUS=500;X-TITLE=Burgweg 8:geo:9.499162,47.063685
END:VEVENT
BEGIN:VEVENT
DTSTART;TZID=Europe/Zurich:20241112T180000
DTEND;TZID=Europe/Zurich:20241112T213000
DTSTAMP:20260425T232402
CREATED:20240530T142350Z
LAST-MODIFIED:20240530T142510Z
UID:10000990-1731434400-1731447000@ofpg.ch
SUMMARY:ensa Erste Hilfe für psychische Gesundheit - Fokus Erwachsene - Haus Gutenberg
DESCRIPTION:Jeder zweite Mensch in der Schweiz hat einmal in seinem Leben psychische Probleme. \nFast alle Menschen kennen in ihrem persönlichen Umfeld Personen\, denen es psychisch nicht gut geht oder eine Zeit lang nicht gut gegangen ist. Für Erste Hilfe bei körperlichen Beeinträchtigungen haben sich schon sehr viele Menschen weitergebildet. Psychischen Erkrankungen wird in unserer Gesellschaft aber immer noch mit grosser Scheu begegnet. \nensa vermittelt\, wie Angehörige\, Freunde oder Arbeitskolleginnen bei psychischen Problemen Erste Hilfe leisten können\, indem sie rechtzeitig Probleme erkennen\, auf Menschen zugehen und Hilfe anbieten. \nAlle können ensa Ersthelfende werden. Das Kurssystem wurde vor zwanzig Jahren in Australien entwickelt und wird in der Schweiz von der Stiftung Pro Mente Sana lanciert (www.ensa.ch). ensa basiert auf wissenschaftlichen Grundlagen. \nTermine \nDienstag\, 22. + 29. Oktober 2024\, 05. + 12. November 2024\, 18.00 – 21.30 Uhr \nVeranstaltungsort\nHaus Gutenberg\, Balzers \nLeitung\nMirco Deflorin \nKosten\nCHF 380.- \nHinweise\nWir bitten um Anmeldung bis 14. Oktober direkt bei ensa: https://ensa.swiss/de/ersthelfer/kurs/2883/anmeldung/ \nIm Auftrag des Amtes für Gesundheit und in Kooperation mit dem Ostschweizer Forum für psychische Gesundheit.
URL:https://ofpg.ch/veranstaltung/ensa-erste-hilfe-fuer-psychische-gesundheit-fokus-erwachsene-haus-gutenberg/2024-11-12
LOCATION:Haus Gutenberg\, Burgweg 8\, Balzers\, 9496
CATEGORIES:Kurse
ORGANIZER;CN="Haus Gutenberg":MAILTO:gutenberg@haus-gutenberg.li
GEO:47.063685;9.499162
X-APPLE-STRUCTURED-LOCATION;VALUE=URI;X-ADDRESS=Haus Gutenberg Burgweg 8 Balzers 9496;X-APPLE-RADIUS=500;X-TITLE=Burgweg 8:geo:9.499162,47.063685
END:VEVENT
BEGIN:VEVENT
DTSTART;TZID=Europe/Zurich:20241118T140000
DTEND;TZID=Europe/Zurich:20241118T181500
DTSTAMP:20260425T232402
CREATED:20240704T142108Z
LAST-MODIFIED:20240704T142325Z
UID:10001016-1731938400-1731953700@ofpg.ch
SUMMARY:KMU Forum 2024: "Gesundheitsförderung im KMU"
DESCRIPTION:Gesundheitsförderung im KMU \nKMU Forum 2024: «Gesundheitsförderung im KMU» \nDas nächste KMU Forum findet im Rehabilitationszentrum Lutzenberg statt. Im Zentrum der Veranstaltung steht der Erfahrungsaustausch der Teilnehmenden zur Förderung von Gesundheit am Arbeitsplatz. \nWenn Mitarbeitende krank werden\, belastet dies kleine und mittlere Betriebe ganz besonders. Deshalb lohnt es sich\, Arbeit so zu gestalten\, dass vermeidbare Belastungen reduziert werden oder gar nicht erst auftreten. Die Erfahrung zeigt\, dass in kleinen und mittleren Betrieben oft einfache Veränderungen genügen\, damit Arbeit erleichtert wird und Beschäftigte arbeitsfähig bleiben. \nGemeinsam mit Ihnen diskutieren wir Möglichkeiten zur Förderung der Gesundheit im KMU. Wir tauschen Ideen aus und stellen Ihnen aktuelle und kostenlose Angebote für die betriebliche Gesundheitsförderung vor. \nVeranstalter\nForum BGM Ostschweiz\, 9001 St.Gallen\, info@bgm-ostschweiz.ch \nFachtagungsdatum und Ort:\nMontag\, 18. November 2024 I 14:00 – 18:15 Uhr I Rehabilitationszentrum Lutzenberg \nAnmeldeschluss:\n08. November 2024 \nKosten:\nMitglieder des Forums BGM Ostschweiz: Fr. 50.-\nNichtmitglieder: Fr. 75.- \nZum Programm\nZur Anmeldung
URL:https://ofpg.ch/veranstaltung/kmu-forum-2024-gesundheitsfoerderung-im-kmu-2
LOCATION:Rehabilitationszentrum Lutzenberg\, Engelgass 417\, Lutzenberg\, 9426\, Schweiz
CATEGORIES:Fachtagung
ATTACH;FMTTYPE=image/jpeg:https://ofpg.ch/wp-content/uploads/20191003-REHA-LUTZENBERG-438-1200-627-e1720102982404.jpg
END:VEVENT
BEGIN:VEVENT
DTSTART;TZID=Europe/Zurich:20241128T180000
DTEND;TZID=Europe/Zurich:20241128T193000
DTSTAMP:20260425T232402
CREATED:20241014T144648Z
LAST-MODIFIED:20241014T144648Z
UID:10001019-1732816800-1732822200@ofpg.ch
SUMMARY:Vortrag: Stresssymptome\, Stressoren-Erfassung\, Ansätze zur Stressbehandlung
DESCRIPTION:Vortrag \nStresssymptome\, Stressoren-Erfassung\, Ansätze zur Stressbehandlung \nIn diesem Vortrag werden konkrete Skills im Umgang mit Stresssymptomen in der Hausarztpraxis vermittelt. Stresssymptome treten in der Grundversorgung sehr häufig auf.\nEin Teil davon sind funktionelle Körpersymptome\, welche sich nicht vollständig auf organmorphologischer Ebene erklären lassen und meist zu langen sowie schweren Verläufen führen. Entsprechend wichtig ist deren frühzeitige Erkennung und spezifische sowie koordinierte Behandlung\, ambulant als auch stationär. \nReferent*innen:\nDr. med. Anke Schneiders\, Chefärztin Psychosomatik\nKlinik Oberwaid \nRuth Dorothea Knecht\, Leitende Psychologin\nKlinik Oberwaid \nDr. sc. med. Gavin Brupbacher\, Leiter Unternehmensentwicklung\, QM & Forschung\nKlinik Oberwaid \nVeranstalter: Oberwaid Klinik\, Rorschacher Str. 311\, 9016 St. Gallen \nDatum: Donnerstag\, 28.11.2024 18:15 Uhr\nEinlass: 18.00 Uhr\nBeginn: 18.15 bis ca. 19.30 Uhr \nOrt: Raum Baldegg & Guggeien in der Oberwaid \nEs ist eine Anmeldung erforderlich und es ist kostenlos.
URL:https://ofpg.ch/veranstaltung/vortrag-stresssymptome-stressoren-erfassung-ansaetze-zur-stressbehandlung
LOCATION:Oberwaid – Das Hotel. Die Klinik.\, Rorschacher Str. 311\, St.Gallen\, 9016
CATEGORIES:Referate
END:VEVENT
END:VCALENDAR