BEGIN:VCALENDAR
VERSION:2.0
PRODID:-//OFPG - ECPv6.15.20//NONSGML v1.0//EN
CALSCALE:GREGORIAN
METHOD:PUBLISH
X-ORIGINAL-URL:https://ofpg.ch
X-WR-CALDESC:Veranstaltungen für OFPG
REFRESH-INTERVAL;VALUE=DURATION:PT1H
X-Robots-Tag:noindex
X-PUBLISHED-TTL:PT1H
BEGIN:VTIMEZONE
TZID:Europe/Zurich
BEGIN:DAYLIGHT
TZOFFSETFROM:+0100
TZOFFSETTO:+0200
TZNAME:CEST
DTSTART:20240331T010000
END:DAYLIGHT
BEGIN:STANDARD
TZOFFSETFROM:+0200
TZOFFSETTO:+0100
TZNAME:CET
DTSTART:20241027T010000
END:STANDARD
BEGIN:DAYLIGHT
TZOFFSETFROM:+0100
TZOFFSETTO:+0200
TZNAME:CEST
DTSTART:20250330T010000
END:DAYLIGHT
BEGIN:STANDARD
TZOFFSETFROM:+0200
TZOFFSETTO:+0100
TZNAME:CET
DTSTART:20251026T010000
END:STANDARD
BEGIN:DAYLIGHT
TZOFFSETFROM:+0100
TZOFFSETTO:+0200
TZNAME:CEST
DTSTART:20260329T010000
END:DAYLIGHT
BEGIN:STANDARD
TZOFFSETFROM:+0200
TZOFFSETTO:+0100
TZNAME:CET
DTSTART:20261025T010000
END:STANDARD
END:VTIMEZONE
BEGIN:VEVENT
DTSTART;TZID=Europe/Zurich:20250107T093000
DTEND;TZID=Europe/Zurich:20250107T110000
DTSTAMP:20260426T030349
CREATED:20241127T092015Z
LAST-MODIFIED:20241127T092015Z
UID:10001020-1736242200-1736247600@ofpg.ch
SUMMARY:Kurs für betreuende Angehörige «HEB DIR SORG»
DESCRIPTION:INFOS\nBetreuen Sie ein krankes oder pflegebedürftiges Familienmitglied? Und plagen Sie manchmal Ängste und Sorgen? Dann nehmen Sie teil am Kurs «Heb dir Sorg». Entdecken Sie\, wie Sie mit kleinen Veränderungen mehr Leichtigkeit in Ihrem Leben gewinnen können. \nIm ersten Teil erfahren Sie mehr zum Thema psychische Gesundheit und wie Sie diese stärken können. Im Anschluss lernen Sie Strategien kennen\, mit denen Sie sich den Alltag erleichtern können. Es besteht die Möglichkeit\, sich regelmässig zu zweit oder in einer Gruppe auszutauschen. \nKURSORT\nDer Kurs wird online durchgeführt.\nGenaue Informationen erhalten Sie bei der Anmeldung. \nKOSTEN\nDer Kurs ist kostenlos. \nDATEN 2025\nJeweils dienstags\n07.01.: 09:30 – 11:00 Uhr\n14.01.\, 21.01.\, 28.01.\, 04.02. und 11.02.: 09:30 – 10:30 Uhr \nANMELDUNG \nAmt für Gesundheitsvorsorge\nZEPRA\, Fachstelle Gesundheit im Alter\nKarolina Staniszewski\, Unterstrasse 22\, 9001 St.Gallen\n058 229 87 60\, karolina.staniszewski@sg.ch\nwww.zepra.info/angehoerige \nOnline-Anmeldung unter https://zepra.info/an_kurs_betreuende_angehoerige
URL:https://ofpg.ch/veranstaltung/kurs-fuer-betreuende-angehoerige-heb-dir-sorg/2025-01-07
LOCATION:Online
CATEGORIES:Kurse
ATTACH;FMTTYPE=image/png:https://ofpg.ch/wp-content/uploads/Betreuende-Angehoerige-e1732698814846.png
END:VEVENT
BEGIN:VEVENT
DTSTART;TZID=Europe/Zurich:20250114T093000
DTEND;TZID=Europe/Zurich:20250114T103000
DTSTAMP:20260426T030349
CREATED:20241127T092015Z
LAST-MODIFIED:20241127T092015Z
UID:10001021-1736847000-1736850600@ofpg.ch
SUMMARY:Kurs für betreuende Angehörige «HEB DIR SORG»
DESCRIPTION:INFOS\nBetreuen Sie ein krankes oder pflegebedürftiges Familienmitglied? Und plagen Sie manchmal Ängste und Sorgen? Dann nehmen Sie teil am Kurs «Heb dir Sorg». Entdecken Sie\, wie Sie mit kleinen Veränderungen mehr Leichtigkeit in Ihrem Leben gewinnen können. \nIm ersten Teil erfahren Sie mehr zum Thema psychische Gesundheit und wie Sie diese stärken können. Im Anschluss lernen Sie Strategien kennen\, mit denen Sie sich den Alltag erleichtern können. Es besteht die Möglichkeit\, sich regelmässig zu zweit oder in einer Gruppe auszutauschen. \nKURSORT\nDer Kurs wird online durchgeführt.\nGenaue Informationen erhalten Sie bei der Anmeldung. \nKOSTEN\nDer Kurs ist kostenlos. \nDATEN 2025\nJeweils dienstags\n07.01.: 09:30 – 11:00 Uhr\n14.01.\, 21.01.\, 28.01.\, 04.02. und 11.02.: 09:30 – 10:30 Uhr \nANMELDUNG \nAmt für Gesundheitsvorsorge\nZEPRA\, Fachstelle Gesundheit im Alter\nKarolina Staniszewski\, Unterstrasse 22\, 9001 St.Gallen\n058 229 87 60\, karolina.staniszewski@sg.ch\nwww.zepra.info/angehoerige \nOnline-Anmeldung unter https://zepra.info/an_kurs_betreuende_angehoerige
URL:https://ofpg.ch/veranstaltung/kurs-fuer-betreuende-angehoerige-heb-dir-sorg/2025-01-14
LOCATION:Online
CATEGORIES:Kurse
ATTACH;FMTTYPE=image/png:https://ofpg.ch/wp-content/uploads/Betreuende-Angehoerige-e1732698814846.png
END:VEVENT
BEGIN:VEVENT
DTSTART;TZID=Europe/Zurich:20250121T093000
DTEND;TZID=Europe/Zurich:20250121T103000
DTSTAMP:20260426T030349
CREATED:20241127T092015Z
LAST-MODIFIED:20241127T092015Z
UID:10001022-1737451800-1737455400@ofpg.ch
SUMMARY:Kurs für betreuende Angehörige «HEB DIR SORG»
DESCRIPTION:INFOS\nBetreuen Sie ein krankes oder pflegebedürftiges Familienmitglied? Und plagen Sie manchmal Ängste und Sorgen? Dann nehmen Sie teil am Kurs «Heb dir Sorg». Entdecken Sie\, wie Sie mit kleinen Veränderungen mehr Leichtigkeit in Ihrem Leben gewinnen können. \nIm ersten Teil erfahren Sie mehr zum Thema psychische Gesundheit und wie Sie diese stärken können. Im Anschluss lernen Sie Strategien kennen\, mit denen Sie sich den Alltag erleichtern können. Es besteht die Möglichkeit\, sich regelmässig zu zweit oder in einer Gruppe auszutauschen. \nKURSORT\nDer Kurs wird online durchgeführt.\nGenaue Informationen erhalten Sie bei der Anmeldung. \nKOSTEN\nDer Kurs ist kostenlos. \nDATEN 2025\nJeweils dienstags\n07.01.: 09:30 – 11:00 Uhr\n14.01.\, 21.01.\, 28.01.\, 04.02. und 11.02.: 09:30 – 10:30 Uhr \nANMELDUNG \nAmt für Gesundheitsvorsorge\nZEPRA\, Fachstelle Gesundheit im Alter\nKarolina Staniszewski\, Unterstrasse 22\, 9001 St.Gallen\n058 229 87 60\, karolina.staniszewski@sg.ch\nwww.zepra.info/angehoerige \nOnline-Anmeldung unter https://zepra.info/an_kurs_betreuende_angehoerige
URL:https://ofpg.ch/veranstaltung/kurs-fuer-betreuende-angehoerige-heb-dir-sorg/2025-01-21
LOCATION:Online
CATEGORIES:Kurse
ATTACH;FMTTYPE=image/png:https://ofpg.ch/wp-content/uploads/Betreuende-Angehoerige-e1732698814846.png
END:VEVENT
BEGIN:VEVENT
DTSTART;TZID=Europe/Zurich:20250121T190000
DTEND;TZID=Europe/Zurich:20250121T210000
DTSTAMP:20260426T030349
CREATED:20250108T082009Z
LAST-MODIFIED:20250313T140048Z
UID:10001043-1737486000-1737493200@ofpg.ch
SUMMARY:Gesprächsgruppe Schaan Termine im Jahr 2025
DESCRIPTION:Gesprächsgruppe\nfür Angehörige von Menschen mit Demenz\nBetreuende Angehörige erleben im Alltag mit Menschen mit Demenz anspruchsvolle Situationen\, wiederkehrende Belastungen und häufig Isolation. Die Erfahrung zeigt\, dass das Zusammentreffen von „Gleichgesinnten“ dazu führen kann\, – sich nicht alleine zu fühlen\,\n– zu erleben\, dass es anderen ähnlich geht\,\n– zu erfahren\, dass andere mit verschiedenen Zugehensweisen Hilfreiches erlebt haben\,\n– gestärkt aus einem solchen Treffen hinauszugehen. \nDie Gesprächsgruppen sind thematisch jeweils offen. Manchmal widmen sie sich einem Schwerpunkt rund um das Thema Demenz. Dem gegenseitigen Austausch und Ihren Fragen möchten wir immer genügend Zeit einräumen. Die Gruppe soll Ihnen in Ihren Aufgaben und Herausforderungen im Umgang mit an Demenz erkrankten Menschen Anregungen geben und Sie unterstützen und motivieren. Interessante Gespräche mit anderen pflegenden Angehörigen zu führen und eine Atmosphäre zu erleben\, in der wieder einmal gemeinsam gelacht werden kann\, erachten wir als genauso wichtig wie die Vermittlung von Wissen. Die Gruppe ist moderiert und fachlich begleitet. \nDie Gesprächsgruppe ist ein offenes Angebot. Für die Teilnehmenden entsteht keine Verpflichtung; es gibt keine Voraussetzungen zur Teilnahme. Deshalb vereinbaren wir bei jedem einzelnen Termin Verschwiegenheit aller Teilnehmenden zu den besprochenen persönlichen Inhalten. \nCo-Leitung \n\nMatthias Brüstle\, Psychologe\, Absolvent CAS Dementia Care\, GF Demenz Liechtenstein\nRegula Birnstiel\, Sozialarbeiterin\, erfahrene Angehörige zweier an Demenz Erkrankter\n\nKosten: Die Teilnahme ist kostenlos. \nDetails: Bitte lesen Sie im Flyer nach. \nVeranstalter: DEMENZ LIECHTENSTEIN\, Im Malarsch 4\, 9494 Schaan \nVeranstaltungsort: Neuer Ort Stützpunkt Demenz Liechtenstein\, Poststrasse 14\, 2. Stock (mit Lift)\, 9494 Schaan\nParkplätze vor dem Haus und in der Tiefgarage (SAL) sind kostenlos! ÖV: „Schaan Bahnhof“ \nWir bitten vorab um verbindliche Anmeldung (jeweils für einen Abend) per Mail oder 00423 / 793 34 45
URL:https://ofpg.ch/veranstaltung/gespraechsgruppe-schaan-termine-im-jahr-2025/2025-01-21
LOCATION:Stützpunkt Demenz Liechtenstein\, Poststrasse 14\, Schaan\, 9494\, Fürstentum Liechtenstein
CATEGORIES:Veranstaltungen
ATTACH;FMTTYPE=image/png:https://ofpg.ch/wp-content/uploads/Demenz_LI_Gespraechsgruppe-e1709560544968.png
ORGANIZER;CN="Demenz Liechtenstein":MAILTO:kontakt@demenz.li
GEO:47.1681407;9.5062734
X-APPLE-STRUCTURED-LOCATION;VALUE=URI;X-ADDRESS=Stützpunkt Demenz Liechtenstein Poststrasse 14 Schaan 9494 Fürstentum Liechtenstein;X-APPLE-RADIUS=500;X-TITLE=Poststrasse 14:geo:9.5062734,47.1681407
END:VEVENT
BEGIN:VEVENT
DTSTART;TZID=Europe/Zurich:20250123T181500
DTEND;TZID=Europe/Zurich:20250123T181500
DTSTAMP:20260426T030349
CREATED:20241219T153058Z
LAST-MODIFIED:20241219T153137Z
UID:10001032-1737656100-1737656100@ofpg.ch
SUMMARY:Vortrag: Glückliche Partnerschaft als Ressource
DESCRIPTION:Vortrag \nGlückliche Partnerschaft als Ressource: Wie wir unsere Klienten dabei unterstützen können\, ihre Beziehungsqualität zu verbessern. \nReferentin:\nDr. Judith Gastner\nDiplom-Psychologin\, Psychotherapeutin\, Pädagogin & Paartherapeutin\, München \nVeranstalter: Oberwaid Klinik\, Rorschacher Str. 311\, 9016 St. Gallen \nDatum: Donnerstag\, 23. Januar 2025 ab 18:15 Uhr \nEs ist eine Anmeldung erforderlich und es ist kostenlos.
URL:https://ofpg.ch/veranstaltung/vortrag-glueckliche-partnerschaft-als-ressource
LOCATION:Oberwaid – Das Hotel. Die Klinik.\, Rorschacher Str. 311\, St.Gallen\, 9016
CATEGORIES:Referate
END:VEVENT
BEGIN:VEVENT
DTSTART;TZID=Europe/Zurich:20250123T183000
DTEND;TZID=Europe/Zurich:20250123T200000
DTSTAMP:20260426T030349
CREATED:20250108T093024Z
LAST-MODIFIED:20250108T093024Z
UID:10001059-1737657000-1737662400@ofpg.ch
SUMMARY:Kurs Recovery College: Mein Leben nach einer psychischen Erkrankung
DESCRIPTION:Was beinhaltet dieser Kurs? \nMonatliche\, fortlaufende Recoverygruppe für Betroffene\, Angehörige und Fachpersonen\, die sich mit Themen und Fragen des Lebens nach einer psychischen Erkrankung auseinandersetzen möchten. \nVeranstaltungsdatum und Uhrzeit \nDonnerstag\, 23. Januar 2025\nDonnerstag\, 20. Februar 2025\nDonnerstag\, 20. März 2025\nDonnerstag\, 10. April 2025\nDonnerstag\, 22. Mai 2025\nDonnerstag\, 19. Juni 2025\njeweils 18.30 bis 20.00 Uhr \nVeranstaltungsort \nPsychiatrie St.Gallen\, Tiefrietstrasse 18\, 7320 Sargans \nAnmeldung \nAnmeldung für jeden Abend einzeln bis spätestens jeweils am Montagabend vor der Gruppe an recovery-college@psychiatrie-sg.ch.  \nKosten \nbasic/regular/pro: CHF 5 pro Abend \nModeration \nLena Weithaler\, Pflegefachfrau\nRenata Bleichenbacher\, Leitung RCSG und Expertin aus Erfahrung\, Psychiatrie St.Gallen
URL:https://ofpg.ch/veranstaltung/kurs-recovery-college-mein-leben-nach-einer-psychischen-erkrankung-5/2025-01-23
LOCATION:Psychatrie St.Gallen\, Sargans\, Tiefrietstrasse 18\, Sargans\, 7320
CATEGORIES:Veranstaltungen
ATTACH;FMTTYPE=image/png:https://ofpg.ch/wp-content/uploads/Screenshot-2024-03-04-161749-e1709565701494.png
ORGANIZER;CN="Psychiatrie St.Gallen":MAILTO:wil@psychiatrie-sg.ch
END:VEVENT
BEGIN:VEVENT
DTSTART;TZID=Europe/Zurich:20250128T093000
DTEND;TZID=Europe/Zurich:20250128T103000
DTSTAMP:20260426T030349
CREATED:20241127T092015Z
LAST-MODIFIED:20241127T092015Z
UID:10001023-1738056600-1738060200@ofpg.ch
SUMMARY:Kurs für betreuende Angehörige «HEB DIR SORG»
DESCRIPTION:INFOS\nBetreuen Sie ein krankes oder pflegebedürftiges Familienmitglied? Und plagen Sie manchmal Ängste und Sorgen? Dann nehmen Sie teil am Kurs «Heb dir Sorg». Entdecken Sie\, wie Sie mit kleinen Veränderungen mehr Leichtigkeit in Ihrem Leben gewinnen können. \nIm ersten Teil erfahren Sie mehr zum Thema psychische Gesundheit und wie Sie diese stärken können. Im Anschluss lernen Sie Strategien kennen\, mit denen Sie sich den Alltag erleichtern können. Es besteht die Möglichkeit\, sich regelmässig zu zweit oder in einer Gruppe auszutauschen. \nKURSORT\nDer Kurs wird online durchgeführt.\nGenaue Informationen erhalten Sie bei der Anmeldung. \nKOSTEN\nDer Kurs ist kostenlos. \nDATEN 2025\nJeweils dienstags\n07.01.: 09:30 – 11:00 Uhr\n14.01.\, 21.01.\, 28.01.\, 04.02. und 11.02.: 09:30 – 10:30 Uhr \nANMELDUNG \nAmt für Gesundheitsvorsorge\nZEPRA\, Fachstelle Gesundheit im Alter\nKarolina Staniszewski\, Unterstrasse 22\, 9001 St.Gallen\n058 229 87 60\, karolina.staniszewski@sg.ch\nwww.zepra.info/angehoerige \nOnline-Anmeldung unter https://zepra.info/an_kurs_betreuende_angehoerige
URL:https://ofpg.ch/veranstaltung/kurs-fuer-betreuende-angehoerige-heb-dir-sorg/2025-01-28
LOCATION:Online
CATEGORIES:Kurse
ATTACH;FMTTYPE=image/png:https://ofpg.ch/wp-content/uploads/Betreuende-Angehoerige-e1732698814846.png
END:VEVENT
BEGIN:VEVENT
DTSTART;TZID=Europe/Zurich:20250130T183000
DTEND;TZID=Europe/Zurich:20250130T200000
DTSTAMP:20260426T030349
CREATED:20250108T083834Z
LAST-MODIFIED:20250116T151125Z
UID:10001049-1738261800-1738267200@ofpg.ch
SUMMARY:Kurs Recovery College: "Blickpunkte Psychiatrie erklärt" - Suchterkrankungen/Arbeitstherapie
DESCRIPTION:Blickpunkte Psychiatrie erklärt\nMonatliches Informations- und Diskussionsforum. Es werden jeweils zwei Blickpunkte vorgestellt (verschiedene Therapieformen\, Behandlungsschwerpunkte\, psychische Erkrankungen etc.). Im Anschluss können Fragestellungen von Teilnehmerinnen und Teilnehmer einfliessen und gemeinsam diskutiert werden. \nVeranstaltungsdaten\nDonnerstag\, 30. Januar 2025\nDonnerstag\, 27. Februar 2025\nDonnerstag\, 27. März 2025\nDonnerstag\, 24. April 2025\nDonnerstag\, 22. Mai 2025\nDonnerstag\, 26. Juni 2025\njeweils 18.30 bis 20.00 Uhr \nVeranstaltungsort\nPsychiatrie St.Gallen\, Klosterweg 1\, 7312 Pfäfers\, Gebäude A6A \nKosten und Anmeldung\nDie Veranstaltungen sind kostenfrei. Es ist keine Anmeldung erforderlich. \nInformationen\nThomas Lampert\, Koordinator Prävention und Angehörigenarbeit\, Psychiatrie St.Gallen \nInhalt vom 30. Januar 2025 \nBlickpunkt 1: Suchterkrankungen\nNatascha Eberle\, Pflegefachfrau\, Psychiatrie St.Gallen\nBlickpunkt 2: Arbeitstherapie\nSamuel Bislin\, Arbeitstherapeut\, Psychiatrie St.Gallen \nFlyer Halbjahresprogramm Recovery College
URL:https://ofpg.ch/veranstaltung/kurs-recovery-college-blickpunkte-psychiatrie-erklaert-suchterkrankungen-arbeitstherapie
LOCATION:Psychiatrie St.Gallen\, Pfäfers\, Klosterweg 1\, Pfäfers\, 7312\, Schweiz
CATEGORIES:Veranstaltungen
ATTACH;FMTTYPE=image/png:https://ofpg.ch/wp-content/uploads/Screenshot-2024-03-04-161854-e1709565789211.png
ORGANIZER;CN="Psychiatrie St.Gallen":MAILTO:wil@psychiatrie-sg.ch
END:VEVENT
END:VCALENDAR