BEGIN:VCALENDAR
VERSION:2.0
PRODID:-//OFPG - ECPv6.15.20//NONSGML v1.0//EN
CALSCALE:GREGORIAN
METHOD:PUBLISH
X-WR-CALNAME:OFPG
X-ORIGINAL-URL:https://ofpg.ch
X-WR-CALDESC:Veranstaltungen für OFPG
REFRESH-INTERVAL;VALUE=DURATION:PT1H
X-Robots-Tag:noindex
X-PUBLISHED-TTL:PT1H
BEGIN:VTIMEZONE
TZID:Europe/Zurich
BEGIN:DAYLIGHT
TZOFFSETFROM:+0100
TZOFFSETTO:+0200
TZNAME:CEST
DTSTART:20170326T010000
END:DAYLIGHT
BEGIN:STANDARD
TZOFFSETFROM:+0200
TZOFFSETTO:+0100
TZNAME:CET
DTSTART:20171029T010000
END:STANDARD
BEGIN:DAYLIGHT
TZOFFSETFROM:+0100
TZOFFSETTO:+0200
TZNAME:CEST
DTSTART:20180325T010000
END:DAYLIGHT
BEGIN:STANDARD
TZOFFSETFROM:+0200
TZOFFSETTO:+0100
TZNAME:CET
DTSTART:20181028T010000
END:STANDARD
BEGIN:DAYLIGHT
TZOFFSETFROM:+0100
TZOFFSETTO:+0200
TZNAME:CEST
DTSTART:20190331T010000
END:DAYLIGHT
BEGIN:STANDARD
TZOFFSETFROM:+0200
TZOFFSETTO:+0100
TZNAME:CET
DTSTART:20191027T010000
END:STANDARD
BEGIN:DAYLIGHT
TZOFFSETFROM:+0100
TZOFFSETTO:+0200
TZNAME:CEST
DTSTART:20200329T010000
END:DAYLIGHT
BEGIN:STANDARD
TZOFFSETFROM:+0200
TZOFFSETTO:+0100
TZNAME:CET
DTSTART:20201025T010000
END:STANDARD
BEGIN:DAYLIGHT
TZOFFSETFROM:+0100
TZOFFSETTO:+0200
TZNAME:CEST
DTSTART:20210328T010000
END:DAYLIGHT
BEGIN:STANDARD
TZOFFSETFROM:+0200
TZOFFSETTO:+0100
TZNAME:CET
DTSTART:20211031T010000
END:STANDARD
BEGIN:DAYLIGHT
TZOFFSETFROM:+0100
TZOFFSETTO:+0200
TZNAME:CEST
DTSTART:20220327T010000
END:DAYLIGHT
BEGIN:STANDARD
TZOFFSETFROM:+0200
TZOFFSETTO:+0100
TZNAME:CET
DTSTART:20221030T010000
END:STANDARD
BEGIN:DAYLIGHT
TZOFFSETFROM:+0100
TZOFFSETTO:+0200
TZNAME:CEST
DTSTART:20230326T010000
END:DAYLIGHT
BEGIN:STANDARD
TZOFFSETFROM:+0200
TZOFFSETTO:+0100
TZNAME:CET
DTSTART:20231029T010000
END:STANDARD
END:VTIMEZONE
BEGIN:VEVENT
DTSTART;TZID=Europe/Zurich:20220401T143000
DTEND;TZID=Europe/Zurich:20220401T170000
DTSTAMP:20260425T211759
CREATED:20220315T064157Z
LAST-MODIFIED:20220315T064852Z
UID:10000804-1648823400-1648832400@ofpg.ch
SUMMARY:Café TrotzDem Wil
DESCRIPTION:Auch im 2022 können sich Menschen mit Demenz wie auch deren Angehörige einmal monatlich im Kafi Peter in Wil treffen\, informieren und austauschen. Das Netzwerk Demenz Wil verfolgt mit diesen Treffen das Ziel\, der Isolation von Menschen mit Demenz und ihren Angehörigen entgegen zu wirken. Jedes Treffen steht unter einem Motto und wird von Fachpersonen begleitet. \nDie Idee des Café TrotzDem Wil lehnt sich an das Konzept Alzheimer Café der schweizerischen Alzheimervereinigung aus dem Jahr 2011 an. Menschen mit Demenz und ihre Angehörigen erhalten die Gelegenheit\, sich im öffentlichen Raum\, in informeller und entspannter Atmosphäre zu begegnen. \nImmer am ersten Freitag des Monats\nDas Café TrotzDem Wil findet immer am ersten Freitagnachmittag des Monats statt\, von 14.30 bis 17.00 Uhr. Im Zentrum stehen jeweils ausgewählte Informationen zum Thema Demenz – von der Bewältigung des Alltags über rechtliche Belange bis hin zu Singen und Musik. Jedes Treffen ist begleitet von Fachpersonen\, die für Fragen da sind wie auch Info-Material zu Demenz\, Entlastungsangeboten\, lokalen Anbietern und Veranstaltungen bereithalten. \nDaten 2022\n4. Februar\, 4. März\, 1. April\, 6. Mai\, 3. Juni\, 1. Juli\, 2. September\, 7. Oktober\, 4. November\, 2. Dezember \nThemenschwerpunkte\nUm ca. 15.00 Uhr wird jeweils ein besonderes Thema behandelt.\nLink zu den Themenschwerpunkte 2022 \nNiederschwellig und kostenlos\nDas Café TrotzDem Wil versteht sich als kostenloses und niederschwelliges Angebot. Die Teilnehmenden gehen keinerlei Verpflichtungen ein. Sie müssen sich nicht anmelden und entscheiden selbst\, wie lange sie bleiben und ob sie am jeweiligen Programm teilnehmen möchten. Die Konsumation im Peter Kafi erfolgt auf eigene Rechnung. \nIn Agenda notieren\nDas Café TrotzDem Wil findet immer am ersten Freitagnachmittag im Monat statt\, von 14.30 – 17.00 Uhr. \nWeitere Informationen\nAlzheimer St.Gallen-Appenzell AR/AI\, Geschäftsstelle 071 223 10 46 oder Angehörigenberatung der Psychiatrie St.Gallen Nord\, 058 178 13 00\, edith.scherer@psgn.ch \nFlyer Café TrotzDem Wil
URL:https://ofpg.ch/veranstaltung/cafe-trotzdem-wil
LOCATION:Peter Kafi\, Pfarreizentrum\, Lerchenfeldstr. 3\, Wil\, 9500\, Schweiz
CATEGORIES:Veranstaltungen
ORGANIZER;CN="Psychiatrie St.Gallen Nord":MAILTO:coeur.veranstaltungen@psgn.ch
END:VEVENT
BEGIN:VEVENT
DTSTART;TZID=Europe/Zurich:20200206T101500
DTEND;TZID=Europe/Zurich:20200206T111500
DTSTAMP:20260425T211759
CREATED:20200116T074932Z
LAST-MODIFIED:20200116T080330Z
UID:10000729-1580984100-1580987700@ofpg.ch
SUMMARY:"Die Posttraumatische Belastungsstörung und ihre Behandlung" - Donnerstags-Weiterbildung
DESCRIPTION:PD Dr. phil. Julia Müller\, Therapeutische Leiterin der Station für Traumafolgestörungen und Transkulturelle Psychotherapie der Psychiatrischen Dienste Thurgau referiert zum Thema \n„Die Posttraumatische Belastungsstörung und ihre Behandlung“. \nAnmeldung\nKeine Anmeldung erforderlich \nOrt\nPsychiatrie St.Gallen Nord Hörsaal\, C03 Zürcherstrasse 30 9500 Wil \nDatum\n06.02.2020 \nZeit\n10:15 – 11:15
URL:https://ofpg.ch/veranstaltung/die-posttraumatische-belastungsstoerung-und-ihre-behandlung-donnerstags-weiterbildung
LOCATION:Psychiatrie St.Gallen Nord\, Zürcherstrasse 30\, Wil\, 9500\, Schweiz
CATEGORIES:Veranstaltungen
ORGANIZER;CN="Psychiatrie St.Gallen Nord":MAILTO:coeur.veranstaltungen@psgn.ch
END:VEVENT
BEGIN:VEVENT
DTSTART;TZID=Europe/Zurich:20191107T084500
DTEND;TZID=Europe/Zurich:20191107T153000
DTSTAMP:20260425T211759
CREATED:20180816T055225Z
LAST-MODIFIED:20191003T061356Z
UID:10000552-1573116300-1573140600@ofpg.ch
SUMMARY:19. Säntis-Psychiatrie-Tagung
DESCRIPTION:Diesjähriges Thema: \n„Kulturen\, Spiritualität\, Würde“ – Eine triaglogische Herausforderung zwischen Erwartungen und Grenzen. \nZur 19. Säntis-Psychiatrie-Tagung\, einer öffentlichen Veranstaltung\, sind Betroffene\, Angehörige\, Fachleute sowie weitere Interessierte eingeladen. \nAnmeldung: \nErfahrene und Angehörige: Keine Anmeldung erforderlich. \nKosten: \nErfahrene und Angehörige: Die Tagung ist für Sie kostenlos. \nFachpersonen: Tagungsbeitrag CHF 140.- \nWeitere Informationen: \nwww.psgn.ch/saentistagung
URL:https://ofpg.ch/veranstaltung/19-saentis-psychiatrie-tagung
LOCATION:Psychiatrie St.Gallen Nord\, Zürcherstrasse 30\, Wil\, 9500\, Schweiz
CATEGORIES:Veranstaltungen
ORGANIZER;CN="Psychiatrie St.Gallen Nord":MAILTO:coeur.veranstaltungen@psgn.ch
END:VEVENT
BEGIN:VEVENT
DTSTART;TZID=Europe/Zurich:20181108T084500
DTEND;TZID=Europe/Zurich:20181108T153000
DTSTAMP:20260425T211759
CREATED:20180816T055225Z
LAST-MODIFIED:20180926T065338Z
UID:10000551-1541666700-1541691000@ofpg.ch
SUMMARY:18. Säntis-Psychiatrie-Tagung: "Wir werden alle älter – manche mit einer psychischen Erkrankung."
DESCRIPTION:Diesjähriges Thema: \n„Wir werden alle älter – manche mit einer psychischen Erkrankung.“ – Eine triaglogische Herausforderung zwischen Erwartungen und Grenzen. \nZur 18. Säntis-Psychiatrie-Tagung\, einer öffentlichen Veranstaltung\, sind Betroffene\, Angehörige\, Fachleute sowie weitere Interessierte eingeladen. \nAnmeldung: \nErfahrene und Angehörige: Keine Anmeldung erforderlich. \nFachpersonen: Wir bitten Sie\, sich unter coeur.veranstaltungen@psgn.ch bis spätestens 30. Oktober 2018 anzumelden \nKosten: \nErfahrene und Angehörige: Die Tagung ist für Sie kostenlos. \nFachpersonen: Tagungsbeitrag CHF 140.- \nWeitere Informationen: \nwww.psgn.ch/saentistagung
URL:https://ofpg.ch/veranstaltung/18-saentis-psychiatrie-tagung-wir-werden-alle-aelter-manche-mit-einer-psychischen-erkrankung
LOCATION:Psychiatrie St.Gallen Nord\, Zürcherstrasse 30\, Wil\, 9500\, Schweiz
CATEGORIES:Veranstaltungen
ORGANIZER;CN="Psychiatrie St.Gallen Nord":MAILTO:coeur.veranstaltungen@psgn.ch
END:VEVENT
END:VCALENDAR