BEGIN:VCALENDAR
VERSION:2.0
PRODID:-//OFPG - ECPv6.15.20//NONSGML v1.0//EN
CALSCALE:GREGORIAN
METHOD:PUBLISH
X-ORIGINAL-URL:https://ofpg.ch
X-WR-CALDESC:Veranstaltungen für OFPG
REFRESH-INTERVAL;VALUE=DURATION:PT1H
X-Robots-Tag:noindex
X-PUBLISHED-TTL:PT1H
BEGIN:VTIMEZONE
TZID:Europe/Zurich
BEGIN:DAYLIGHT
TZOFFSETFROM:+0100
TZOFFSETTO:+0200
TZNAME:CEST
DTSTART:20220327T010000
END:DAYLIGHT
BEGIN:STANDARD
TZOFFSETFROM:+0200
TZOFFSETTO:+0100
TZNAME:CET
DTSTART:20221030T010000
END:STANDARD
BEGIN:DAYLIGHT
TZOFFSETFROM:+0100
TZOFFSETTO:+0200
TZNAME:CEST
DTSTART:20230326T010000
END:DAYLIGHT
BEGIN:STANDARD
TZOFFSETFROM:+0200
TZOFFSETTO:+0100
TZNAME:CET
DTSTART:20231029T010000
END:STANDARD
BEGIN:DAYLIGHT
TZOFFSETFROM:+0100
TZOFFSETTO:+0200
TZNAME:CEST
DTSTART:20240331T010000
END:DAYLIGHT
BEGIN:STANDARD
TZOFFSETFROM:+0200
TZOFFSETTO:+0100
TZNAME:CET
DTSTART:20241027T010000
END:STANDARD
END:VTIMEZONE
BEGIN:VEVENT
DTSTART;TZID=Europe/Zurich:20230913T190000
DTEND;TZID=Europe/Zurich:20230913T220000
DTSTAMP:20260425T021418
CREATED:20230906T103139Z
LAST-MODIFIED:20230906T103139Z
UID:10000919-1694631600-1694642400@ofpg.ch
SUMMARY:Paarlife-Workshop 13.09.2023\, St. Gallen
DESCRIPTION:Inhalt \nGlückliche Partnerschaft lebt vor allem vom Engagement beider Partner und der Bereitschaft\, sich auf die Beziehung einzulassen und dafür zu investieren. An drei Abenden bekommen Sie wissenschaftlich abgestützte Impulse\, um zu zweit in einer angenehmen und diskreten Atmosphäre dem nach zugehen\, was Ihre Beziehung stärkt. Kurze Impulsvorträge regen an\, im Zweiergespräch den Bogen in den Beziehungsalltag zu schlagen und die Impulse nachhaltig nutzbar zu machen. Die Abende schliessen mit einem spirituellen Gedanken. \nDaten:\nMittwoch\, 13. September 2023\, Montag\, 25. September 2023 und Mittwoch\, 25. Oktober 2023\, jeweils von 19.00 – 22.00 Uhr \nLeitung: \nMadeleine Winterhalter\, Lizenzierte Paarlife-Kursleiterin\, Fachstelle Partnerschaft-Ehe-Familie\, Bistum St. Gallen\, Tel. 071 223 68 66\, m.winterhalter@pef-sg.ch \nKosten:\nFr. 150.- pro Paar\, inkl. Buch „Was Paare stark macht“ von Guy Bodenmann und Caroline Fux\, Beobachterverlag. Es wird jeweils ein kleiner Imbiss angeboten.\nTeilnehmerzahl: mind. 5 und max. 10 Paare \nAnmeldeschluss:\n6. September 2023 \nVeranstalter und Anmeldung:\nSeelsorgeeinheit St. Gallen Ost\, Urszula Pfister\, Federerstrasse 12\, 9008 St. Gallen\, 071 224 07 34\, urszula.pfister@kathsg.ch\, www.heiligkreuz.kathsg.ch
URL:https://ofpg.ch/veranstaltung/paarlife-workshop-13-09-2023-st-gallen
LOCATION:Kath. Pfarreiheim Heiligkreuz\, Federerstrasse 12\, St.Gallen\, 9008\, Schweiz
CATEGORIES:Kurse
END:VEVENT
END:VCALENDAR