BEGIN:VCALENDAR
VERSION:2.0
PRODID:-//OFPG - ECPv6.15.20//NONSGML v1.0//EN
CALSCALE:GREGORIAN
METHOD:PUBLISH
X-ORIGINAL-URL:https://ofpg.ch
X-WR-CALDESC:Veranstaltungen für OFPG
REFRESH-INTERVAL;VALUE=DURATION:PT1H
X-Robots-Tag:noindex
X-PUBLISHED-TTL:PT1H
BEGIN:VTIMEZONE
TZID:Europe/Zurich
BEGIN:DAYLIGHT
TZOFFSETFROM:+0100
TZOFFSETTO:+0200
TZNAME:CEST
DTSTART:20240331T010000
END:DAYLIGHT
BEGIN:STANDARD
TZOFFSETFROM:+0200
TZOFFSETTO:+0100
TZNAME:CET
DTSTART:20241027T010000
END:STANDARD
BEGIN:DAYLIGHT
TZOFFSETFROM:+0100
TZOFFSETTO:+0200
TZNAME:CEST
DTSTART:20250330T010000
END:DAYLIGHT
BEGIN:STANDARD
TZOFFSETFROM:+0200
TZOFFSETTO:+0100
TZNAME:CET
DTSTART:20251026T010000
END:STANDARD
BEGIN:DAYLIGHT
TZOFFSETFROM:+0100
TZOFFSETTO:+0200
TZNAME:CEST
DTSTART:20260329T010000
END:DAYLIGHT
BEGIN:STANDARD
TZOFFSETFROM:+0200
TZOFFSETTO:+0100
TZNAME:CET
DTSTART:20261025T010000
END:STANDARD
END:VTIMEZONE
BEGIN:VEVENT
DTSTART;TZID=Europe/Zurich:20251127T193000
DTEND;TZID=Europe/Zurich:20251127T223000
DTSTAMP:20260425T123106
CREATED:20251117T141314Z
LAST-MODIFIED:20251117T141314Z
UID:10001262-1764271800-1764282600@ofpg.ch
SUMMARY:Filmabend "Bilder im Kopf"
DESCRIPTION:Filmeabend Flyer\nDie Regisseurin Eleonora Camizzi wird selbst anwesend sein und nach der Vorführung persönliche Einblicke über die Entstehung des Films\, seine Hintergründe sowie Ziele geben.\nAnschliessend sind alle Gäste zu einem gemütlichen Apéro eingeladen – eine schöne Gelegenheit\, sich auszutauschen und den Abend gemeinsam ausklingen zu lassen.\nOrt: Kino Passarelle\, Austrasse 3\, 9630 Wattwil\nDatum: Donnerstag\, 27. November 2025\nZeit: 19.30 Uhr\nEintritt: frei\nReservation: erwünscht\ninfo@kinopasserelle.ch\nwww.kinopassarelle.ch
URL:https://ofpg.ch/veranstaltung/filmabend-bilder-im-kopf
LOCATION:Kino Passerelle\, Austrasse 3\, Wattwil\, 9630\, Schweiz
CATEGORIES:Veranstaltungen
END:VEVENT
END:VCALENDAR