BEGIN:VCALENDAR
VERSION:2.0
PRODID:-//OFPG - ECPv6.15.20//NONSGML v1.0//EN
CALSCALE:GREGORIAN
METHOD:PUBLISH
X-WR-CALNAME:OFPG
X-ORIGINAL-URL:https://ofpg.ch
X-WR-CALDESC:Veranstaltungen für OFPG
REFRESH-INTERVAL;VALUE=DURATION:PT1H
X-Robots-Tag:noindex
X-PUBLISHED-TTL:PT1H
BEGIN:VTIMEZONE
TZID:Europe/Zurich
BEGIN:DAYLIGHT
TZOFFSETFROM:+0100
TZOFFSETTO:+0200
TZNAME:CEST
DTSTART:20180325T010000
END:DAYLIGHT
BEGIN:STANDARD
TZOFFSETFROM:+0200
TZOFFSETTO:+0100
TZNAME:CET
DTSTART:20181028T010000
END:STANDARD
BEGIN:DAYLIGHT
TZOFFSETFROM:+0100
TZOFFSETTO:+0200
TZNAME:CEST
DTSTART:20190331T010000
END:DAYLIGHT
BEGIN:STANDARD
TZOFFSETFROM:+0200
TZOFFSETTO:+0100
TZNAME:CET
DTSTART:20191027T010000
END:STANDARD
BEGIN:DAYLIGHT
TZOFFSETFROM:+0100
TZOFFSETTO:+0200
TZNAME:CEST
DTSTART:20200329T010000
END:DAYLIGHT
BEGIN:STANDARD
TZOFFSETFROM:+0200
TZOFFSETTO:+0100
TZNAME:CET
DTSTART:20201025T010000
END:STANDARD
END:VTIMEZONE
BEGIN:VEVENT
DTSTART;TZID=Europe/Zurich:20190320T201500
DTEND;TZID=Europe/Zurich:20190320T221500
DTSTAMP:20260419T194331
CREATED:20190110T064918Z
LAST-MODIFIED:20190307T072647Z
UID:10000581-1553112900-1553120100@ofpg.ch
SUMMARY:Psychische Gesundheit & Humor
DESCRIPTION:Mit Daniel Ziegler und seinem E-Bass \nWie beeinflusst Humor die Stimmung und das Wohlbefinden? \nDaniel Ziegler\, bekannt als Musiker aus «Giacobbo/Müller»\, als zweiter Mann auf der Bühne mit Simon Enzler\, als «Töfflibueb» aus der SRF-Sommerserie oder aktuell aus dem Stück «Giacobbo/Müller in Therapie»: Auf seinem E-Bass ist er ein Ausnahmemusiker\, der Musik mit Humor kombiniert und 2016 mit dem Swiss Comedy Award ausgezeichnet wurde. In der Veranstaltungsreihe «Psychische Gesundheit & …» wird er sein Können zeigen. Es wird sicher viel zu lachen geben! \nZudem gehen wir der Frage nach\, ob und wie Humor zum Gesund-Werden und Gesund-Bleiben beitragen kann: Lachen ist ansteckend und beeinflusst direkt unser Wohlbefinden. Humor macht im Alltag vieles leichter und kann auch in schwierigen Situationen helfen. Doch was genau hat Humor mit der Gesundheit der Seele zu tun? Kann Humor auch bei einer ernsthaften Krise oder Erkrankung unterstützen? Und darf man auch über ernste Themen lachen? \nZwischen den zwei Programm-Blöcken von Daniel Ziegler findet ein Podiumsgespräch statt\, das diese Fragen aus unterschiedlichen Perspektiven beleuchtet. Am Podiumsgespräch nehmen neben Daniel Ziegler Fachpersonen\, Betroffene und Angehörige aus der Region teil\, die von ihren eigenen Erfahrungen berichten. \nModeration\nJürg Engler\, Ostschweizer Forum für Psychische Gesundheit \nPodium \nDr. med. Thomas Meier\, Chefarzt der St.Gallischen Psychiatrie-Dienste Süd \nFlyer (PDF)\n \nTüröffnung:\n19.30 Uhr\n \nReservation\nwww.buehnemarbach.ch\n \nweitere Termine\n26. April 2019\, 20.00 Uhr\, Schlösslekeller Vaduz\, Fürstentum Liechtenstein\nTickets & Reservation: www.schloesslekeller.li\nWeitere Informationen\n01. Mai 2019\, 19.30 Uhr\, Chössi-Theater\, Lichtensteig\nTickets & Reservation: www.choessi.ch\nWeitere Informationen \nEine Veranstaltungsreihe in Zusammenarbeit mit dem Ostschweizer Forum für Psychische Gesundheit\, dem Psychiatrischen Zentrum AR\, der Psychiatrie St.Gallen Nord und den St.Gallischen Psychiatrie-Diensten Süd. 
URL:https://ofpg.ch/veranstaltung/psychische-gesundheit-humor-2
LOCATION:Bühne Marbach\, Obergasse 5\, Marbach\, 9437\, Schweiz
CATEGORIES:Veranstaltungen
ORGANIZER;CN="Ostschweizer Forum f%C3%BCr Psychische Gesundheit":MAILTO:info@ofpg.ch
END:VEVENT
END:VCALENDAR