BEGIN:VCALENDAR
VERSION:2.0
PRODID:-//OFPG - ECPv6.15.20//NONSGML v1.0//EN
CALSCALE:GREGORIAN
METHOD:PUBLISH
X-WR-CALNAME:OFPG
X-ORIGINAL-URL:https://ofpg.ch
X-WR-CALDESC:Veranstaltungen für OFPG
REFRESH-INTERVAL;VALUE=DURATION:PT1H
X-Robots-Tag:noindex
X-PUBLISHED-TTL:PT1H
BEGIN:VTIMEZONE
TZID:Europe/Zurich
BEGIN:DAYLIGHT
TZOFFSETFROM:+0100
TZOFFSETTO:+0200
TZNAME:CEST
DTSTART:20230326T010000
END:DAYLIGHT
BEGIN:STANDARD
TZOFFSETFROM:+0200
TZOFFSETTO:+0100
TZNAME:CET
DTSTART:20231029T010000
END:STANDARD
BEGIN:DAYLIGHT
TZOFFSETFROM:+0100
TZOFFSETTO:+0200
TZNAME:CEST
DTSTART:20240331T010000
END:DAYLIGHT
BEGIN:STANDARD
TZOFFSETFROM:+0200
TZOFFSETTO:+0100
TZNAME:CET
DTSTART:20241027T010000
END:STANDARD
BEGIN:DAYLIGHT
TZOFFSETFROM:+0100
TZOFFSETTO:+0200
TZNAME:CEST
DTSTART:20250330T010000
END:DAYLIGHT
BEGIN:STANDARD
TZOFFSETFROM:+0200
TZOFFSETTO:+0100
TZNAME:CET
DTSTART:20251026T010000
END:STANDARD
BEGIN:DAYLIGHT
TZOFFSETFROM:+0100
TZOFFSETTO:+0200
TZNAME:CEST
DTSTART:20260329T010000
END:DAYLIGHT
BEGIN:STANDARD
TZOFFSETFROM:+0200
TZOFFSETTO:+0100
TZNAME:CET
DTSTART:20261025T010000
END:STANDARD
END:VTIMEZONE
BEGIN:VEVENT
DTSTART;TZID=Europe/Zurich:20251023T181500
DTEND;TZID=Europe/Zurich:20251023T181500
DTSTAMP:20260425T160529
CREATED:20241219T154043Z
LAST-MODIFIED:20241219T154130Z
UID:10001035-1761243300-1761243300@ofpg.ch
SUMMARY:Vortrag: Unterschiedliche Herausforderungen in/bei der Behandlung von Patient*innen mit Borderline-\, narzisstischer und paranoider Persönlichkeitsstörung
DESCRIPTION:Vortrag \nUnterschiedliche Herausforderungen in/bei der Behandlung von Patient*innen mit Borderline-\, narzisstischer und paranoider Persönlichkeitsstörung. \nReferentin:\nDipl.-Psych. Christiane Rösch\nTherapeutische Leiterin Psychiatrische Dienste\, Spital Thurgau \nVeranstalter: Oberwaid Klinik\, Rorschacher Str. 311\, 9016 St. Gallen \nDatum: Donnerstag\, 23. Oktober 2025 ab 18:15 Uhr \nEs ist eine Anmeldung erforderlich und es ist kostenlos.
URL:https://ofpg.ch/veranstaltung/vortrag-unterschiedliche-herausforderungen-in-bei-der-behandlung-von-patient-innen-mit-borderline-narzisstischer-und-paranoider-persoenlichkeitsstoerung
LOCATION:Oberwaid – Das Hotel. Die Klinik.\, Rorschacher Str. 311\, St.Gallen\, 9016
CATEGORIES:Referate
END:VEVENT
BEGIN:VEVENT
DTSTART;TZID=Europe/Zurich:20250814T181500
DTEND;TZID=Europe/Zurich:20250814T181500
DTSTAMP:20260425T160529
CREATED:20241219T153714Z
LAST-MODIFIED:20241219T153714Z
UID:10001034-1755195300-1755195300@ofpg.ch
SUMMARY:Vortrag: Psychosomatische Symptome als Niederschlag psychisch nicht bewältigter Beziehungserfahrungen
DESCRIPTION:Vortrag \nPsychosomatische Symptome als Niederschlag psychisch nicht bewältigter Beziehungserfahrungen. \nReferent:\nDr. med. Christoff Ehmer-von Geiso\nFacharzt für Psychosomatische Medizin und Psychotherapie\, München \nVeranstalter: Oberwaid Klinik\, Rorschacher Str. 311\, 9016 St. Gallen \nDatum: Donnerstag\, 14. August 2025 ab 18:15 Uhr \nEs ist eine Anmeldung erforderlich und es ist kostenlos.
URL:https://ofpg.ch/veranstaltung/vortrag-psychosomatische-symptome-als-niederschlag-psychisch-nicht-bewaeltigter-beziehungserfahrungen
LOCATION:Oberwaid – Das Hotel. Die Klinik.\, Rorschacher Str. 311\, St.Gallen\, 9016
CATEGORIES:Referate
END:VEVENT
BEGIN:VEVENT
DTSTART;TZID=Europe/Zurich:20250617T181500
DTEND;TZID=Europe/Zurich:20250617T181500
DTSTAMP:20260425T160529
CREATED:20241219T153339Z
LAST-MODIFIED:20241219T153416Z
UID:10001033-1750184100-1750184100@ofpg.ch
SUMMARY:Vortrag: Resilienz – ein lebenslanger dynamischer Anpassungsprozess
DESCRIPTION:Vortrag \nResilienz – ein lebenslanger dynamischer Anpassungsprozess. \nReferentin:\nDr. med. Doris Straus\nCEO & Klinikdirektorin\, Klinik Oberwaid\, St. Gallen \nVeranstalter: Oberwaid Klinik\, Rorschacher Str. 311\, 9016 St. Gallen \nDatum: Dienstag\, 17. Juni 2025 ab 18:15 Uhr \nEs ist eine Anmeldung erforderlich und es ist kostenlos.
URL:https://ofpg.ch/veranstaltung/vortrag-resilienz-ein-lebenslanger-dynamischer-anpassungsprozess
LOCATION:Oberwaid – Das Hotel. Die Klinik.\, Rorschacher Str. 311\, St.Gallen\, 9016
CATEGORIES:Referate
END:VEVENT
BEGIN:VEVENT
DTSTART;TZID=Europe/Zurich:20250123T181500
DTEND;TZID=Europe/Zurich:20250123T181500
DTSTAMP:20260425T160529
CREATED:20241219T153058Z
LAST-MODIFIED:20241219T153137Z
UID:10001032-1737656100-1737656100@ofpg.ch
SUMMARY:Vortrag: Glückliche Partnerschaft als Ressource
DESCRIPTION:Vortrag \nGlückliche Partnerschaft als Ressource: Wie wir unsere Klienten dabei unterstützen können\, ihre Beziehungsqualität zu verbessern. \nReferentin:\nDr. Judith Gastner\nDiplom-Psychologin\, Psychotherapeutin\, Pädagogin & Paartherapeutin\, München \nVeranstalter: Oberwaid Klinik\, Rorschacher Str. 311\, 9016 St. Gallen \nDatum: Donnerstag\, 23. Januar 2025 ab 18:15 Uhr \nEs ist eine Anmeldung erforderlich und es ist kostenlos.
URL:https://ofpg.ch/veranstaltung/vortrag-glueckliche-partnerschaft-als-ressource
LOCATION:Oberwaid – Das Hotel. Die Klinik.\, Rorschacher Str. 311\, St.Gallen\, 9016
CATEGORIES:Referate
END:VEVENT
BEGIN:VEVENT
DTSTART;TZID=Europe/Zurich:20241128T180000
DTEND;TZID=Europe/Zurich:20241128T193000
DTSTAMP:20260425T160529
CREATED:20241014T144648Z
LAST-MODIFIED:20241014T144648Z
UID:10001019-1732816800-1732822200@ofpg.ch
SUMMARY:Vortrag: Stresssymptome\, Stressoren-Erfassung\, Ansätze zur Stressbehandlung
DESCRIPTION:Vortrag \nStresssymptome\, Stressoren-Erfassung\, Ansätze zur Stressbehandlung \nIn diesem Vortrag werden konkrete Skills im Umgang mit Stresssymptomen in der Hausarztpraxis vermittelt. Stresssymptome treten in der Grundversorgung sehr häufig auf.\nEin Teil davon sind funktionelle Körpersymptome\, welche sich nicht vollständig auf organmorphologischer Ebene erklären lassen und meist zu langen sowie schweren Verläufen führen. Entsprechend wichtig ist deren frühzeitige Erkennung und spezifische sowie koordinierte Behandlung\, ambulant als auch stationär. \nReferent*innen:\nDr. med. Anke Schneiders\, Chefärztin Psychosomatik\nKlinik Oberwaid \nRuth Dorothea Knecht\, Leitende Psychologin\nKlinik Oberwaid \nDr. sc. med. Gavin Brupbacher\, Leiter Unternehmensentwicklung\, QM & Forschung\nKlinik Oberwaid \nVeranstalter: Oberwaid Klinik\, Rorschacher Str. 311\, 9016 St. Gallen \nDatum: Donnerstag\, 28.11.2024 18:15 Uhr\nEinlass: 18.00 Uhr\nBeginn: 18.15 bis ca. 19.30 Uhr \nOrt: Raum Baldegg & Guggeien in der Oberwaid \nEs ist eine Anmeldung erforderlich und es ist kostenlos.
URL:https://ofpg.ch/veranstaltung/vortrag-stresssymptome-stressoren-erfassung-ansaetze-zur-stressbehandlung
LOCATION:Oberwaid – Das Hotel. Die Klinik.\, Rorschacher Str. 311\, St.Gallen\, 9016
CATEGORIES:Referate
END:VEVENT
END:VCALENDAR