BEGIN:VCALENDAR
VERSION:2.0
PRODID:-//OFPG - ECPv6.15.20//NONSGML v1.0//EN
CALSCALE:GREGORIAN
METHOD:PUBLISH
X-WR-CALNAME:OFPG
X-ORIGINAL-URL:https://ofpg.ch
X-WR-CALDESC:Veranstaltungen für OFPG
REFRESH-INTERVAL;VALUE=DURATION:PT1H
X-Robots-Tag:noindex
X-PUBLISHED-TTL:PT1H
BEGIN:VTIMEZONE
TZID:Europe/Zurich
BEGIN:DAYLIGHT
TZOFFSETFROM:+0100
TZOFFSETTO:+0200
TZNAME:CEST
DTSTART:20180325T010000
END:DAYLIGHT
BEGIN:STANDARD
TZOFFSETFROM:+0200
TZOFFSETTO:+0100
TZNAME:CET
DTSTART:20181028T010000
END:STANDARD
BEGIN:DAYLIGHT
TZOFFSETFROM:+0100
TZOFFSETTO:+0200
TZNAME:CEST
DTSTART:20190331T010000
END:DAYLIGHT
BEGIN:STANDARD
TZOFFSETFROM:+0200
TZOFFSETTO:+0100
TZNAME:CET
DTSTART:20191027T010000
END:STANDARD
BEGIN:DAYLIGHT
TZOFFSETFROM:+0100
TZOFFSETTO:+0200
TZNAME:CEST
DTSTART:20200329T010000
END:DAYLIGHT
BEGIN:STANDARD
TZOFFSETFROM:+0200
TZOFFSETTO:+0100
TZNAME:CET
DTSTART:20201025T010000
END:STANDARD
BEGIN:DAYLIGHT
TZOFFSETFROM:+0100
TZOFFSETTO:+0200
TZNAME:CEST
DTSTART:20210328T010000
END:DAYLIGHT
BEGIN:STANDARD
TZOFFSETFROM:+0200
TZOFFSETTO:+0100
TZNAME:CET
DTSTART:20211031T010000
END:STANDARD
END:VTIMEZONE
BEGIN:VEVENT
DTSTART;TZID=Europe/Zurich:20200326T134500
DTEND;TZID=Europe/Zurich:20200326T171500
DTSTAMP:20260423T135802
CREATED:20181129T080024Z
LAST-MODIFIED:20200316T141952Z
UID:10000566-1585230300-1585242900@ofpg.ch
SUMMARY:Workshop: Resilienz – Widerstandskraft ausbauen - verschoben
DESCRIPTION:ZEPRA-WORKSHOPS „ARBEIT UND GESUNDHEIT“ \nWas ist das Geheimnis von Menschen\, die aus grossen Krisen gestärkt hervorgehen? Wie schaffen sie es\, Schicksalsschläge oder berufliche Fehlschläge zu meistern? Diese Menschen verfügen über eine hohe innere Widerstandskraft bzw. Resilienz. In diesem Workshop lernen Sie\, Ihre Resilienz zu stärken und auszubauen. \nInhalte \n\nImprovisationsvermögen und Lernbereitschaft\nOptimismus und Selbsteinschätzung\nAkzeptanz und Realitätsbezug\nLösungsorientierung und Kreativität\nSelbstregulation und Selbstfürsorge\nSelbstverantwortung und Selbstwirksamkeit\nBeziehungen und Netzwerke\nZukunftsgestaltung und Visionsentwicklung\n\nReferentin\nLinda Schmollinger\, dipl. Mentaltrainerin\, Ernährungs- und\nEntspannungscoach \nKosten\nCHF 150.- \nKontakt und Anmeldung \nAnmeldeschluss: jeweils 2 Wochen vor Beginn des Workshops \nAnerkennung\nDie Schweizerische Gesellschaft für Arbeitssicherheit (SGAS) anerkennt\ndiesen Workshop als eine Fortbildungseinheit.
URL:https://ofpg.ch/veranstaltung/workshop-resilienz-widerstandskraft-ausbauen
LOCATION:ZEPRA St.Gallen\, Unterstrasse 22\, St.Gallen\, 9001\, Schweiz
CATEGORIES:Kurse
GEO:47.4194816;9.3681492
X-APPLE-STRUCTURED-LOCATION;VALUE=URI;X-ADDRESS=ZEPRA St.Gallen Unterstrasse 22 St.Gallen 9001 Schweiz;X-APPLE-RADIUS=500;X-TITLE=Unterstrasse 22:geo:9.3681492,47.4194816
END:VEVENT
BEGIN:VEVENT
DTSTART;TZID=Europe/Zurich:20200221T083000
DTEND;TZID=Europe/Zurich:20200221T120000
DTSTAMP:20260423T135802
CREATED:20181129T074449Z
LAST-MODIFIED:20191107T073052Z
UID:10000565-1582273800-1582286400@ofpg.ch
SUMMARY:Workshop: Mental stark werden und bleiben
DESCRIPTION:ZEPRA-WORKSHOPS „ARBEIT UND GESUNDHEIT“ \nWie wir mit Erfolg\, Misserfolg oder Schwierigkeiten umgehen\, hängt stark von unserer mentalen Haltung ab. In diesem Workshop erfahren Sie\, wie Sie Ihre Gedanken bewusst lenken und mit dem «WowPrinzip» optimal Richtung Erfolg steuern. \nInhalte \n\nSelbststeuerung und Haltung\nSinnvoller Einsatz von Energien\nGebrauchsanweisungen für das Gehirn\n«WowPrinzip» von Manfred Gehr-Huber\nVermittlung von Grundlagenwissen\n\nReferent\nManfred Gehr-Huber\, Mental-und Motivationstrainer\,\nExperte für Selbststeuerung\, Mathematikdozent\, Lernberater \nKosten\nCHF 150.- \nKontakt und Anmeldung \nAnmeldeschluss: jeweils 2 Wochen vor Beginn des Workshops
URL:https://ofpg.ch/veranstaltung/workshop-mental-stark-werden-und-bleiben
LOCATION:ZEPRA St.Gallen\, Unterstrasse 22\, St.Gallen\, 9001\, Schweiz
CATEGORIES:Kurse
GEO:47.4194816;9.3681492
X-APPLE-STRUCTURED-LOCATION;VALUE=URI;X-ADDRESS=ZEPRA St.Gallen Unterstrasse 22 St.Gallen 9001 Schweiz;X-APPLE-RADIUS=500;X-TITLE=Unterstrasse 22:geo:9.3681492,47.4194816
END:VEVENT
BEGIN:VEVENT
DTSTART;TZID=Europe/Zurich:20191128T083000
DTEND;TZID=Europe/Zurich:20191128T120000
DTSTAMP:20260423T135802
CREATED:20180411T122934Z
LAST-MODIFIED:20181129T083122Z
UID:10000447-1574929800-1574942400@ofpg.ch
SUMMARY:Workshop: "Mitarbeitende und sich selber gesund führen"
DESCRIPTION:ZEPRA-WORKSHOPS „ARBEIT UND GESUNDHEIT“ \nGesunde Mitarbeiterinnen und Mitarbeiter sind die Voraussetzung für einen funktionierenden Betrieb. Mit der gezielten Förderung der Gesundheit ihrer Mitarbeitenden können Führungspersonen wesentlich dazu beitragen\, dass hohe Anforderungen besser bewältigt werden und die Mitarbeitenden leistungsfähig bleiben. In dieser Fortbildung erhalten Sie einen praxisorientierten Überblick zu den Grundlagen betrieblicher Gesundheitsförderung. \nInhalte: \n\nWechselwirkungen zwischen Gesundheit und Arbeit\nDie richtige Balance zwischen Verausgabung und Gratifikation\nDer gesundheitsgerechte Führungsstil\n\nReferentin: \n\nAnnette Nitsche\, Erwachsenenbildnerin\, NDS Management für NPO\, Coach\, Personal- und Teamentwicklerin BSO\n\nKosten: \nCHF 200.- \nKontakt und Anmeldung: \nAnmeldeschluss: jeweils 2 Wochen vor Beginn des Workshops
URL:https://ofpg.ch/veranstaltung/workshop-mitarbeitende-und-sich-selber-gesund-fuehren
LOCATION:ZEPRA St.Gallen\, Unterstrasse 22\, St.Gallen\, 9001\, Schweiz
CATEGORIES:Kurse
GEO:47.4194816;9.3681492
X-APPLE-STRUCTURED-LOCATION;VALUE=URI;X-ADDRESS=ZEPRA St.Gallen Unterstrasse 22 St.Gallen 9001 Schweiz;X-APPLE-RADIUS=500;X-TITLE=Unterstrasse 22:geo:9.3681492,47.4194816
END:VEVENT
BEGIN:VEVENT
DTSTART;TZID=Europe/Zurich:20191104T173000
DTEND;TZID=Europe/Zurich:20191104T203000
DTSTAMP:20260423T135802
CREATED:20190723T082857Z
LAST-MODIFIED:20190723T083424Z
UID:10000673-1572888600-1572899400@ofpg.ch
SUMMARY:Kurs: ensa Erste-Hilfe-Kurse
DESCRIPTION:ensa ist Erste Hilfe für psychische Gesundheit \nBei psychischen Problemen im persönlichen Umfeld selber handeln. Statt warten bis jemand anderes das Thema – meist viel zu spät – anspricht. \nWerden Sie Ersthelferin oder Ersthelfer\nAlle können ensa Ersthelferin oder Ersthelfer werden! Als ensa Ersthelferin und Ersthelfer haben Sie ein Grundwissen über verschiedene psychische Probleme und Krisen. Sie wissen\, wie sie in ihrem persönlichen Umfeld auf eine Person mit psychischen Problemen oder Krisen zugehen\, ihr beistehen\, sie unterstützen und informieren können und wie Sie die Person zu professioneller Hilfe ermutigen und weitere Ressourcen aktivieren können. \n\nDatum und Zeit \nTeil 1 von 4\n04.11.2019\n17:30 – 20:30 Uhr \nTeil 2 von 4\n11.11.2019\n17:30 – 20:30 Uhr \nTeil 3 von 4\n18.11.2019\n17:30 – 20:30 Uhr \nTeil 4 von 4\n25.11.2019\n17:30 – 20:30 Uhr \nAdresse\nAmt für Gesundheitsvorsorge / ZEPRA\nUnterstrasse 22\n9001 St. Gallen \nAllgemeine Informationen\nWas sind die Voraussetzungen für Ersthelfende?\nensa Ersthelfende müssen keine besonderen Voraussetzungen erfüllen. Jede und jeder über 18 Jahre kann Ersthelfende werden. \nWas kostet der Erste-Hilfe-Kurs?\nDer Erste-Hilfe-Kurs kostet 380.- CHF\, inkl. Kursmaterial\, Zertifikat und Ausweis. \nWie funktioniert die Bezahlung?\nDer Erste-Hilfe-Kurs wird direkt bei der Buchung über die Webseite bezahlt. \nKann ich mich wieder abmelden?\nDie Anmeldung ist verbindlich. Eine Rückerstattung der Kurskosten ist bei einer Abmeldung nicht vorgesehen. \nGibt es einen Abschlusstest?\nNach dem Kurs gibt es einen Online-Test mit 15 Fragen. Nach bestandener Prüfung erhalten Ersthelfende das ensa Ersthelfer-Zertifikat und den ensa Ersthelfer-Ausweis. \nSind Vorbereitungen nötig?\nEs sind keinerlei Vorbereitungen nötig. \nMuss ich etwas in den Kurs mitbringen?\nBringen Sie Schreibutensilien mit und kleiden Sie sich bitte so\, wie Sie sich wohlfühlen. Die Lehrmittel erhalten Sie vor Ort.
URL:https://ofpg.ch/veranstaltung/kurs-ensa-erste-hilfe-kurse-2-2-2
LOCATION:ZEPRA St.Gallen\, Unterstrasse 22\, St.Gallen\, 9001\, Schweiz
CATEGORIES:Kurse
GEO:47.4194816;9.3681492
X-APPLE-STRUCTURED-LOCATION;VALUE=URI;X-ADDRESS=ZEPRA St.Gallen Unterstrasse 22 St.Gallen 9001 Schweiz;X-APPLE-RADIUS=500;X-TITLE=Unterstrasse 22:geo:9.3681492,47.4194816
END:VEVENT
BEGIN:VEVENT
DTSTART;TZID=Europe/Zurich:20191007T173000
DTEND;TZID=Europe/Zurich:20191007T203000
DTSTAMP:20260423T135802
CREATED:20190723T082857Z
LAST-MODIFIED:20190723T083233Z
UID:10000672-1570469400-1570480200@ofpg.ch
SUMMARY:Kurs: ensa Erste-Hilfe-Kurse
DESCRIPTION:ensa ist Erste Hilfe für psychische Gesundheit \nBei psychischen Problemen im persönlichen Umfeld selber handeln. Statt warten bis jemand anderes das Thema – meist viel zu spät – anspricht. \nWerden Sie Ersthelferin oder Ersthelfer\nAlle können ensa Ersthelferin oder Ersthelfer werden! Als ensa Ersthelferin und Ersthelfer haben Sie ein Grundwissen über verschiedene psychische Probleme und Krisen. Sie wissen\, wie sie in ihrem persönlichen Umfeld auf eine Person mit psychischen Problemen oder Krisen zugehen\, ihr beistehen\, sie unterstützen und informieren können und wie Sie die Person zu professioneller Hilfe ermutigen und weitere Ressourcen aktivieren können. \n\nDatum und Zeit \nTeil 1 von 4\n07.10.2019\n17:30 – 20:30 Uhr \nTeil 2 von 4\n14.10.2019\n17:30 – 20:30 Uhr \nTeil 3 von 4\n21.10.2019\n17:30 – 20:30 Uhr \nTeil 4 von 4\n28.10.2019\n17:30 – 20:30 Uhr \nAdresse\nAmt für Gesundheitsvorsorge / ZEPRA\nUnterstrasse 22\n9001 St. Gallen \nAllgemeine Informationen\nWas sind die Voraussetzungen für Ersthelfende?\nensa Ersthelfende müssen keine besonderen Voraussetzungen erfüllen. Jede und jeder über 18 Jahre kann Ersthelfende werden. \nWas kostet der Erste-Hilfe-Kurs?\nDer Erste-Hilfe-Kurs kostet 380.- CHF\, inkl. Kursmaterial\, Zertifikat und Ausweis. \nWie funktioniert die Bezahlung?\nDer Erste-Hilfe-Kurs wird direkt bei der Buchung über die Webseite bezahlt. \nKann ich mich wieder abmelden?\nDie Anmeldung ist verbindlich. Eine Rückerstattung der Kurskosten ist bei einer Abmeldung nicht vorgesehen. \nGibt es einen Abschlusstest?\nNach dem Kurs gibt es einen Online-Test mit 15 Fragen. Nach bestandener Prüfung erhalten Ersthelfende das ensa Ersthelfer-Zertifikat und den ensa Ersthelfer-Ausweis. \nSind Vorbereitungen nötig?\nEs sind keinerlei Vorbereitungen nötig. \nMuss ich etwas in den Kurs mitbringen?\nBringen Sie Schreibutensilien mit und kleiden Sie sich bitte so\, wie Sie sich wohlfühlen. Die Lehrmittel erhalten Sie vor Ort.
URL:https://ofpg.ch/veranstaltung/kurs-ensa-erste-hilfe-kurse-2-2
LOCATION:ZEPRA St.Gallen\, Unterstrasse 22\, St.Gallen\, 9001\, Schweiz
CATEGORIES:Kurse
GEO:47.4194816;9.3681492
X-APPLE-STRUCTURED-LOCATION;VALUE=URI;X-ADDRESS=ZEPRA St.Gallen Unterstrasse 22 St.Gallen 9001 Schweiz;X-APPLE-RADIUS=500;X-TITLE=Unterstrasse 22:geo:9.3681492,47.4194816
END:VEVENT
BEGIN:VEVENT
DTSTART;TZID=Europe/Zurich:20190909T140000
DTEND;TZID=Europe/Zurich:20190909T170000
DTSTAMP:20260423T135802
CREATED:20190723T082857Z
LAST-MODIFIED:20190723T083044Z
UID:10000671-1568037600-1568048400@ofpg.ch
SUMMARY:Kurs: ensa Erste-Hilfe-Kurse
DESCRIPTION:ensa ist Erste Hilfe für psychische Gesundheit \nBei psychischen Problemen im persönlichen Umfeld selber handeln. Statt warten bis jemand anderes das Thema – meist viel zu spät – anspricht. \nWerden Sie Ersthelferin oder Ersthelfer\nAlle können ensa Ersthelferin oder Ersthelfer werden! Als ensa Ersthelferin und Ersthelfer haben Sie ein Grundwissen über verschiedene psychische Probleme und Krisen. Sie wissen\, wie sie in ihrem persönlichen Umfeld auf eine Person mit psychischen Problemen oder Krisen zugehen\, ihr beistehen\, sie unterstützen und informieren können und wie Sie die Person zu professioneller Hilfe ermutigen und weitere Ressourcen aktivieren können. \n\nDatum und Zeit \nTeil 1 von 4\n09.09.2019\n14:00 – 17:00 Uhr \nTeil 2 von 4\n16.09.2019\n14:00 – 17:00 Uhr \nTeil 3 von 4\n23.09.2019\n14:00 – 17:00 Uhr \nTeil 4 von 4\n30.09.2019\n14:00 – 17:00 Uhr \nAdresse\nAmt für Gesundheitsvorsorge / ZEPRA\nUnterstrasse 22\n9001 St. Gallen \nAllgemeine Informationen\nWas sind die Voraussetzungen für Ersthelfende?\nensa Ersthelfende müssen keine besonderen Voraussetzungen erfüllen. Jede und jeder über 18 Jahre kann Ersthelfende werden. \nWas kostet der Erste-Hilfe-Kurs?\nDer Erste-Hilfe-Kurs kostet 380.- CHF\, inkl. Kursmaterial\, Zertifikat und Ausweis. \nWie funktioniert die Bezahlung?\nDer Erste-Hilfe-Kurs wird direkt bei der Buchung über die Webseite bezahlt. \nKann ich mich wieder abmelden?\nDie Anmeldung ist verbindlich. Eine Rückerstattung der Kurskosten ist bei einer Abmeldung nicht vorgesehen. \nGibt es einen Abschlusstest?\nNach dem Kurs gibt es einen Online-Test mit 15 Fragen. Nach bestandener Prüfung erhalten Ersthelfende das ensa Ersthelfer-Zertifikat und den ensa Ersthelfer-Ausweis. \nSind Vorbereitungen nötig?\nEs sind keinerlei Vorbereitungen nötig. \nMuss ich etwas in den Kurs mitbringen?\nBringen Sie Schreibutensilien mit und kleiden Sie sich bitte so\, wie Sie sich wohlfühlen. Die Lehrmittel erhalten Sie vor Ort.
URL:https://ofpg.ch/veranstaltung/kurs-ensa-erste-hilfe-kurse-2
LOCATION:ZEPRA St.Gallen\, Unterstrasse 22\, St.Gallen\, 9001\, Schweiz
CATEGORIES:Kurse
GEO:47.4194816;9.3681492
X-APPLE-STRUCTURED-LOCATION;VALUE=URI;X-ADDRESS=ZEPRA St.Gallen Unterstrasse 22 St.Gallen 9001 Schweiz;X-APPLE-RADIUS=500;X-TITLE=Unterstrasse 22:geo:9.3681492,47.4194816
END:VEVENT
BEGIN:VEVENT
DTSTART;TZID=Europe/Zurich:20190812T140000
DTEND;TZID=Europe/Zurich:20190812T170000
DTSTAMP:20260423T135802
CREATED:20190723T082857Z
LAST-MODIFIED:20190723T082857Z
UID:10000670-1565618400-1565629200@ofpg.ch
SUMMARY:Kurs: ensa Erste-Hilfe-Kurse
DESCRIPTION:ensa ist Erste Hilfe für psychische Gesundheit \nBei psychischen Problemen im persönlichen Umfeld selber handeln. Statt warten bis jemand anderes das Thema – meist viel zu spät – anspricht. \nWerden Sie Ersthelferin oder Ersthelfer\nAlle können ensa Ersthelferin oder Ersthelfer werden! Als ensa Ersthelferin und Ersthelfer haben Sie ein Grundwissen über verschiedene psychische Probleme und Krisen. Sie wissen\, wie sie in ihrem persönlichen Umfeld auf eine Person mit psychischen Problemen oder Krisen zugehen\, ihr beistehen\, sie unterstützen und informieren können und wie Sie die Person zu professioneller Hilfe ermutigen und weitere Ressourcen aktivieren können. \n\nDatum und Zeit\nTeil 1 von 4\n12.08.2019\n14:00 – 17:00 Uhr \nTeil 2 von 4\n19.08.2019\n14:00 – 17:00 Uhr \nTeil 3 von 4\n26.08.2019\n14:00 – 17:00 Uhr \nTeil 4 von 4\n02.09.2019\n14:00 – 17:00 Uhr \nAdresse\nAmt für Gesundheitsvorsorge / ZEPRA\nUnterstrasse 22\n9001 St. Gallen \nAllgemeine Informationen\nWas sind die Voraussetzungen für Ersthelfende?\nensa Ersthelfende müssen keine besonderen Voraussetzungen erfüllen. Jede und jeder über 18 Jahre kann Ersthelfende werden. \nWas kostet der Erste-Hilfe-Kurs?\nDer Erste-Hilfe-Kurs kostet 380.- CHF\, inkl. Kursmaterial\, Zertifikat und Ausweis. \nWie funktioniert die Bezahlung?\nDer Erste-Hilfe-Kurs wird direkt bei der Buchung über die Webseite bezahlt. \nKann ich mich wieder abmelden?\nDie Anmeldung ist verbindlich. Eine Rückerstattung der Kurskosten ist bei einer Abmeldung nicht vorgesehen. \nGibt es einen Abschlusstest?\nNach dem Kurs gibt es einen Online-Test mit 15 Fragen. Nach bestandener Prüfung erhalten Ersthelfende das ensa Ersthelfer-Zertifikat und den ensa Ersthelfer-Ausweis. \nSind Vorbereitungen nötig?\nEs sind keinerlei Vorbereitungen nötig. \nMuss ich etwas in den Kurs mitbringen?\nBringen Sie Schreibutensilien mit und kleiden Sie sich bitte so\, wie Sie sich wohlfühlen. Die Lehrmittel erhalten Sie vor Ort.
URL:https://ofpg.ch/veranstaltung/kurs-ensa-erste-hilfe-kurse
LOCATION:ZEPRA St.Gallen\, Unterstrasse 22\, St.Gallen\, 9001\, Schweiz
CATEGORIES:Kurse
GEO:47.4194816;9.3681492
X-APPLE-STRUCTURED-LOCATION;VALUE=URI;X-ADDRESS=ZEPRA St.Gallen Unterstrasse 22 St.Gallen 9001 Schweiz;X-APPLE-RADIUS=500;X-TITLE=Unterstrasse 22:geo:9.3681492,47.4194816
END:VEVENT
BEGIN:VEVENT
DTSTART;TZID=Europe/Zurich:20190628T080000
DTEND;TZID=Europe/Zurich:20190628T113000
DTSTAMP:20260423T135802
CREATED:20190107T064824Z
LAST-MODIFIED:20181210T151935Z
UID:10000579-1561708800-1561721400@ofpg.ch
SUMMARY:Fortbildung zum Thema Borderline
DESCRIPTION:Umgang mit Menschen mit Borderline in der Beratung – zwischen gelingender Beratung und Beziehungsabbruch \nInhalte/Ziele\nZiel des Kurses ist die Entwicklung eines tieferen Verständnisses für den Umgang mit Eltern mit Borderline-Erkrankung in der Beratung. Die Themen sind: \n\nErkennen der Symptomatik und der unterschiedlichen Ausprägungen\nSchwierigkeiten bei der Gestaltung einer Arbeitsbeziehung zu Borderline – PatientInnen oder Personen\, bei denen eine Borderline-Erkrankung vermutet wird\n\nAnhand von theoretischen Inputs als Orientierungshilfe\, praktischen Fallüberlegungen und konkreten Übungen vermittelt der Kurs Basiswissen und Methoden für die Beziehungsgestaltung zu Eltern mit Borderline-Erkrankung. Im Zentrum steht die praktische Anwendung bei der Bewältigung der alltäglichen Herausforderungen des Beratungssettings. \nReferentin\nNadja Zöch-Schüpbach \nVeranstaltungsflyer\nFlyer (PDF) \nRahmen/Reihe \nMutterglück!? \nOrt\nAmt für Gesundheitsvorsorge | ZEPRA\nUnterstrasse 22\, 9001 St.Gallen \nAnmeldung\nwww.ofpg.ch/borderline\nDie Teilnehmerzahl ist begrenzt. \nAnmeldeschluss \n14. Juni 2019 \nKosten \nCHF 30.–
URL:https://ofpg.ch/veranstaltung/fortbildung-zum-thema-borderline
LOCATION:ZEPRA St.Gallen\, Unterstrasse 22\, St.Gallen\, 9001\, Schweiz
CATEGORIES:Fachtagung
ORGANIZER;CN="Ostschweizer Forum f%C3%BCr Psychische Gesundheit":MAILTO:info@ofpg.ch
GEO:47.4194816;9.3681492
X-APPLE-STRUCTURED-LOCATION;VALUE=URI;X-ADDRESS=ZEPRA St.Gallen Unterstrasse 22 St.Gallen 9001 Schweiz;X-APPLE-RADIUS=500;X-TITLE=Unterstrasse 22:geo:9.3681492,47.4194816
END:VEVENT
END:VCALENDAR