BEGIN:VCALENDAR
VERSION:2.0
PRODID:-//OFPG - ECPv6.15.20//NONSGML v1.0//EN
CALSCALE:GREGORIAN
METHOD:PUBLISH
X-ORIGINAL-URL:https://ofpg.ch
X-WR-CALDESC:Veranstaltungen für OFPG
REFRESH-INTERVAL;VALUE=DURATION:PT1H
X-Robots-Tag:noindex
X-PUBLISHED-TTL:PT1H
BEGIN:VTIMEZONE
TZID:Europe/Zurich
BEGIN:DAYLIGHT
TZOFFSETFROM:+0100
TZOFFSETTO:+0200
TZNAME:CEST
DTSTART:20230326T010000
END:DAYLIGHT
BEGIN:STANDARD
TZOFFSETFROM:+0200
TZOFFSETTO:+0100
TZNAME:CET
DTSTART:20231029T010000
END:STANDARD
BEGIN:DAYLIGHT
TZOFFSETFROM:+0100
TZOFFSETTO:+0200
TZNAME:CEST
DTSTART:20240331T010000
END:DAYLIGHT
BEGIN:STANDARD
TZOFFSETFROM:+0200
TZOFFSETTO:+0100
TZNAME:CET
DTSTART:20241027T010000
END:STANDARD
BEGIN:DAYLIGHT
TZOFFSETFROM:+0100
TZOFFSETTO:+0200
TZNAME:CEST
DTSTART:20250330T010000
END:DAYLIGHT
BEGIN:STANDARD
TZOFFSETFROM:+0200
TZOFFSETTO:+0100
TZNAME:CET
DTSTART:20251026T010000
END:STANDARD
END:VTIMEZONE
BEGIN:VEVENT
DTSTART;TZID=Europe/Zurich:20241024T160000
DTEND;TZID=Europe/Zurich:20241024T170000
DTSTAMP:20260425T235331
CREATED:20240923T143235Z
LAST-MODIFIED:20240923T143443Z
UID:10001018-1729785600-1729789200@ofpg.ch
SUMMARY:Dritter e.talk des IBK-Preises für Gesundheitsförderung und Prävention
DESCRIPTION:Prof. Dr. Roger Keller\nEinbezug von Peers: Gesundheitsförderung auf Augenhöhe. \nGesundheit ist nicht nur eine Frage von Ernährung und Bewegung\, sondern auch von sozialem Miteinander und Unterstützung im Alltag. Doch wie können wir sicherstellen\, dass gesundheitsförderliche Massnahmen wirklich alle erreichen? Dr. Roger Keller erklärt in seinem Vortrag\, wie Peers dabei helfen können\, ein gesundheitsbewusstes Verhalten in der Gesellschaft respektvoll zu fördern und was beachtet werden muss\, um mit einem Peer-Angebot Wirkung erzielen zu können. \nEr zeigt auf\, warum Gesundheitsförderung auf Augenhöhe von zentraler Bedeutung ist und wie Peer-basierte Ansätze dabei unterstützen können\, Menschen in unterschiedlichen Lebenslagen zu erreichen. Peers fungieren dabei nicht nur als unterstützende Begleiter\, sondern auch als Vorbilder. Durch ihre eigenen Erfahrungen setzen sie positive Impulse und können in Gemeinschaften\, Schulen und anderen sozialen Gruppen zu einer langfristigen Veränderung beitragen. \nWann:\nDonnerstag\, 24. Oktober 2024\, 16:00 – 17:00 Uhr \nWo:\nOnline-Veranstaltung via Zoom\nhttps://us06web.zoom.us/j/88680022826
URL:https://ofpg.ch/veranstaltung/dritter-etalk-ibk-preis
LOCATION:ZOOM
CATEGORIES:Veranstaltungen
END:VEVENT
END:VCALENDAR